BEGIN:VCALENDAR
VERSION:2.0
PRODID:-//InvisionCommunity Events 4.7.22//EN
METHOD:PUBLISH
CALSCALE:GREGORIAN
REFRESH-INTERVAL:PT15M
X-PUBLISHED-TTL:PT15M
X-WR-CALNAME:Community Calendar
NAME:Community Calendar
BEGIN:VTIMEZONE
TZID:Europe/London
TZURL:http://tzurl.org/zoneinfo/Europe/London
X-LIC-LOCATION:Europe/London
BEGIN:DAYLIGHT
TZOFFSETFROM:+0000
TZOFFSETTO:+0100
TZNAME:BST
DTSTART:20190331T020000Z
RRULE:FREQ=YEARLY;BYMONTH=3;BYDAY=-1SU
END:DAYLIGHT
BEGIN:STANDARD
TZOFFSETFROM:+0100
TZOFFSETTO:+0000
TZNAME:GMT
DTSTART:20191027T020000Z
RRULE:FREQ=YEARLY;BYMONTH=10;BYDAY=-1SU
END:STANDARD
END:VTIMEZONE
BEGIN:VEVENT
SUMMARY:[Для Мужчин]
	 Бесплатный Мас
	тер-класс - Как легко и непринуждённо и
	меть много девушек?
DTSTAMP:20190227T174238Z
SEQUENCE:0
UID:99-1-076337ae2c0f75aa10766e7ad1ee0148@forum.pickup.ru
ORGANIZER;CN="Paraman":webmaster@pickup.ru
DESCRIPTION:\n\n	Привет\, Друг!\n\n\
	n\n	Не важно проходил т
	ы у нас тренинг или тол
	ько думаешь над этим.\
	n\n\n\n	Дело в том\, ч
	то Соблазнение 
	девушек - это т
	акая штука\, которая н
	е стоит на месте\, а п
	остоянно развивается.
	\n\n\n\n	Для того\, ч
	то ты сдел
	ал свои пе
	рвые шаги в
	 соблазнен
	ии и в даль
	нейшем был в
	 теме последн
	их тенденций\, работающ
	их техник и секретных \"фишек\"
	 пикапа.\n\n\n\n	В среду 6 
	Марта\, в 19-30\, м
	ы проводим д
	ля тебя беспл
	атный Мастер-к
	ласс\, на кот
	ором мы сдел
	аем всё возможн
	ое\, чтобы ты научил
	ся знакомиться и 
	соблазнять девушек.\n\n\
	n\n	ЧТО ТАКОЕ БЕСПЛАТ
	НЫЙ МАСТЕР-КЛАСС?\
	n\n\n\n	Это конце
	нтрат из осн
	овных пикап-
	тематик по 
	знакомству
	 и соблазнению\, кот
	орые тебе будут ра
	ссказывать опытне
	е тренеры.\n\n\n\n	ДЛЯ КОГ
	О ПРОВОДИТСЯ БЕСПЛ
	АТНЫЙ МАСТЕР-КЛАСС?\
	n\n\n\n	Мастер-клас
	с проводится
	 для всех муж
	чин\, которы
	е хотят улучшить сво
	и навыки знакомства и
	 соблазнения девушек.
	\n\n\n\n	- Если у тебя 
	нет опыта прохож
	дения пикап-тренингов\,
	 тогда ты узнаешь много 
	нового.\n\n\n\n	- Если
	 ты уже проход
	ил тренинги\,
	 тогда тебе б
	удет полезн
	о обновить с
	вои знания\, 
	познакомит
	ься и задат
	ь более пр
	одвинутые во
	просы тренерам\, ко
	торые практикуют 
	соблазнение кажды
	й день.\n\n\n\n	В ЧЁМ ПРЕИМУ
	ЩЕСТВО БЕСПЛАТНОГО 
	МАСТЕР-КЛАССА?\n\n\
	n\n	- Мы не только
	 рассказывае
	м интересные вещи 
	на Мастер-классе\, н
	о и заставляем их 
	попробовать!\n\n\n\n
		СКОЛЬКО ПО ВРЕМЕНИ
	 ДЛИТСЯ БЕСПЛАТНЫЙ
	 МАСТЕР-КЛАСС?\n\n\n\n	Масте
	р-класс проводитс
	я в течении 2х часов\n\n
	\n\n	СКОЛЬКО СТОИТ БЕ
	СПЛАТНЫЙ МАСТЕР-КЛАС
	С?\n\n\n\n	Мастер-клас
	с не стоит денег
	\, зато сильно с
	экономит тво
	ё время\, которое ты 
	бы тратил на самок
	опание или самообуч
	ение.\n\n\n\n	КАК ПОПАСТЬ НА
	 БЕСПЛАТНЫЙ МАСТЕР-КЛАСС?\
	n\n\n\n	Нажми на &gt\;&gt\;ЗАПИСАТЬСЯ НА 
	МАСТЕР-КЛАСС&lt\;&lt\;\n\n\n\n	До встречи!\n\n
DTSTART:20190306T163000Z
DTEND:20190306T183000Z
END:VEVENT
END:VCALENDAR
