BEGIN:VCALENDAR
VERSION:2.0
PRODID:-//InvisionCommunity Events 4.7.22//EN
METHOD:PUBLISH
CALSCALE:GREGORIAN
REFRESH-INTERVAL:PT15M
X-PUBLISHED-TTL:PT15M
X-WR-CALNAME:Community Calendar
NAME:Community Calendar
BEGIN:VTIMEZONE
TZID:Europe/London
TZURL:http://tzurl.org/zoneinfo/Europe/London
X-LIC-LOCATION:Europe/London
BEGIN:DAYLIGHT
TZOFFSETFROM:+0000
TZOFFSETTO:+0100
TZNAME:BST
DTSTART:20190331T020000Z
RRULE:FREQ=YEARLY;BYMONTH=3;BYDAY=-1SU
END:DAYLIGHT
BEGIN:STANDARD
TZOFFSETFROM:+0100
TZOFFSETTO:+0000
TZNAME:GMT
DTSTART:20191027T020000Z
RRULE:FREQ=YEARLY;BYMONTH=10;BYDAY=-1SU
END:STANDARD
END:VTIMEZONE
BEGIN:VEVENT
SUMMARY:[Для Мужчин
	] Бесплатный Мастер-
	класс -Как познакомиться с девушкой дл
	я отношений?
DTSTAMP:20190313T175551Z
SEQUENCE:0
UID:101-1-076337ae2c0f75aa10766e7ad1ee0148@forum.pickup.ru
ORGANIZER;CN="Paraman":webmaster@pickup.ru
DESCRIPTION:\n\n	Привет\, Друг!\n\n\
	n\n	Не важно проходил т
	ы у нас тренинг или тол
	ько думаешь над этим.\
	n\n\n\n	Дело в том\, ч
	то Соблазнение 
	девушек - это т
	акая штука\, которая н
	е стоит на месте\, а п
	остоянно развивается.
	\n\n\n\n	Для того\, ч
	то ты сдел
	ал свои пе
	рвые шаги в
	 соблазнен
	ии и в даль
	нейшем был в
	 теме последн
	их тенденций\, работаю
	щих техник и секретных \"фише
	к\" пикапа.\n\n\n\n	В среду 2
	7 Марта\, в 19-30\, 
	мы проводим 
	для тебя бесп
	латный Мастер-
	класс\, на ко
	тором мы сде
	лаем всё возмо
	жное\, чтобы ты науч
	ился знакомиться 
	и соблазнять девушек.\n\n\
	n\n	Что такое бесплатн
	ый Мастер-класс?\n\
	n\n\n	Это конце
	нтрат из осн
	овных пикап-
	тематик по 
	знакомству
	 и соблазнению\, кот
	орые тебе будут ра
	ссказывать опытне
	е тренеры.\n\n\n\n	Для ког
	о проводится беспл
	атный Мастер-класс?\
	n\n\n\n	Мастер-клас
	с проводится
	 для всех муж
	чин\, которы
	е хотят улучшить сво
	и навыки знакомства и
	 соблазнения девушек.
	\n\n\n\n	- Если у тебя 
	нет опыта прохож
	дения пикап-тренингов\,
	 тогда ты узнаешь много 
	нового.\n\n\n\n	- Если
	 ты уже проход
	ил тренинги\,
	 тогда тебе б
	удет полезн
	о обновить с
	вои знания\, 
	познакомит
	ься и задат
	ь более пр
	одвинутые во
	просы тренерам\, ко
	торые практикуют 
	соблазнение кажды
	й день.\n\n\n\n	В чем пр
	еимущества нашего бе
	сплатного Мастер-кла
	сса?\n\n\n\n	- У нас н
	а Мастер-кл
	ассе пред
	усмотрена 
	практика. Т
	ы реально 
	попробуешь
	 подойти и п
	ознакомиться с 
	девушкой и получиш
	ь обратную связь п
	о своим действиям.\n\n\
	n\n	Сколько проходит
	 бесплатный Мастер-к
	ласс?\n\n\n\n	Мастер-класс 
	проводится в течен
	ии 2х часов\n\n\n\n	Сколько
	 стоит бесплатный Мас
	тер-класс?\n\n\n\n	Ма
	стер-класс не ст
	оит денег\, зато
	 сильно сэконо
	мит твоё время\, 
	которое ты бы трати
	л на самокопание и
	ли самообучение.\n\n\n\n	К
	ак попасть на беспл
	атный Мастер-класс?
	\n\n\n\n	На Мастер-клас
	с можно зарегистри
	роваться\, перейдя по ссыл
	ке\n\n\n\n	ЗАПИСАТЬСЯ НА МАСТЕР-КЛАСС\n\n\n
	\n	До встречи!\n\n
DTSTART:20190327T163000Z
DTEND:20190327T183000Z
END:VEVENT
END:VCALENDAR
