BEGIN:VCALENDAR
VERSION:2.0
PRODID:-//InvisionCommunity Events 4.7.22//EN
METHOD:PUBLISH
CALSCALE:GREGORIAN
REFRESH-INTERVAL:PT15M
X-PUBLISHED-TTL:PT15M
X-WR-CALNAME:Community Calendar
NAME:Community Calendar
BEGIN:VTIMEZONE
TZID:Europe/London
TZURL:http://tzurl.org/zoneinfo/Europe/London
X-LIC-LOCATION:Europe/London
BEGIN:DAYLIGHT
TZOFFSETFROM:+0000
TZOFFSETTO:+0100
TZNAME:BST
DTSTART:20190331T020000Z
RRULE:FREQ=YEARLY;BYMONTH=3;BYDAY=-1SU
END:DAYLIGHT
BEGIN:STANDARD
TZOFFSETFROM:+0100
TZOFFSETTO:+0000
TZNAME:GMT
DTSTART:20191027T020000Z
RRULE:FREQ=YEARLY;BYMONTH=10;BYDAY=-1SU
END:STANDARD
END:VTIMEZONE
BEGIN:VEVENT
SUMMARY:Тренинг по Отношениям от Михаил
	а Ширина
DTSTAMP:20190326T115151Z
SEQUENCE:0
UID:102-1-076337ae2c0f75aa10766e7ad1ee0148@forum.pickup.ru
ORGANIZER;CN="Paraman":webmaster@pickup.ru
DESCRIPTION:\n\n	Добрый день\, доро
	гой друг!\n\n\n	Хочу нап
	омнить\, что совсе
	м скоро\, в субботу
	\, у нас стартует
	 тренинг по \"О
	тношениям\" от 
	Михаила Шири
	на. Этот трен
	инг направл
	ен на то\, чт
	обы ты смог 
	предотврат
	ить заранее 
	большинство о
	шибок\, которы
	е мужчины и жен
	щины совершают в отн
	ошениях. А этих ошиб
	ок бывает немало.\n\n\
	n	1) Чрезмерные вло
	жения и старания
	 в отношениях\n\n	2) Н
	еправильный балан
	с значимости в отн
	ошениях\n\n	3) Ревность
	\, подозрения и изм
	ены в отношениях\n\n	4
	) Отсутствие общи
	х интересов в отношени
	ях\n\n	5) Остановка р
	азвитиея в отно
	шениях\n\n	6) Игнорир
	ование очевидных
	 проблем в отношениях
	\n\n	7) Сильное давлени
	е и контроль в отношени
	ях\n\n	8) Охлаждение чу
	вств в отношениях\n\n	9
	) Согласие на манип
	уляции в отношениях\n\
	n	10) Навязывания св
	оих правил в отнош
	ениях\n\n\n	Это л
	ишь самые о
	чевидные про
	блемы\, с кот
	орыми стал
	киваются кл
	иенты Михаила
	 Ширина. Он пе
	рсонально с к
	аждым разбирает 
	его ситуацию. Это
	\, естественно ст
	оит дорого!\n\nЭт
	и пробелы в отнош
	ениях есть почти у 
	каждой пары\, очев
	идно\, что если
	 их не разрешит
	ь\, то рано ил
	и поздно пр
	оизойдет 
	расставан
	ие. Не все м
	огут позвол
	ить себе пе
	рсональные к
	онсультации М
	ихаила Ширина
	\, вот именно по
	этому один раз в 
	году мы и провод
	им групповой тре
	нинг \"По Отношен
	имя\"\, в котором мо
	жет принять участие к
	аждый желающий.\n\nДни занятий:\n\n	
	30 марта суббота с 11-00 до 20-00\n\n	31
	 марта воскресенье с 11-
	00 до 20-00\n\nАвтор тре
	нинга - челов
	ек-легенда Мих
	аил Ширин. Больш
	е 11 лет заним
	ается вопрос
	ами отношений\, манипул
	яций\, возврата партнеров. Организ
	атор www.pickup.ru и girlbacker. С
	емьянин и велик
	одушный человек
	. Обучил более 1
	00 тренеров\, 
	помог восст
	ановить отношен
	ия и семьи тясяч
	ам мужчин и жен
	щин по всему 
	миру. \n\nНаж
	ми кнопку
	 и ты узна
	ешь более под
	робную информа
	цию и твою перс
	ональную стоимо
	сть тренинга!\n\
	n	Поторопись\, 
	принять решение
	 на участие в трени
	нге нужно до чет
	верга и да\, очень жаль
	\, но у нас ограниче
	нное количествотмест.\n\
	n\n\n	ЗАПИСАТЬСЯ НА ТРЕНИНГ ПО ОТНОШЕНИЯМ\n
	\n\n\n	 \n\n\n\n	 \n\n
DTSTART:20190330T080000Z
DTEND:20190330T170000Z
END:VEVENT
END:VCALENDAR
