BEGIN:VCALENDAR
VERSION:2.0
PRODID:-//InvisionCommunity Events 4.7.22//EN
METHOD:PUBLISH
CALSCALE:GREGORIAN
REFRESH-INTERVAL:PT15M
X-PUBLISHED-TTL:PT15M
X-WR-CALNAME:Community Calendar
NAME:Community Calendar
BEGIN:VTIMEZONE
TZID:Europe/London
TZURL:http://tzurl.org/zoneinfo/Europe/London
X-LIC-LOCATION:Europe/London
BEGIN:DAYLIGHT
TZOFFSETFROM:+0000
TZOFFSETTO:+0100
TZNAME:BST
DTSTART:20190331T020000Z
RRULE:FREQ=YEARLY;BYMONTH=3;BYDAY=-1SU
END:DAYLIGHT
BEGIN:STANDARD
TZOFFSETFROM:+0100
TZOFFSETTO:+0000
TZNAME:GMT
DTSTART:20191027T020000Z
RRULE:FREQ=YEARLY;BYMONTH=10;BYDAY=-1SU
END:STANDARD
END:VTIMEZONE
BEGIN:VEVENT
SUMMARY:Как познакомиться с девуш
	кой для отношений?
DTSTAMP:20190327T193421Z
SEQUENCE:0
UID:103-1-076337ae2c0f75aa10766e7ad1ee0148@forum.pickup.ru
ORGANIZER;CN="Paraman":webmaster@pickup.ru
DESCRIPTION:\n\n	\n		\n			\n				Привет\, Друг!\n			\n\n
				\n				Не важно прохо
	дил ты у нас тренинг или тольк
	о думаешь над этим.\n			\n\n
				\n				Дело в том\, ч
	то Соблазнение 
	девушек - это т
	акая штука\, которая н
	е стоит на месте\, а постоянно
	 развивается.\n			\n\n			\n		
			Для того\, ч
	то ты сдел
	ал свои пе
	рвые шаги в
	 соблазнен
	ии и в даль
	нейшем был в
	 теме последн
	их тенденций\, работающих
	 техник и секретных \"фишек\" пик
	апа.\n			\n\n			\n				В среду 10 апре
	ля\, в 19-30\, мы пр
	оводим для 
	тебя бесплат
	ный Мастер-кла
	сс\, на которо
	м мы сделаем 
	всё возможное\, чт
	обы ты научился знакомитьс
	я и соблазнять девушек.\n
				\n\n			\n				ЧТО ТАКОЕ БЕСПЛАТНЫЙ МА
	СТЕР-КЛАСС?\n			\n\n			\n		
			Это концентр
	ат из основны
	х пикап-тема
	тик по знако
	мству и соблазн
	ению\, которые тебе будут р
	ассказывать опытнее трен
	еры.\n			\n\n			\n				ДЛЯ КОГО ПР
	ОВОДИТСЯ БЕСПЛАТНЫЙ МАСТ
	ЕР-КЛАСС?\n			\n\n			\n				М
	астер-класс 
	проводится 
	для всех муж
	чин\, которы
	е хотят улучшить свои
	 навыки знакомства и соблазне
	ния девушек.\n			\n\n			\n			
		- Если у тебя н
	ет опыта прохожде
	ния пикап-тренингов\, тогда ты
	 узнаешь много нового.\n			\n\n
				\n				- Если ты уже
	 проходил трен
	инги\, тогда т
	ебе будет по
	лезно обнов
	ить свои зн
	ания\, позна
	комиться и 
	задать бо
	лее продви
	нутые вопросы тр
	енерам\, которые практикуют
	 соблазнение каждый день.\
	n			\n\n			\n				В ЧЁМ ПРЕИМУЩЕСТВО
	 БЕСПЛАТНОГО МАСТЕР-КЛАССА?\
	n			\n\n			\n				- Мы не т
	олько расска
	зываем интере
	сные вещи на Мастер-класс
	е\, но и заставляем их попроб
	овать!\n			\n\n			\n				СК
	ОЛЬКО ПО ВРЕМЕНИ ДЛИТСЯ БЕ
	СПЛАТНЫЙ МАСТЕР-КЛАСС?\n		
		\n\n			\n				Мастер-класс проводится в
	 течении 2х часов\n			\n\n
				\n				СКОЛЬКО СТОИТ БЕСПЛАТН
	ЫЙ МАСТЕР-КЛАСС?\n			\n\n			
	\n				Мастер-класс н
	е стоит денег\, 
	зато сильно с
	экономит тво
	ё время\, которое ты бы
	 тратил на самокопание или 
	самообучение.\n			\n\n			\n	
				КАК ПОПАСТЬ НА БЕСПЛАТНЫЙ МАС
	ТЕР-КЛАСС?\n			\n\n			\n				Нажми н
	а &gt\;&gt\;ЗАПИСАТЬСЯ НА МАСТЕР-КЛАСС&lt\
	;&lt\;\n			\n\n			\n				До встречи!\n			\n		\n	\n\n	\n		\n			\n	
				 \n			\n		\n\n		\n\n				Изменение события \n			
	\n			\n				Жалоба\n			\n			\n				Скачать собы
	тие\n			\n			\n				Добавить похожее событие\n			
	\n		\n\n\n\n\n	\n\n			 \n		\n	\n\n
DTSTART:20190410T163000Z
DTEND:20190410T180000Z
END:VEVENT
END:VCALENDAR
