BEGIN:VCALENDAR
VERSION:2.0
PRODID:-//InvisionCommunity Events 4.7.22//EN
METHOD:PUBLISH
CALSCALE:GREGORIAN
REFRESH-INTERVAL:PT15M
X-PUBLISHED-TTL:PT15M
X-WR-CALNAME:Community Calendar
NAME:Community Calendar
BEGIN:VTIMEZONE
TZID:Europe/London
TZURL:http://tzurl.org/zoneinfo/Europe/London
X-LIC-LOCATION:Europe/London
BEGIN:DAYLIGHT
TZOFFSETFROM:+0000
TZOFFSETTO:+0100
TZNAME:BST
DTSTART:20190331T020000Z
RRULE:FREQ=YEARLY;BYMONTH=3;BYDAY=-1SU
END:DAYLIGHT
BEGIN:STANDARD
TZOFFSETFROM:+0100
TZOFFSETTO:+0000
TZNAME:GMT
DTSTART:20191027T020000Z
RRULE:FREQ=YEARLY;BYMONTH=10;BYDAY=-1SU
END:STANDARD
END:VTIMEZONE
BEGIN:VEVENT
SUMMARY:Бесплатны
	е групповые 
	тренинги по знак
	омству\, соблазнению и построению от
	ношений с девушками
DTSTAMP:20190628T160225Z
SEQUENCE:0
UID:126-1-076337ae2c0f75aa10766e7ad1ee0148@forum.pickup.ru
ORGANIZER;CN="Paraman":webmaster@pickup.ru
DESCRIPTION:\n\n	Привет\, друг!\n\n\n
	\n	У нас для тебя хорош
	ие новости!\n\n\n\n
		Теперь в н
	ашей компа
	нии ты мо
	жешь про
	йти абсо
	лютно бес
	платно гр
	упповые тренинг
	и для мужчин – Базо
	вый пикап-тренинг и
	 пикап.Коучинг.\n\n\
	n\n	Тут нет ника
	кого маркетинго
	во подвоха\, по
	тому что у н
	ас появился
	 спонсор\, кот
	орый в целя
	х благотвор
	ительности 
	финансирует
	 нас\, чтобы м
	ы повышали 
	умения всех ж
	елающих парней соблазня
	ть и строить отношения с деву
	шками.\n\n\n\n	 \n\n\n\n	На
	верняка\, у тебя во
	зникает разумный во
	прос – «Зачем ему это нужно?»\n\n
	\n\n	Тут есть ряд причин.\n\n\n
	\n	 \n\n\n\n	1я причина – э
	то Благотворите
	льность.\n\n\n\n
		У предпр
	инимателей
	 принято «отда
	вать десятину
	» на благотвор
	ительность. Ес
	ли ты не знал\,
	 то почти 
	половина М
	осквы построе
	на на деньги мец
	енатов и предпр
	инимателей\, почит
	ай\, как будет время\, это
	 очень интересно\, но сей
	час не об этом.\n\n\n\n	
	Наш спонсор\, по
	сле того\, как р
	ешил благодаря 
	нам свои вопросы
	 в личной жизни
	\, поверил в 
	нас и пост
	авил нам з
	адачу в р
	амках б
	лаготворите
	льности обучать 
	всех желающих наши
	м групповым прогр
	аммам. Он\, как и 
	мы\, хотим\, 
	чтобы уме
	нием познак
	омиться и собла
	знить девушку о
	бладали все же
	лающие мужчины\
	, даже те\, у кого не
	т финансовой возможности п
	ройти пикап-тренинг.\n\n\n\n	 \n\n\
	n\n	2я причина – это Р
	азвитие.\n\n\n\n	Ес
	ли вспомнить 
	принципы «пи
	рамиды Маслоу»
	\, то нам тепер
	ь не нужно 
	искать фина
	нсирование\
	, чтобы закрыт
	ь базовые пот
	ребности наше
	й компании. Бл
	агодаря этому
	\, у нас появило
	сь время и осв
	ободились силы для 
	творчества и развития. А 
	это очень важно сейчас.\
	n\n\n\n	Мы\, также\, к
	ак и все наши
	 «друзья»-кон
	куренты обуч
	аем по программам\
	, которые мы завезл
	и в Россию и адап
	тировали еще в 200
	0х годах. Эти пр
	ограммы испол
	ьзуются всеми по
	 сей день. Естес
	твенно\, они уст
	арели на столь
	ко\, что уже пр
	актически нет
	 девушек\, кот
	орые не встре
	чались бы с пи
	капером или не 
	знают пикап-терм
	ины и способы зн
	акомств. Я уже не
	 говорю о том\,
	 что появляют
	ся новые покол
	ения девушек\, к
	оторые уже дума
	ют и действуют по-новом
	у. Естественно\, мы хот
	им их тоже изучить.\n
	\n\n\n	Поэтому мы не х
	отим брать деньги 
	за программы 15-20 
	летней давнос
	ти\, как это д
	елают наши «
	друзья». Мы 
	максимальн
	о обучим всех 
	желающих этим п
	рограммам\, исс
	ледуем новое об
	щество\, если б
	удет нужно\, съе
	здим снова за 
	рубеж и привез
	ем новые метод
	ы и способы\, ч
	тобы обновить нашу 
	базу знаний и дальше продвиг
	ать Пикап в России.\n\n\n\n	 \n\n\n\n
		3я причина – это Люди.\n
	\n\n\n	Как ни странн
	о\, но к нам на
	 тренинги обыч
	но приходят очен
	ь интересные люди. 
	Со многими\, мы к 
	сожалению\, не
	 знакомы ввид
	у того\, что он
	и по материал
	ьным возможно
	стям не могут п
	рийти к нам и внести 
	свой вклад в развитие п
	икап-движения.\n\n\n\n
		Теперь\, после 
	того\, как гр
	упповые трени
	нги стали бесп
	латными\, кажд
	ый желающий м
	ожет прийти к
	 нам и стать
	 частью наш
	ей команды.
	 Пройти про
	грамму Баз
	ового пикап-
	тренинга или 
	программу пикап.Коу
	чинга и развиваться с
	 нами в дальнейшем.\
	n\n\n\n	Наш спонсо
	р – человек\,
	 который не 
	останавлива
	ется после об
	учения\, а пос
	тоянно находит
	ся в развитие. 
	Поэтому он вк
	ладывает в нас
	 деньги\, что
	бы мы форм
	ировали дл
	я него един
	омышленнико
	в\, которым 
	интересно дальней
	шее развитие в теме пикапа
	 и соблазнения девушек.\n\n\n
	\n	 \n\n\n\n	Надеюсь\, 
	мы ответили 
	на вопрос п
	очему у нас тепер
	ь групповые тренин
	ги для мужчин стал
	и бесплатными.\n\n\
	n\n	Тебе осталось 
	только выбрать программу\, ко
	торая будет тебе по душе:\n\n
	\n\n	 \n\n\n\n	1 - Весёлый 
	и активный Ба
	зовый пикап-тре
	нинг - Нажми\, чтобы узна
	ть подробности об этом тренинге.\n\
	n\n\n	или\n\n\n\n	 \n\n\n\n	2 - 
	Подробный и
	 результативн
	ый пикап.Коучинг -
	 Нажми\, чтобы узнать подробн
	ости об этом тренинге.\n\n\n\n
		 \n\n\n\n	В любом сл
	учае\, чтобы ты 
	не выбрал окажется пр
	авильным выбором\, мы 
	ждем тебя на заняти
	ях.\n\n\n\n	И как ск
	азал наш спон
	сор – «Добро п
	ожаловать в ком
	анду друзей\, открытых
	 к новому\, и способных плыть против т
	ечения».\n\n
DTSTART:20190627T210000Z
DTEND:20191230T210000Z
END:VEVENT
END:VCALENDAR
