BEGIN:VCALENDAR
VERSION:2.0
PRODID:-//InvisionCommunity Events 4.7.22//EN
METHOD:PUBLISH
CALSCALE:GREGORIAN
REFRESH-INTERVAL:PT15M
X-PUBLISHED-TTL:PT15M
X-WR-CALNAME:Community Calendar
NAME:Community Calendar
BEGIN:VTIMEZONE
TZID:Europe/London
TZURL:http://tzurl.org/zoneinfo/Europe/London
X-LIC-LOCATION:Europe/London
BEGIN:DAYLIGHT
TZOFFSETFROM:+0000
TZOFFSETTO:+0100
TZNAME:BST
DTSTART:20190331T020000Z
RRULE:FREQ=YEARLY;BYMONTH=3;BYDAY=-1SU
END:DAYLIGHT
BEGIN:STANDARD
TZOFFSETFROM:+0100
TZOFFSETTO:+0000
TZNAME:GMT
DTSTART:20191027T020000Z
RRULE:FREQ=YEARLY;BYMONTH=10;BYDAY=-1SU
END:STANDARD
END:VTIMEZONE
BEGIN:VEVENT
SUMMARY:\"Тренинг по Манипуляциям\" от
	 Михаила Ширина
DTSTAMP:20190712T001701Z
SEQUENCE:0
UID:127-1-076337ae2c0f75aa10766e7ad1ee0148@forum.pickup.ru
ORGANIZER;CN="Paraman":webmaster@pickup.ru
DESCRIPTION:\n	Добрый день
	\, дорогой дру
	г!Мы хотим 
	пригласит
	ь тебя на тр
	енинг по М
	анипуляци
	ям от леге
	ндарного т
	ренера Михаила
	 Ширина. Данное 
	мероприятие пр
	оходит всего ли
	шь раз в год\, 
	но эффект о
	т этого тре
	нинга колос
	сальный!На эт
	ом тренинге т
	ы сможешь выяв
	ить и решить м
	ногие пробле
	мы\, которые т
	ы успел накопи
	ть в общении и
	 манипулирова
	нии людьми.Если 
	ты думаешь\, чт
	о тобой никто
	 не манипулир
	ует\, тогда т
	ы ошибаешьс
	я. Манипуляц
	ии со сторон
	ы окружающих
	 тебя людей т
	ы встречаешь
	 каждый день
	. На тренинге 
	Михаил поможет т
	ебе разобраться в 
	манипуляциях и стать
	 \"кукловодом\"\, а не 
	быть \"марионетко
	й\".Эти и многие
	 другие вопросы
	\, а главное к
	ак их решить Ми
	хаил расскажет 
	на тренинге по Манипуляция
	м.Дни занятий:\n20 июля суббота с
	 11-00 до 20-0021 июля воскресенье
	 с 11-00 до 20-00Проводи
	т тренинг - ч
	еловек-легенд
	а Михаил Ширин
	. Более 11 лет з
	анимается в
	опросами отношений
	\, манипуляций\, возврата партнер
	ов. Организатор pickup.ru и gir
	lbacker. Семьянин и вел
	икодушный челов
	ек. Обучил около 
	100 тренеров\, п
	омог восстан
	овить свои о
	тношения и 
	семьи тысяч
	ам мужчин и
	 женщин по всем
	у миру. Особен
	ности тренинга 
	и разбираемые в
	опросы:\n1) Как пр
	отивостоять м
	анипуляцим?2)
	 Как определит
	ь\, что тобой 
	манипулиру
	ют или пыта
	ются манипули
	ровать?3) Как 
	тебе правиль
	но манипулиро
	вать другими л
	юдьми?4) Как о
	безопасить се
	бя от не нужно
	й манипуляции
	?Это лишь мала
	я часть тем
	\, которые рас
	скажет Михаил Ш
	ирин.ЗАПИСАТЬСЯ НА ТРЕНИНГПоторопись\, у
	 нас всего 20 мест!\n
DTSTART:20190720T080000Z
DTEND:20190720T170000Z
END:VEVENT
END:VCALENDAR
