BEGIN:VCALENDAR
VERSION:2.0
PRODID:-//InvisionCommunity Events 4.7.22//EN
METHOD:PUBLISH
CALSCALE:GREGORIAN
REFRESH-INTERVAL:PT15M
X-PUBLISHED-TTL:PT15M
X-WR-CALNAME:Community Calendar
NAME:Community Calendar
BEGIN:VTIMEZONE
TZID:Europe/London
TZURL:http://tzurl.org/zoneinfo/Europe/London
X-LIC-LOCATION:Europe/London
BEGIN:DAYLIGHT
TZOFFSETFROM:+0000
TZOFFSETTO:+0100
TZNAME:BST
DTSTART:20190331T020000Z
RRULE:FREQ=YEARLY;BYMONTH=3;BYDAY=-1SU
END:DAYLIGHT
BEGIN:STANDARD
TZOFFSETFROM:+0100
TZOFFSETTO:+0000
TZNAME:GMT
DTSTART:20191027T020000Z
RRULE:FREQ=YEARLY;BYMONTH=10;BYDAY=-1SU
END:STANDARD
END:VTIMEZONE
BEGIN:VEVENT
SUMMARY:Мафия в Пикап.Ру - ПЕРЕЗАГРУЗКА
DTSTAMP:20191211T084608Z
SEQUENCE:0
UID:131-1-076337ae2c0f75aa10766e7ad1ee0148@forum.pickup.ru
ORGANIZER;CN="Paraman":webmaster@pickup.ru
DESCRIPTION:\n\n	Друзья всем привет!\n\n\
	n\n	18 декабря в 19-00 мы
	 приглашаем всех желающи
	х к нам в гости на игру в Ма
	фия.\n\n\n\n	Для тех\, кт
	о не знает - э
	то увлекател
	ьная игра\, ко
	торая развива
	ет социальные 
	навыки общения
	\, убеждения\, ор
	аторский ски
	лл\, умение отстаи
	вать свою точку зрения
	\, развивает невербалику
	 ИТД\n\n\n\n	Для тех\, кт
	о знает - это
	 будет весе
	лым время п
	ровождением\
	, дополнительным 
	поводом прийти и поз
	накомится с нами и 
	друг с другом.\n\n\n\n	Мер
	оприятие пока абсол
	ютно бесплатное.\n\
	n\n\n	Как бонус и
	 так как эт
	о перезару
	зка после 
	некоторого
	 перерыва (с
	торожилы фор
	ума наверняка по
	нят наши давние
	 веселые игры в
	 мафию и  в друг
	ие игры) - это 
	торжественн
	ое открытие по
	сле перерыва\
	, поэтому с н
	ас коктейли для вес
	елой игры и лёгкого
	 неформального обще
	ния.\n\n\n\n	Кто хочет 
	записаться и принять участ
	ие в игре - пишите СМС (можно whatsapp) -
	 \"Мафия форум\" - на 8(968)825-26-77\n\n
DTSTART:20191218T160000Z
DTEND:20191218T180000Z
END:VEVENT
END:VCALENDAR
