BEGIN:VCALENDAR
VERSION:2.0
PRODID:-//InvisionCommunity Events 4.7.22//EN
METHOD:PUBLISH
CALSCALE:GREGORIAN
REFRESH-INTERVAL:PT15M
X-PUBLISHED-TTL:PT15M
X-WR-CALNAME:Community Calendar
NAME:Community Calendar
BEGIN:VTIMEZONE
TZID:Europe/London
TZURL:http://tzurl.org/zoneinfo/Europe/London
X-LIC-LOCATION:Europe/London
BEGIN:DAYLIGHT
TZOFFSETFROM:+0000
TZOFFSETTO:+0100
TZNAME:BST
DTSTART:20200329T020000Z
RRULE:FREQ=YEARLY;BYMONTH=3;BYDAY=-1SU
END:DAYLIGHT
BEGIN:STANDARD
TZOFFSETFROM:+0100
TZOFFSETTO:+0000
TZNAME:GMT
DTSTART:20201025T020000Z
RRULE:FREQ=YEARLY;BYMONTH=10;BYDAY=-1SU
END:STANDARD
END:VTIMEZONE
BEGIN:VEVENT
SUMMARY:[Бесплатный
	 3х дневный тренинг] Базовый пикап
	-тренинг для Парней и Девушек
DTSTAMP:20200210T010309Z
SEQUENCE:0
UID:132-1-076337ae2c0f75aa10766e7ad1ee0148@forum.pickup.ru
ORGANIZER;CN="Paraman":webmaster@pickup.ru
DESCRIPTION:\n\n	В пятницу\, 14 Февр
	аля\, в 19-00 начинаетс
	я бесплатный 3х днев
	ный Базовый пикап-тре
	нинг.\n\n\n\n	Тренинг 
	для мужчин и дл
	я девушек\, включ
	ает в себя не 
	только полезн
	ую теорию в аудитор
	ии\, но и практическую о
	тработку заданий \"в полях\".\n
	\n\n\n	Расписание занятий:\n\n\n
	\n	1- Пятница с 19-00 до выполн
	ения всех практических заданий.\n\n\n
	\n	2- Суббота с 12-00 до 22-00\n\n\n\n	3- Воскресе
	нье с 12-00 до 22-00\n\n\n\n	Что будет
	 на тренинге:\n\n\n\n	
	- Харизматичны
	й тренер Василий Ша
	ман (пикап-тренер\, гип
	нотерапевт) и наша кома
	нда.\n\n\n\n	- Знакомства
	 на улицах\, в торговых це
	нтрах\, в клубах и бара
	х Москвы.\n\n\n\n	- 
	Лёгкая для у
	своения про
	грамма по знакомству 
	и соблазнению\, подающа
	яся в игровой форме.\
	n\n\n\n	- Из отзыва од
	ного из выпуск
	ников Базового
	 пикап-тренинга: 
	\"Это не просто 
	тренинг по зна
	комствам и со
	блазнению\, 
	а весёлое\, к
	рышесносное
	\, эмоционал
	ьное приключе
	ние выходного дня\, к
	оторое хочется повторить сн
	ова и снова\"\n\n\n\n	Условия:\
	n\n\n\n	Все просто\, за
	писывайтесь\, 
	если есть ме
	ста\, приход
	ите\, участвуете и
	 получаете удовольст
	вие абсолютно бесплат
	но.\n\n\n\n	Несмотря на
	 то\, что тренинг
	 бесплатный\, м
	ы просим отнест
	ись к нему ответ
	ственно\, так ка
	к за подобные 
	тренинги (а 
	возможно и хуж
	е по качеству) наши 
	конкуренты берут немаленькие
	 деньги. \n\n\n\n	У нас всего 20 мест.
	\n\n\n\n	Как записаться:\n\n\n
	\n	Для того\, чтобы з
	аписаться на тренинг\, нужно
	 прислать на телефон 8(968)825-26-77 СМС
	 или WhatsApp - \"ФИО\, возрас
	т. Базовый пикап-тренинг\"\, вас
	 запишут в порядке очередности.\n\n
DTSTART:20200214T160000Z
DTEND:20200214T200000Z
END:VEVENT
END:VCALENDAR
