BEGIN:VCALENDAR
VERSION:2.0
PRODID:-//InvisionCommunity Events 4.7.22//EN
METHOD:PUBLISH
CALSCALE:GREGORIAN
REFRESH-INTERVAL:PT15M
X-PUBLISHED-TTL:PT15M
X-WR-CALNAME:Community Calendar
NAME:Community Calendar
BEGIN:VTIMEZONE
TZID:Europe/London
TZURL:http://tzurl.org/zoneinfo/Europe/London
X-LIC-LOCATION:Europe/London
BEGIN:DAYLIGHT
TZOFFSETFROM:+0000
TZOFFSETTO:+0100
TZNAME:BST
DTSTART:20200329T020000Z
RRULE:FREQ=YEARLY;BYMONTH=3;BYDAY=-1SU
END:DAYLIGHT
BEGIN:STANDARD
TZOFFSETFROM:+0100
TZOFFSETTO:+0000
TZNAME:GMT
DTSTART:20201025T020000Z
RRULE:FREQ=YEARLY;BYMONTH=10;BYDAY=-1SU
END:STANDARD
END:VTIMEZONE
BEGIN:VEVENT
SUMMARY:[Персонал
	ьный пикап.Коучинг] Тренинг до
	 результата для Мужчин
DTSTAMP:20200210T012251Z
SEQUENCE:0
UID:133-1-076337ae2c0f75aa10766e7ad1ee0148@forum.pickup.ru
ORGANIZER;CN="Paraman":webmaster@pickup.ru
DESCRIPTION:\n\n	27 Февраля 
	стартует наш 
	основной (лу
	чший) тренинг
	 по знакомств
	ам\, соблазнению и пос
	троению нужных отношений - п
	икап.Коучинг.\n\n\n\n	 \n\
	n\n\n	В отличие 
	от Базового
	 этот Трен
	инг направ
	лен на клас
	сическую сх
	ему соблазн
	ения. Все пр
	орабатыва
	ется по эл
	ементам и п
	од чутким пр
	исмотром трене
	ров и персональных с
	аппортов - подходы\, вызвоны 
	девушек\, свидания.\n\n\n\n	 \n\n\n
	\n	Расписание занятий:
	\n\n\n\n	8 занятий по 
	вечерам в п
	онедельник 
	и в четверг\,
	 с обязательной отраб
	откой домашних заданий м
	ежду занятиями.\n\n\n\n	 \n\n\n\
	n	Особенность пикап.Коучинга
	:\n\n\n\n	— группа до 10 чел
	овек\n\n\n\n	— пе
	рсональный 
	саппорт у к
	аждого участника\
	, который помогает
	 ежедневно в течен
	ии тренинга\n\n\n\n	—
	 запись подход
	ов и свиданий 
	на видео со зву
	ком\, с последу
	ющим разбором 
	на большом экр
	ане в офисе на
	 занятиях\, чт
	обы участни
	к смог посмо
	треть на себя 
	со стороны и полу
	чить грамотную обр
	атную связь от тре
	нера\n\n\n\n	— изуче
	ние всех тем п
	о соблазнению д
	евушек - Целепол
	агание\, Знакомс
	тва\, Вызвоны\, О
	бработка возраж
	ений\, Работа с
	о страхами\, С
	торителлинг\, Ки
	нестетика\, Со
	здание интуит
	ивного доверия\
	, Увоз\, Секс\, 
	Построение
	 выгодных отно
	шений\, Грамот
	ная и экологичн
	ая утилизация (расставание)
	\, Образ жизни после тренинг
	а.\n\n\n\n	 \n\n\n\n	Этот трени
	нг подходит как
	 новичкам\, так и
	 парням\, котор
	ые уже проход
	или пикап-тренинги\, 
	но забыли навыки и обленил
	ись в отношениях.\n\n\n\n	
	 \n\n\n\n	Средние 
	результаты\, которые
	 достигает каждый участник
	 пикап.Коучинга:\n\n\n\n	-  +- 150 подходов
	 к девушкам\n\n\n\n	- +- 10-15 свиданий с 
	девушками\n\n\n\n	- +- 1-2 зачёта с деву
	шками\n\n\n\n	 \n\n\n\n	Н
	а пикап.Коуч
	инге работает
	 команда из о
	пытных тренеро
	в и саппоров\, 
	которые умеют
	 как преподав
	ать материал\, так 
	и сами являются примерами
	 в соблазнении девушек.\
	n\n\n\n	 \n\n\n\n	Мы сдел
	аем комфор
	тную атмосф
	еру на тренин
	ге\, а также 
	будем след
	ить за соблю
	дением дисц
	иплины\, им
	енно такое
	 умение ра
	ботать «кн
	утом и пр
	яником» 
	приводит к
	аждого участника п
	икап.Коучинга к запланир
	ованному результату.\n\n\n\n	 \n\n\n
	\n	На тренинге всего 10 мест.\n\n\n\n	 \n
	\n\n\n	Самое вкусное:\n\n\n\n	 \n\n\n
	\n	В прошлом году\, 
	6 месяцев (с И
	юня по Декаб
	рь) мы пров
	одили трен
	инг пикап.К
	оучинг абсол
	ютно бесплатн
	о в виде экспери
	мента. Несмотря
	 на это\, результ
	аты были выдающ
	имися\, на трени
	нге почти не был
	о парней\, котор
	ые не получили секс с д
	евушкой\, после знакомства с н
	ей на улице.\n\n\n\n	 \n\n\n\n	
	В этом году мы уже про
	даём этот тренинг\, но
	 цена символическая
	 - 30000р. Для примера
	\, у конкурентов
	 подобный тренинг (а возмож
	но и хуже по качеству) стоит от 5000
	0р.\n\n\n\n	 \n\n\n\n	Если и э
	того не достаточн
	о\, то мы оставили небольш
	ой бонус\, для тех\, кто сомне
	вается:\n\n\n\n	 \n\n\n\n	Г
	лобально трени
	нг делится на не
	сколько частей\, о
	дна из них - «знакомство»\, кот
	орая занимает 3 занятия.\n\
	n\n\n	 \n\n\n\n	Мы даём
	 каждому ж
	елающему 
	возможность
	 попробовать п
	ервые 3 занятия
	 пикап.Коучинг
	а бесплатно и п
	отом\, если пон
	равится\, ку
	пить остал
	ьные заня
	тия (в бе
	сплатной верс
	ии не предусмотрена подд
	ержка индивидуального саппор
	та).\n\n\n\n	 \n\n\n\n	Кто твёр
	до решил\, что д
	анный тренинг 
	для него и хоч
	ет в нем участ
	вовать и тем са
	мым решить свои п
	роблемы с девушками ра
	з и на всегда\, пришлите СМС или What
	sApp на телефон 8(968)825-26-77 «ФИО\, в
	озраст\, пикап.Коучинг»\n\n
	\n\n	 \n\n\n\n	Вас запишут и пригласят в по
	рядке очередности.\n\n
DTSTART:20200227T160000Z
DTEND:20200227T200000Z
END:VEVENT
END:VCALENDAR
