BEGIN:VCALENDAR
VERSION:2.0
PRODID:-//InvisionCommunity Events 4.7.22//EN
METHOD:PUBLISH
CALSCALE:GREGORIAN
REFRESH-INTERVAL:PT15M
X-PUBLISHED-TTL:PT15M
X-WR-CALNAME:Community Calendar
NAME:Community Calendar
BEGIN:VTIMEZONE
TZID:Europe/London
TZURL:http://tzurl.org/zoneinfo/Europe/London
X-LIC-LOCATION:Europe/London
BEGIN:DAYLIGHT
TZOFFSETFROM:+0000
TZOFFSETTO:+0100
TZNAME:BST
DTSTART:20200329T020000Z
RRULE:FREQ=YEARLY;BYMONTH=3;BYDAY=-1SU
END:DAYLIGHT
BEGIN:STANDARD
TZOFFSETFROM:+0100
TZOFFSETTO:+0000
TZNAME:GMT
DTSTART:20201025T020000Z
RRULE:FREQ=YEARLY;BYMONTH=10;BYDAY=-1SU
END:STANDARD
END:VTIMEZONE
BEGIN:VEVENT
SUMMARY:Бесплатный ОнЛайн Мара
	фон по знакомствам с девушками
DTSTAMP:20200525T165812Z
SEQUENCE:0
UID:136-1-076337ae2c0f75aa10766e7ad1ee0148@forum.pickup.ru
ORGANIZER;CN="Paraman":webmaster@pickup.ru
DESCRIPTION:\n\n	Добрый день\, доро
	гой Друг!\n\n\n\n	Обы
	чно мы проводим
	 живые мероприят
	ия - семинары\, тр
	енинги и мастер
	-классы. Но на 
	данный момент мы не
	 можем собирать люде
	й на живые тренинги.
	\n\n\n\n	Именно по
	 этой причин
	е мы нашей к
	омандой запускае
	м онлайн марафон по
	 знакомствам с девушками в с
	ети. \n\n\n\n	Марафон стартуе
	т 29 мая в 19-00\, но 
	мы подготов
	или ряд предв
	арительных з
	аданий\, котор
	ые тебе поле
	зно сделать\, чтобы
	 быстрее вникнуть в
	 процесс онлайн собла
	знения.\n\n\n\n	Для у
	частия в мара
	фоне\, перех
	оди по ссылке\, ре
	гистрируйся и вып
	олняй предварительные з
	адания\n\n\n\n	НАЖМИ ДЛЯ УЧАСТИЯ\n\n\n\n
		До встречи на марафоне!\n\n
DTSTART:20200529T160000Z
DTEND:20200529T180000Z
END:VEVENT
END:VCALENDAR
