BEGIN:VCALENDAR
VERSION:2.0
PRODID:-//InvisionCommunity Events 4.7.22//EN
METHOD:PUBLISH
CALSCALE:GREGORIAN
REFRESH-INTERVAL:PT15M
X-PUBLISHED-TTL:PT15M
X-WR-CALNAME:Community Calendar
NAME:Community Calendar
BEGIN:VTIMEZONE
TZID:Europe/London
TZURL:http://tzurl.org/zoneinfo/Europe/London
X-LIC-LOCATION:Europe/London
BEGIN:DAYLIGHT
TZOFFSETFROM:+0000
TZOFFSETTO:+0100
TZNAME:BST
DTSTART:20200329T020000Z
RRULE:FREQ=YEARLY;BYMONTH=3;BYDAY=-1SU
END:DAYLIGHT
BEGIN:STANDARD
TZOFFSETFROM:+0100
TZOFFSETTO:+0000
TZNAME:GMT
DTSTART:20201025T020000Z
RRULE:FREQ=YEARLY;BYMONTH=10;BYDAY=-1SU
END:STANDARD
END:VTIMEZONE
BEGIN:VEVENT
SUMMARY:Бесплатный ОнЛайн Мара
	фон по знакомствам с девушками
DTSTAMP:20200604T014332Z
SEQUENCE:0
UID:137-1-076337ae2c0f75aa10766e7ad1ee0148@forum.pickup.ru
ORGANIZER;CN="Paraman":webmaster@pickup.ru
DESCRIPTION:\n\n	Приветствую\, дорогой Др
	уг!\n\n\n\n	Недавно\, 29 и 
	30 мая\, мы пр
	оводили бе
	сплатный он
	лайн-марафон по 
	знакомству и собл
	азнению девушек в сети (Ти
	ндер\, Баду\, Мамба\, соцс
	ети итд)\n\n\n\n	Если т
	ы не принял в не
	м участие и не о
	ценил для себя пользу 
	нашего марафона\, то
	 еще не все потеряно)
	\n\n\n\n	Включител
	ьно до воск
	ресенья вече
	ра\, мы оста
	вляем возм
	ожность пос
	мотреть виде
	о записи 2х д
	невного марафона и 
	выполнить его зада
	ния на нашей новой пл
	ощадке.\n\n\n\n	Для 
	просмотра видео\, н
	ужно перейти по сс
	ылке и зарегистрироватьс
	я.\n\n\n\n	УЧАСТВОВАТЬ В 
	ОНЛАЙН МАРАФОНЕ\n\n\n\n	Успе
	шных и незабываемых тебе соблазнений)!\n\n
DTSTART:20200607T160000Z
END:VEVENT
END:VCALENDAR
