BEGIN:VCALENDAR
VERSION:2.0
PRODID:-//InvisionCommunity Events 4.7.22//EN
METHOD:PUBLISH
CALSCALE:GREGORIAN
REFRESH-INTERVAL:PT15M
X-PUBLISHED-TTL:PT15M
X-WR-CALNAME:Community Calendar
NAME:Community Calendar
BEGIN:VTIMEZONE
TZID:Europe/London
TZURL:http://tzurl.org/zoneinfo/Europe/London
X-LIC-LOCATION:Europe/London
BEGIN:DAYLIGHT
TZOFFSETFROM:+0000
TZOFFSETTO:+0100
TZNAME:BST
DTSTART:20200329T020000Z
RRULE:FREQ=YEARLY;BYMONTH=3;BYDAY=-1SU
END:DAYLIGHT
BEGIN:STANDARD
TZOFFSETFROM:+0100
TZOFFSETTO:+0000
TZNAME:GMT
DTSTART:20201025T020000Z
RRULE:FREQ=YEARLY;BYMONTH=10;BYDAY=-1SU
END:STANDARD
END:VTIMEZONE
BEGIN:VEVENT
SUMMARY:[Бесплатны
	й Мастер-Класс для мужчин] Как позна
	комиться с девушкой?
DTSTAMP:20200615T015313Z
SEQUENCE:0
UID:138-1-076337ae2c0f75aa10766e7ad1ee0148@forum.pickup.ru
ORGANIZER;CN="Paraman":webmaster@pickup.ru
DESCRIPTION:\n\n	Добрый день\, дорог
	ой друг!\n\n\n\n	Приглашаем 
	тебя 1 июля\, в 19-30 п
	осетить наш ж
	ивой Мастер-к
	ласс\, на кот
	ором ты уз
	наешь много
	 интересно
	й информаци
	и по знаком
	ству и собл
	азнению дев
	ушек\, позна
	комишься с
	 интересны
	ми людьми 
	и получишь заряд м
	отивации на знакомства после д
	олгого карантина!\n\n\n\n	&gt\;&gt\;&gt\
	;НАЖМИ ДЛЯ РЕГИСТРАЦИИ&lt\;&lt\;&lt\;\n\n
DTSTART:20200701T163000Z
DTEND:20200701T183000Z
END:VEVENT
END:VCALENDAR
