BEGIN:VCALENDAR
VERSION:2.0
PRODID:-//InvisionCommunity Events 4.7.22//EN
METHOD:PUBLISH
CALSCALE:GREGORIAN
REFRESH-INTERVAL:PT15M
X-PUBLISHED-TTL:PT15M
X-WR-CALNAME:Community Calendar
NAME:Community Calendar
BEGIN:VTIMEZONE
TZID:Europe/London
TZURL:http://tzurl.org/zoneinfo/Europe/London
X-LIC-LOCATION:Europe/London
BEGIN:DAYLIGHT
TZOFFSETFROM:+0000
TZOFFSETTO:+0100
TZNAME:BST
DTSTART:20160327T020000Z
RRULE:FREQ=YEARLY;BYMONTH=3;BYDAY=-1SU
END:DAYLIGHT
BEGIN:STANDARD
TZOFFSETFROM:+0100
TZOFFSETTO:+0000
TZNAME:GMT
DTSTART:20161030T020000Z
RRULE:FREQ=YEARLY;BYMONTH=10;BYDAY=-1SU
END:STANDARD
END:VTIMEZONE
BEGIN:VEVENT
SUMMARY:пикап.Тренинг Базовый
DTSTAMP:20160214T132409Z
SEQUENCE:0
UID:19-1-076337ae2c0f75aa10766e7ad1ee0148@forum.pickup.ru
ORGANIZER;CN="Paraman":webmaster@pickup.ru
DESCRIPTION:\n\n\n	\n\n		\n\n			\n\n				\n\n					\n\n						\n\n							\n
	\n								\n\n									Тренинг
	 по Знакомствам и Собл
	азнению для мужчин старт 21
	 февраля\, Москва\n\n\n									Тренер
	ы Вадим и Лера\n\n\n				
						Это практический
	 тренинг по знакомствам и соблазнени
	ю в жизни.\n\n								\n\n\n\n								\n\n				
						Это легенда
	рный тренинг от лу
	чших тренеров Москв
	ы\, который прошли 
	уже больше 10000 
	мужчин Моск
	вы. В этом т
	ренинге собрано в
	се самое необходимое для построе
	ния личной жизни.\n\n								\n\n\n\n								\
	n\n									Приходящие 
	на тренинг юн
	оши\, обретают
	 уверенность
	 в себе и превр
	ащаются в на
	стоящих мужч
	ин. А приход
	ящие мужчины
	\, вновь обрет
	ают юношескую легкость в
	 знакомствах и общении с девушками.\n\n						
			\n\n\n\n								\n\n									Тренинг делится
	 на 3 пары выходных:\n\n\n									
	1я пара — 21 (воскресенье) февр
	аля - 22 (понедельник) февраля\n\n
	\n									2я пара — 05 (суббота) марта
	 - 06 (воскресенье) марта\n\n\n								
		3я пара — 12 (суббота) марта - 13 (вос
	кресенье) марта\n\n								\n\n\n\n								\n
	\n									Каждый день т
	ренинговый день начин
	ается в 11-00 и заканчивает
	ся около 20-30. Это связ
	анно с тем\, что 
	мы не просто
	 читаем лекц
	ии\, а еще заставляем
	 применять полученный материал на пра
	ктике.\n\n								\n\n\n\n								\n\n									
	Кстати\, о материале л
	екций\, который ты получишь
	 по прохождению:\n\n\n									-Как в
	ыбрать и поставить цель\n
	\n\n									-Как познакомиться 
	в жизни (улица/метро/магаз
	ин/итд)\n\n\n									-Как п
	равильному общаться с де
	вушкой по телефону\n\n\n		
								-Что делать с девушк
	ой на свидании\, чтобы имет
	ь у нее успех\n\n\n								
		-Как возбудить желание у
	 девушки на свидании\n\n
	\n									-Как правильно пере
	местить девушку в место д
	ля секса\n\n\n									-Ка
	к заниматься сексо
	м с девушкой\, чтобы он оказа
	лся с ней не последним\n\n\n
										-Что с ней де
	лать дальше 
	- как прави
	льно выстроить с не
	й отношения или как безболезненно р
	асстаться\n\n								\n\n\n\n								\n\n					
					Все это ты не т
	олько прослуш
	аешь и запишеш
	ь\, а еще и попробу
	ешь на практике под руководством
	 наших экспертов.\n\n								\n\n\n\n								\n
	\n									На тренинге т
	ы будешь не од
	ин. Ты будешь 
	в окружении 
	таких же един
	омышленников\
	, которые будут тебе по
	могать и подбадривать\, если будет нужно.
	\n\n								\n\n\n\n								\n\n									В итоге\,
	 по выпуску\, ты получишь:\n
	\n\n									1 — Навыки соблаз
	нителя\, которые будут с тоб
	ой всегда\n\n\n									2 
	— Девушек\, с которыми ты 
	познакомишься за время т
	ренинга\n\n\n									3 — 
	Команду (тусов
	ку) единомышл
	енников\, с которы
	ми ты будешь дружить и после про
	хождения тренинга.\n\n								\n\n\n\n								
	\n\n									А теперь самое приятное — цена.\n\n
									\n\n\n\n								\n\n									Так к
	ак этот тре
	нинг запуск
	ается накан
	уне праздник
	а Дня защитник
	а Отечества\, м
	ы даем всем з
	ащитникам Отече
	ства скидку. И цена н
	а тренинг с учетом с
	кидки составит 19900р. По
	спеши\, так как такой цены больше не буде
	т.\n\n								\n\n\n\n								\n\n									Такж
	е напоминаю\, 
	что аудитория
	 у нас не рези
	новая и кол
	ичество мес
	т тоже огран
	ичено. Успей позвонить
	 и забронировать себе место на тренинге.\
	n\n								\n\n\n\n								\n\n									Записатьс
	я можно по телефону 8(968)8
	25-26-77 или оставить заявку на сайте Пикап
	.ру\n\n								\n\n							\n\n						\n\n					\n\n				\n\n			\n\n		\n\n	\
	n\n\n
DTSTART;VALUE=DATE:20160221
DTEND;VALUE=DATE:20160223
END:VEVENT
END:VCALENDAR
