BEGIN:VCALENDAR
VERSION:2.0
PRODID:-//InvisionCommunity Events 4.7.22//EN
METHOD:PUBLISH
CALSCALE:GREGORIAN
REFRESH-INTERVAL:PT15M
X-PUBLISHED-TTL:PT15M
X-WR-CALNAME:Community Calendar
NAME:Community Calendar
BEGIN:VTIMEZONE
TZID:Europe/London
TZURL:http://tzurl.org/zoneinfo/Europe/London
X-LIC-LOCATION:Europe/London
BEGIN:DAYLIGHT
TZOFFSETFROM:+0000
TZOFFSETTO:+0100
TZNAME:BST
DTSTART:20170326T020000Z
RRULE:FREQ=YEARLY;BYMONTH=3;BYDAY=-1SU
END:DAYLIGHT
BEGIN:STANDARD
TZOFFSETFROM:+0100
TZOFFSETTO:+0000
TZNAME:GMT
DTSTART:20171029T020000Z
RRULE:FREQ=YEARLY;BYMONTH=10;BYDAY=-1SU
END:STANDARD
END:VTIMEZONE
BEGIN:VEVENT
SUMMARY:Семинар - КАК ПРОВЕСТИ ЛЕТНИ
	Й ОТПУСК ПО-ПИКАПЕРСКИ
DTSTAMP:20170717T235117Z
SEQUENCE:0
UID:26-1-076337ae2c0f75aa10766e7ad1ee0148@forum.pickup.ru
ORGANIZER;CN="Paraman":webmaster@pickup.ru
DESCRIPTION:\n\n	Привет\, фо
	румчане! Немно
	го с запоздание
	м\, уведомляю ва
	с о полезном соб
	ытии\, которое 
	состоится у н
	ас в эту среду. А
	 именно Семина
	р ДЛЯ ПАРНЕЙ на
	 актуальную сейчас 
	тему - \"Как провести 
	летний отпуск по-п
	икаперски\"\n\n\n\n	Это
	 обновлённая версия 
	семинара Сергея Лы
	косова (Summar)\, из
	 которой б
	ыло выкинут
	а вся устар
	евшая инфор
	мация\, были
	 оставлены пол
	езные фишки и добавл
	ены актуальные на данный мом
	ент вещи.\n\n\n\n	В теме семина
	ра:\n\n\n\n	-Куда нынче ех
	ать? - перевожу на
	 наш язык - где больш
	е всего молодых\, кр
	асивых и доступных девуше
	к.\n\n\n\n	-Как подготовитьс
	я? - стиль\, вещи\, дру
	зья\, обстановка
	\, гаджеты ИТД. Всё\,
	 что поможет тебе в со
	блазнении девушек на мор
	е.\n\n\n\n	-Что делать на 
	отдыхе? - что т
	ы должен делат
	ь/не делать\, чтобы 
	иметь максимальное ко
	личество девушек.\n\n\n\n	
	Кто ведёт мероприятие?\n\n\
	n\n	Наш новый тренер Антон.\n\n\
	n\n	-Капитан команды КВН МАДИ.\n
	\n\n\n	-Соблазнитель со стажем
	.\n\n\n\n	-Искушенный путеше
	ственник.\n\n\n\n	Ес
	ли интересен семинар\,
	 то скорее звони и бронируй одно из 20
	ти мест - 8(968)825-26-77\n\n\n\n	Если в
	озникли вопросы\, тоже звон
	и.\n\n\n\n	Да\, кстати\, скидка 30
	0р по промокоду \"пикап-Форум\" - 
	это 1200р вместо 1500р.\n\n\n\n	Всем успехов в со
	блазнениях!\n\n
DTSTART:20170719T160000Z
DTEND:20170719T190000Z
END:VEVENT
END:VCALENDAR
