BEGIN:VCALENDAR
VERSION:2.0
PRODID:-//InvisionCommunity Events 4.7.22//EN
METHOD:PUBLISH
CALSCALE:GREGORIAN
REFRESH-INTERVAL:PT15M
X-PUBLISHED-TTL:PT15M
X-WR-CALNAME:Community Calendar
NAME:Community Calendar
BEGIN:VTIMEZONE
TZID:Europe/London
TZURL:http://tzurl.org/zoneinfo/Europe/London
X-LIC-LOCATION:Europe/London
BEGIN:DAYLIGHT
TZOFFSETFROM:+0000
TZOFFSETTO:+0100
TZNAME:BST
DTSTART:20250330T020000Z
RRULE:FREQ=YEARLY;BYMONTH=3;BYDAY=-1SU
END:DAYLIGHT
BEGIN:STANDARD
TZOFFSETFROM:+0100
TZOFFSETTO:+0000
TZNAME:GMT
DTSTART:20251026T020000Z
RRULE:FREQ=YEARLY;BYMONTH=10;BYDAY=-1SU
END:STANDARD
END:VTIMEZONE
BEGIN:VEVENT
SUMMARY:БАЗОВЫЙ ПИКАП-ТРЕНИНГ - 30-31 Мая и 
	1 Июня - 10 000р.
DTSTAMP:20250423T175216Z
SEQUENCE:0
UID:273-1-076337ae2c0f75aa10766e7ad1ee0148@forum.pickup.ru
ORGANIZER;CN="Paraman":webmaster@pickup.ru
DESCRIPTION:\n\n	БАЗОВЫЙ ПИКАП-ТРЕНИНГ - 30-
	31 Мая и 1 Июня\n\n\n\n	 \n\n\n
	\n	Тренинг включ
	ает в себя как
	 полезную теори
	ю в аудитории\, т
	ак и практичес
	кую отработку
	 заданий \"в пол
	ях\" на независимых 
	девушках.РАСПИСАН
	ИЕ ЗАНЯТИЙ:1- Пятница
	 с 19-00 до выполнения всех 
	практических заданий.2- Суббота
	 с 11-00 до 18-003- Воскресенье с 1
	1-00 до 18-00ЧТО БУДЕТ НА
	 ТРЕНИНГЕ ЕСЛИ ТЫ 
	В 1й РАЗ:- Основы з
	накомства на у
	лицах\, в торг
	овых центрах 
	Москвы\;- Зн
	акомство с ха
	ризматичный т
	ренером-легенд
	ой - Кириллом Б
	ендером\;- П
	ростая для 
	освоения пр
	ограмма по з
	накомству и 
	соблазнению д
	евушек\, котор
	ую мы препод
	аём в лёгко
	й игровой ф
	орме\, опти
	мальной для
	 запоминани
	я первичных 
	приёмов для
	 знакомства 
	с девушками\;И
	з отзыва одног
	о из выпускник
	ов Базового пи
	кап-тренинга: \"
	Это не просто 
	тренинг по зна
	комствам и со
	блазнению\, 
	а весёлое\, к
	рышесносное
	\, эмоционал
	ьное приключе
	ние выходного д
	ня\, которое хо
	чется повторить сн
	ова и снова\"ЧТО Б
	УДЕТ НА ТРЕНИНГЕ Е
	СЛИ ты НЕ в 1й раз
	:- Более продв
	инутые спосо
	бы\, фишки по зн
	акомству и со
	блазнению деву
	шек и более сло
	жные задания\
	;- Позволение
	 себе побыть 
	раз в месяц
	 в компании
	 профессиона
	лов-пикаперо
	в\, зарядка п
	озитивным на
	строением и
	 мотивацией\,
	 набор конта
	ктов девуше
	к на месяц д
	ля экспери
	ментов над 
	ними и дом
	ашнее зада
	ние персона
	льно от Кири
	лла Бендера
	 до следующего
	 Базового пикап-
	тренинга\;За го
	ды нашей деятел
	ьности\, мы вы
	явили\, что 
	такая лёгка
	я система об
	учения по п
	ринципу кр
	атко-доступно
	-регулярно\, да
	ёт хорошие резу
	льтаты нашим уч
	астникам\, не н
	адоедает\, 
	держит в 
	тонусе и
	 не отвлекает
	 от основной жизнедея
	тельностиУСЛОВИЯ:Стоим
	ость участия - 10 000р. 
	- за 3 дня трени
	нга\;КАК ЗА
	ПИСАТЬСЯ:Зая
	вки на БАЗОВЫЙ 
	пикап-тренинг 
	мы ЗАКАНЧИВАЕМ
	 ПРИНИМАТЬ за 3 
	дня до старта
	 (после мы форм
	ируем группу 
	участников\,
	 арендуем ау
	диторию и у в
	ас не будет 
	возможности
	 участвовать в этом 
	тренинге).Заявки мы приним
	аем по телефону/смс 8(968)825-26-77 или ч
	ерез наш сайт - \n\n\n\n	 \n\n\n\n	https://www.pickup.ru/cont
	ent/579\n\n
DTSTART:20250530T160000Z
DTEND:20250530T190000Z
END:VEVENT
END:VCALENDAR
