BEGIN:VCALENDAR
VERSION:2.0
PRODID:-//InvisionCommunity Events 4.7.22//EN
METHOD:PUBLISH
CALSCALE:GREGORIAN
REFRESH-INTERVAL:PT15M
X-PUBLISHED-TTL:PT15M
X-WR-CALNAME:Community Calendar
NAME:Community Calendar
BEGIN:VTIMEZONE
TZID:Europe/London
TZURL:http://tzurl.org/zoneinfo/Europe/London
X-LIC-LOCATION:Europe/London
BEGIN:DAYLIGHT
TZOFFSETFROM:+0000
TZOFFSETTO:+0100
TZNAME:BST
DTSTART:20250330T020000Z
RRULE:FREQ=YEARLY;BYMONTH=3;BYDAY=-1SU
END:DAYLIGHT
BEGIN:STANDARD
TZOFFSETFROM:+0100
TZOFFSETTO:+0000
TZNAME:GMT
DTSTART:20251026T020000Z
RRULE:FREQ=YEARLY;BYMONTH=10;BYDAY=-1SU
END:STANDARD
END:VTIMEZONE
BEGIN:VEVENT
SUMMARY:21 Мая - ЖИВОЙ 
	бесплатный МАСТЕР-КЛАСС - \"Как познако
	миться с девушкой?\"
DTSTAMP:20250423T175618Z
SEQUENCE:0
UID:274-1-076337ae2c0f75aa10766e7ad1ee0148@forum.pickup.ru
ORGANIZER;CN="Paraman":webmaster@pickup.ru
DESCRIPTION:\n\n	21 Мая - ЖИВОЙ 
	бесплатный МАСТЕР-КЛАСС - \
	"Как познакомиться с девушкой?
	\"\n\n\n\n	 \n\n\n\n	Привет\, дор
	огой друг!Не ва
	жно\, проходил 
	ты у нас тренин
	г или только с
	обираешься это 
	сделать.Дело в то
	м\, что Соблазнени
	е девушек - это та
	кая штука\, котор
	ая не стоит на ме
	сте\, а постоянно
	 развивается.Для
	 того\, что ты сд
	елал свои пер
	вые шаги в соб
	лазнении и в
	 дальнейшем 
	был в теме после
	дних тенденций\, ра
	ботающих техник и секретных
	 \"фишек\" по пикапу.21 Мая\
	, в 20-00\, мы проводим
	 для тебя беспла
	тный Мастер-клас
	с\, на котором м
	ы сделаем всё
	 возможное\, 
	чтобы ты н
	ачал знако
	миться и с
	облазнять 
	девушек.ЧТ
	О ТАКОЕ БЕСП
	ЛАТНЫЙ МАСТЕ
	Р-КЛАСС?Это 
	концентрат и
	з самых основ
	ных тем по з
	накомству и
	 соблазнению
	 девушек\, к
	оторые те
	бе расскаж
	ет опытный
	 тренер.ДЛ
	Я КОГО ПРО
	ВОДИТСЯ БЕСП
	ЛАТНЫЙ МАСТЕ
	Р-КЛАСС?Масте
	р-класс прово
	дится для все
	х мужчин\, к
	оторые хотят
	 улучшить свои
	 навыки знако
	мства и собла
	знения девушек
	.- Если у тебя н
	ет опыта прохо
	ждения пикап-тр
	енингов\, тогда т
	ы узнаешь много 
	нового.- Если 
	ты уже проходи
	л тренинги\, 
	тогда тебе б
	удет полезно 
	обновить сво
	и знания\, п
	ознакомитьс
	я с тренером
	 и задать е
	му более п
	родвинутые
	 вопросы.В Ч
	ЁМ ПРЕИМУЩЕСТВ
	О НАШЕГО БЕСПЛА
	ТНОГО МАСТЕР-КЛ
	АССА?Мы не стои
	м на месте\, а 
	развиваемся
	 и внедряем 
	новые спосо
	бы и фишки п
	о знакомст
	ву и собла
	знению дев
	ушек.СКОЛЬКО
	 ПО ВРЕМЕНИ Д
	ЛИТСЯ БЕСПЛА
	ТНЫЙ МАСТЕР-
	КЛАСС?Мастер
	-класс идёт 2 
	часа.СКОЛЬКО 
	СТОИТ БЕСПЛАТ
	НЫЙ МАСТЕР-КЛА
	СС?Мастер-класс
	 не стоит денег\
	, зато сильно 
	сэкономит тв
	оё время\, к
	оторое бы 
	ты потрат
	ил на само
	стоятельно
	е изучение
	 темы знако
	мства и соблазнен
	ия девушек.КАК ПОПАСТЬ НА 
	БЕСПЛАТНЫЙ МАСТЕР-КЛАСС?\
	n\n\n\n	 \n\n\n\n	Заявки
	 на Бесплатный 
	Мастер-Класс м
	ы ЗАКАНЧИВАЕМ 
	ПРИНИМАТЬ за 3 
	дня до старта
	 (после мы форм
	ируем группу 
	участников\,
	 арендуем ауд
	иторию и у вас 
	уже не будет возможности 
	участвовать в этом меропри
	ятии)\n\n\n\n	 \n\n\n\n	Заявки мы прини
	маем по телефону/смс 8(968)825-26-77 или чере
	з сайт -\n\n\n\n	&gt\;&gt\;&gt\;запи
	саться на бесплатный Мастер-Класс&lt\;&lt\;&l
	t\;\n\n
DTSTART:20250521T170000Z
DTEND:20250521T190000Z
END:VEVENT
END:VCALENDAR
