BEGIN:VCALENDAR
VERSION:2.0
PRODID:-//InvisionCommunity Events 4.7.22//EN
METHOD:PUBLISH
CALSCALE:GREGORIAN
REFRESH-INTERVAL:PT15M
X-PUBLISHED-TTL:PT15M
X-WR-CALNAME:Community Calendar
NAME:Community Calendar
BEGIN:VTIMEZONE
TZID:Europe/London
TZURL:http://tzurl.org/zoneinfo/Europe/London
X-LIC-LOCATION:Europe/London
BEGIN:DAYLIGHT
TZOFFSETFROM:+0000
TZOFFSETTO:+0100
TZNAME:BST
DTSTART:20250330T020000Z
RRULE:FREQ=YEARLY;BYMONTH=3;BYDAY=-1SU
END:DAYLIGHT
BEGIN:STANDARD
TZOFFSETFROM:+0100
TZOFFSETTO:+0000
TZNAME:GMT
DTSTART:20251026T020000Z
RRULE:FREQ=YEARLY;BYMONTH=10;BYDAY=-1SU
END:STANDARD
END:VTIMEZONE
BEGIN:VEVENT
SUMMARY:ЖИВОЙ беспл
	атный МАСТЕР-КЛАСС - \"Как познак
	омиться с девушкой?\"
DTSTAMP:20250602T174724Z
SEQUENCE:0
UID:275-1-076337ae2c0f75aa10766e7ad1ee0148@forum.pickup.ru
ORGANIZER;CN="Paraman":webmaster@pickup.ru
DESCRIPTION:\n\n	Привет\, доро
	гой друг!Не важ
	но\, проходил т
	ы у нас тренинг
	 или только соб
	ираешься это сд
	елать.Дело в том\,
	 что Соблазнение д
	евушек - это така
	я штука\, которая 
	не стоит на месте
	\, а постоянно ра
	звивается.Для т
	ого\, что ты сде
	лал свои перв
	ые шаги в собл
	азнении и в д
	альнейшем был
	 в теме последних
	 тенденций\, работающ
	их техник и секретных \"фише
	к\" по пикапу.16 Июля\, в 
	19-30\, мы проводим 
	для тебя беспла
	тный Мастер-клас
	с\, на котором м
	ы сделаем всё
	 возможное\, 
	чтобы ты н
	ачал знако
	миться и с
	облазнять 
	девушек.ЧТ
	О ТАКОЕ БЕСП
	ЛАТНЫЙ МАСТЕ
	Р-КЛАСС?Это 
	концентрат и
	з самых основ
	ных тем по з
	накомству и
	 соблазнению
	 девушек\, к
	оторые те
	бе расскаж
	ет опытный
	 тренер.ДЛ
	Я КОГО ПРО
	ВОДИТСЯ БЕСП
	ЛАТНЫЙ МАСТЕ
	Р-КЛАСС?Масте
	р-класс прово
	дится для все
	х мужчин\, к
	оторые хотят
	 улучшить свои
	 навыки знако
	мства и собла
	знения девушек
	.- Если у тебя н
	ет опыта прохо
	ждения пикап-тр
	енингов\, тогда т
	ы узнаешь много 
	нового.- Если 
	ты уже проходи
	л тренинги\, 
	тогда тебе б
	удет полезно 
	обновить сво
	и знания\, п
	ознакомитьс
	я с тренером
	 и задать е
	му более п
	родвинутые
	 вопросы.В Ч
	ЁМ ПРЕИМУЩЕСТВ
	О НАШЕГО БЕСПЛА
	ТНОГО МАСТЕР-КЛ
	АССА?Мы не стои
	м на месте\, а 
	развиваемся
	 и внедряем 
	новые спосо
	бы и фишки п
	о знакомст
	ву и собла
	знению дев
	ушек.СКОЛЬКО
	 ПО ВРЕМЕНИ Д
	ЛИТСЯ БЕСПЛА
	ТНЫЙ МАСТЕР-
	КЛАСС?Мастер
	-класс идёт 2 
	часа.СКОЛЬКО 
	СТОИТ БЕСПЛАТ
	НЫЙ МАСТЕР-КЛА
	СС?Мастер-класс
	 не стоит денег\
	, зато сильно 
	сэкономит тв
	оё время\, к
	оторое бы 
	ты потрат
	ил на само
	стоятельно
	е изучение
	 темы знако
	мства и соб
	лазнения д
	евушек.КАК 
	ПОПАСТЬ НА 
	БЕСПЛАТНЫЙ
	 МАСТЕР-КЛА
	СС?Заявки на Б
	есплатный Маст
	ер-Класс мы ЗАК
	АНЧИВАЕМ ПРИН
	ИМАТЬ за 3 дня д
	о старта (посл
	е мы формируем
	 группу участн
	иков\, арендуе
	м аудиторию 
	и у вас уже н
	е будет воз
	можности у
	частвовать в этом 
	мероприятии)Заявки мы при
	нимаем по телефону/смс 8(968)825-26-77 или
	 через сайт -\n\n\n\n	 \n\n\n\n	&gt\;&gt\;&gt
	\;&gt\;Записаться на Мастер-Класс&lt\;&lt\;&lt\;&lt
	\;\n\n
DTSTART:20250716T170000Z
DTEND:20250716T190000Z
END:VEVENT
END:VCALENDAR
