BEGIN:VCALENDAR
VERSION:2.0
PRODID:-//InvisionCommunity Events 4.7.22//EN
METHOD:PUBLISH
CALSCALE:GREGORIAN
REFRESH-INTERVAL:PT15M
X-PUBLISHED-TTL:PT15M
X-WR-CALNAME:Community Calendar
NAME:Community Calendar
BEGIN:VTIMEZONE
TZID:Europe/London
TZURL:http://tzurl.org/zoneinfo/Europe/London
X-LIC-LOCATION:Europe/London
BEGIN:DAYLIGHT
TZOFFSETFROM:+0000
TZOFFSETTO:+0100
TZNAME:BST
DTSTART:20250330T020000Z
RRULE:FREQ=YEARLY;BYMONTH=3;BYDAY=-1SU
END:DAYLIGHT
BEGIN:STANDARD
TZOFFSETFROM:+0100
TZOFFSETTO:+0000
TZNAME:GMT
DTSTART:20251026T020000Z
RRULE:FREQ=YEARLY;BYMONTH=10;BYDAY=-1SU
END:STANDARD
END:VTIMEZONE
BEGIN:VEVENT
SUMMARY:КЛУБНЫЙ ПИКАП-ТРЕНИНГ 19 и 20 Се
	нтября - 10 000р.
DTSTAMP:20250706T200313Z
SEQUENCE:0
UID:277-1-076337ae2c0f75aa10766e7ad1ee0148@forum.pickup.ru
ORGANIZER;CN="Paraman":webmaster@pickup.ru
DESCRIPTION:\n\n	КЛУБНЫЙ ПИКАП-ТРЕНИН
	Г 19 и 20 Сентября\n\n\
	n\n	Клубный тр
	енинг по зн
	акомству и
	 соблазнени
	ю девушек в
	ключает в 
	себя полез
	ную теорию 
	в аудитории
	 и практиче
	скую отраб
	отку задан
	ий в Ночны
	х Клубах Мос
	квы на случайных к
	расивых девушках.Р
	АСПИСАНИЕ ЗАНЯТИЙ
	:1) Пятница с 20-00 до 
	выполнения всех пр
	актических заданий
	\;2) Суббота с 20-00 
	до выполнения
	 всех практич
	еских заданий
	\;ЧТО БУДЕТ НА 
	ТРЕНИНГЕ:- Те
	ория основы 
	знакомств и с
	облазнения деву
	шек в Ночном Клуб
	е (Как подходить\, ч
	то говорить\, как 
	трогать И Так Да
	лее)\;- Знакомст
	во с тренером
	 Даниилом\, к
	оторый не пр
	осто практик
	ует и преподаё
	т клубное собл
	азнение\, а кото
	рый живёт этим
	 направлением
	\;- Самое главно
	е - это прак
	тическая от
	работка прос
	тых заданий\,
	 которые бу
	дут складыв
	аться в сложн
	ые схемы по 
	знакомству
	 и соблазнению деву
	шек в Ночном Клубе\;УСЛО
	ВИЯ:Стоимость участия 
	- 10 000р. - за 2 дня т
	ренинга.КА
	К ЗАПИСАТЬСЯ:
	Заявки на Клу
	бный пикап-тр
	енинг мы ЗАКА
	НЧИВАЕМ ПРИНИМ
	АТЬ 15 Сентябр
	я (после мы фор
	мируем групп
	у участников
	\, арендуем ау
	диторию и у в
	ас не будет 
	возможности
	 участвовать в этом 
	тренинге).Заявки мы принимаем по те
	лефону/смс 8(968)825-26-77\n\n\n\n	 \n\
	n\n\n	БОЛЬШЕ ИНФОРМАЦИИ О КЛУ
	БНОМ ПИКАП-ТРЕНИНГЕ НА САЙТЕ: \n\n\n\n	https://ww
	w.pickup.ru/trainings/event/145\n\n
DTSTART:20250919T170000Z
DTEND:20250919T200000Z
END:VEVENT
END:VCALENDAR
