BEGIN:VCALENDAR
VERSION:2.0
PRODID:-//InvisionCommunity Events 4.7.22//EN
METHOD:PUBLISH
CALSCALE:GREGORIAN
REFRESH-INTERVAL:PT15M
X-PUBLISHED-TTL:PT15M
X-WR-CALNAME:Community Calendar
NAME:Community Calendar
BEGIN:VTIMEZONE
TZID:Europe/London
TZURL:http://tzurl.org/zoneinfo/Europe/London
X-LIC-LOCATION:Europe/London
BEGIN:DAYLIGHT
TZOFFSETFROM:+0000
TZOFFSETTO:+0100
TZNAME:BST
DTSTART:20170326T020000Z
RRULE:FREQ=YEARLY;BYMONTH=3;BYDAY=-1SU
END:DAYLIGHT
BEGIN:STANDARD
TZOFFSETFROM:+0100
TZOFFSETTO:+0000
TZNAME:GMT
DTSTART:20171029T020000Z
RRULE:FREQ=YEARLY;BYMONTH=10;BYDAY=-1SU
END:STANDARD
END:VTIMEZONE
BEGIN:VEVENT
SUMMARY:БЕСПЛАТНЫЙ МАСТЕР-КЛАСС во ВТОРН
	ИК
DTSTAMP:20170824T224738Z
SEQUENCE:0
UID:28-1-076337ae2c0f75aa10766e7ad1ee0148@forum.pickup.ru
ORGANIZER;CN="Paraman":webmaster@pickup.ru
DESCRIPTION:\n\n	Привет\, форумча
	не!\n\n\n\n	Приглаш
	аю всех желающих парн
	ей и мужчин на бесплатны
	й Мастер-класс.\n\n\n\n	
	\"Что я там узнаю нового\,
	 ведь я такой начитанны
	й\" - спросишь ты.\n\n\n\
	n	Это не правиль
	ный вопрос\, 
	так как жизнь м
	еняется. Меняют
	ся и способы соблаз
	нения девушек\, я у
	же не говорю о нов
	ых \"фишках\" в 
	соблазнении.
	 Только парни\,
	 которые регу
	лярно знакомят
	ся и ходят на 
	свидания\, знают
	 все новые спосо
	бы. По счастливо
	му совпадению\, 
	они же и наши тренеры 
	и саппорты\, которые бу
	дут на Мастер-классе.\n\n\n\n	П
	риходи 29го Августа\, в
	о вторник\, в 19-30 
	на Мастер-кл
	асс и мы об
	язательно поделимс
	я с тобой всеми новы
	ми трендами в собл
	азнении.\n\n\n\n	Вот
	 ссылка для регистрации на бес
	платный Мастер-класс: https://pickup-ru-events.timepad.
	ru/event/559413/\n\n\n\n	Поспеши з
	арегистрироваться\, так как мест в зале 
	всего 20!\n\n
DTSTART:20170829T163000Z
DTEND:20170829T183000Z
END:VEVENT
END:VCALENDAR
