BEGIN:VCALENDAR
VERSION:2.0
PRODID:-//InvisionCommunity Events 4.7.22//EN
METHOD:PUBLISH
CALSCALE:GREGORIAN
REFRESH-INTERVAL:PT15M
X-PUBLISHED-TTL:PT15M
X-WR-CALNAME:Community Calendar
NAME:Community Calendar
BEGIN:VTIMEZONE
TZID:Europe/London
TZURL:http://tzurl.org/zoneinfo/Europe/London
X-LIC-LOCATION:Europe/London
BEGIN:DAYLIGHT
TZOFFSETFROM:+0000
TZOFFSETTO:+0100
TZNAME:BST
DTSTART:20250330T020000Z
RRULE:FREQ=YEARLY;BYMONTH=3;BYDAY=-1SU
END:DAYLIGHT
BEGIN:STANDARD
TZOFFSETFROM:+0100
TZOFFSETTO:+0000
TZNAME:GMT
DTSTART:20251026T020000Z
RRULE:FREQ=YEARLY;BYMONTH=10;BYDAY=-1SU
END:STANDARD
END:VTIMEZONE
BEGIN:VEVENT
SUMMARY:ЖИВОЙ беспл
	атный МАСТЕР-КЛАСС - \"Как познак
	омиться с девушкой?\"
DTSTAMP:20250729T122110Z
SEQUENCE:0
UID:280-1-076337ae2c0f75aa10766e7ad1ee0148@forum.pickup.ru
ORGANIZER;CN="Paraman":webmaster@pickup.ru
DESCRIPTION:\n\n	14 АВГУСТА - ЖИ
	ВОЙ бесплатный МАСТЕР-К
	ЛАСС - \"Как познакомиться
	 с девушкой?\"\n\n\n\n	Прив
	ет\, дорогой дру
	г!Не важно\, пр
	оходил ты у нас
	 тренинг или т
	олько собираешь
	ся это сделать.Дел
	о в том\, что Собла
	знение девушек - 
	это такая штука\
	, которая не стоит
	 на месте\, а пос
	тоянно развив
	ается.Для того\
	, что ты сделал 
	свои первые 
	шаги в соблаз
	нении и в даль
	нейшем был в т
	еме последних т
	енденций\, работ
	ающих техник и се
	кретных \"фишек\"
	 по пикапу.В б
	лижайшее время
	\, мы проводим д
	ля тебя бесплат
	ный Мастер-класс
	\, на котором мы
	 сделаем всё 
	возможное\, 
	чтобы ты н
	ачал знако
	миться и с
	облазнять 
	девушек.ЧТ
	О ТАКОЕ БЕСП
	ЛАТНЫЙ МАСТЕ
	Р-КЛАСС?Это 
	концентрат и
	з самых основ
	ных тем по з
	накомству и
	 соблазнению
	 девушек\, к
	оторые те
	бе расскаж
	ет опытный
	 тренер.ДЛ
	Я КОГО ПРО
	ВОДИТСЯ БЕСП
	ЛАТНЫЙ МАСТЕ
	Р-КЛАСС?Масте
	р-класс прово
	дится для все
	х мужчин\, к
	оторые хотят
	 улучшить свои
	 навыки знако
	мства и собла
	знения девушек
	.- Если у тебя н
	ет опыта прохо
	ждения пикап-тр
	енингов\, тогда т
	ы узнаешь много 
	нового.- Если 
	ты уже проходи
	л тренинги\, 
	тогда тебе б
	удет полезно 
	обновить сво
	и знания\, п
	ознакомитьс
	я с тренером
	 и задать е
	му более п
	родвинутые
	 вопросы.В Ч
	ЁМ ПРЕИМУЩЕСТВ
	О НАШЕГО БЕСПЛА
	ТНОГО МАСТЕР-КЛ
	АССА?Мы не стои
	м на месте\, а 
	развиваемся
	 и внедряем 
	новые спосо
	бы и фишки п
	о знакомст
	ву и собла
	знению дев
	ушек.СКОЛЬКО
	 ПО ВРЕМЕНИ Д
	ЛИТСЯ БЕСПЛА
	ТНЫЙ МАСТЕР-
	КЛАСС?Мастер
	-класс идёт 2 
	часа.СКОЛЬКО 
	СТОИТ БЕСПЛАТ
	НЫЙ МАСТЕР-КЛА
	СС?Мастер-класс
	 не стоит денег\
	, зато сильно 
	сэкономит тв
	оё время\, к
	оторое ты 
	бы потрат
	ил на само
	стоятельно
	е изучение
	 темы знако
	мства и соб
	лазнения д
	евушек.КАК 
	ПОПАСТЬ НА 
	БЕСПЛАТНЫЙ
	 МАСТЕР-КЛАС
	С?Заявки на Бе
	сплатный Маст
	ер-Класс мы ЗА
	КАНЧИВАЕМ ПРИН
	ИМАТЬ 10 Авгус
	та (после мы фо
	рмируем групп
	у участников\
	, арендуем ауд
	иторию и у в
	ас уже не б
	удет возмо
	жности учас
	твовать в этом меропр
	иятии)Заявки мы принимаем п
	о телефону/смс 8(968)825-26-77 или через сайт -\n\
	n\n\n	https://pickup-ru-events.timepad.ru/event/3466839/?utm_source=For\n\
	n
DTSTART:20250814T170000Z
DTEND:20250814T190000Z
END:VEVENT
END:VCALENDAR
