BEGIN:VCALENDAR
VERSION:2.0
PRODID:-//InvisionCommunity Events 4.7.22//EN
METHOD:PUBLISH
CALSCALE:GREGORIAN
REFRESH-INTERVAL:PT15M
X-PUBLISHED-TTL:PT15M
X-WR-CALNAME:Community Calendar
NAME:Community Calendar
BEGIN:VTIMEZONE
TZID:Europe/London
TZURL:http://tzurl.org/zoneinfo/Europe/London
X-LIC-LOCATION:Europe/London
BEGIN:DAYLIGHT
TZOFFSETFROM:+0000
TZOFFSETTO:+0100
TZNAME:BST
DTSTART:20250330T020000Z
RRULE:FREQ=YEARLY;BYMONTH=3;BYDAY=-1SU
END:DAYLIGHT
BEGIN:STANDARD
TZOFFSETFROM:+0100
TZOFFSETTO:+0000
TZNAME:GMT
DTSTART:20251026T020000Z
RRULE:FREQ=YEARLY;BYMONTH=10;BYDAY=-1SU
END:STANDARD
END:VTIMEZONE
BEGIN:VEVENT
SUMMARY:ЖИВОЙ беспл
	атный МАСТЕР-КЛАСС - \"Как познак
	омиться с девушкой?\"
DTSTAMP:20251023T162639Z
SEQUENCE:0
UID:283-1-076337ae2c0f75aa10766e7ad1ee0148@forum.pickup.ru
ORGANIZER;CN="Paraman":webmaster@pickup.ru
DESCRIPTION:\n	19 Ноября - ЖИВ
	ОЙ бесплатный МАСТЕР-КЛ
	АСС - \"Как познакомиться с 
	девушкой?\"\n\n\n\n	Привет\,
	 дорогой друг!\n	
	Не важно\, прохо
	дил ты у нас тренинг 
	или только собираешьс
	я это сделать.\n\n\n\n	Д
	ело в том\, что Со
	блазнение девушек
	 - это такая штука\
	, которая не стоит на мес
	те\, а постоянно развив
	ается.\n\n\n\n	Для того
	\, что ты сделал 
	свои первые 
	шаги в соблаз
	нении и в даль
	нейшем был в т
	еме последних т
	енденций\, работающих те
	хник и секретных \"фишек\
	" по пикапу.\n\n\n\n	В 
	ближайшее врем
	я\, мы проводим 
	для тебя беспла
	тный Мастер-клас
	с\, на котором м
	ы сделаем всё
	 возможное\, чтобы ты н
	ачал знакомиться и соблаз
	нять девушек.\n\n\n\n	 \n\n\n
	\n	ЧТО ТАКОЕ БЕС
	ПЛАТНЫЙ МАСТЕ
	Р-КЛАСС?\n	Это
	 концентрат и
	з самых основ
	ных тем по з
	накомству и с
	облазнению девушек\, ко
	торые тебе расскажет опыт
	ный тренер.\n\n\n\n	 \n\n\
	n\n	ДЛЯ КОГО ПР
	ОВОДИТСЯ БЕС
	ПЛАТНЫЙ МАСТЕР-
	КЛАСС?\n	Мастер
	-класс провод
	ится для всех
	 мужчин\, ко
	торые хотят ул
	учшить свои навы
	ки знакомства и
	 соблазнения де
	вушек.\n	- Если у 
	тебя нет опы
	та прохождения пи
	кап-тренингов\, то
	гда ты узнаешь мно
	го нового.\n	- Есл
	и ты уже прох
	одил тренинги
	\, тогда тебе 
	будет полезн
	о обновить св
	ои знания\, 
	познакомиться с тр
	енером и задать ему более п
	родвинутые вопросы.\n\n\
	n\n	 \n\n\n\n	В ЧЁМ ПРЕИ
	МУЩЕСТВО НАШЕГО 
	БЕСПЛАТНОГО МАСТ
	ЕР-КЛАССА?\n	Мы н
	е стоим на мест
	е\, а развивае
	мся и внедряе
	м новые способы и фишки
	 по знакомству и соблазнен
	ию девушек.\n\n\n\n	 \n\n\
	n\n	СКОЛЬКО ПО В
	РЕМЕНИ ДЛИТСЯ БЕСПЛАТН
	ЫЙ МАСТЕР-КЛАСС?\n	Мастер-класс
	 идёт 2 часа.\n\n\n\n	 \n\n\n\n
		СКОЛЬКО СТОИТ Б
	ЕСПЛАТНЫЙ МАСТЕ
	Р-КЛАСС?\n	Мастер
	-класс не стоит д
	енег\, зато сил
	ьно сэкономи
	т твоё время\
	, которое ты
	 бы потрат
	ил на самостоя
	тельное изучение темы зна
	комства и соблазнения дев
	ушек.\n\n\n\n	 \n\n\n\n	КАК ПОПАСТ
	Ь НА БЕСПЛАТНЫЙ МАС
	ТЕР-КЛАСС?\n\n\n\n	Зая
	вки на Бесплатн
	ый Мастер-Класс
	 мы принимаем ДО
	 15 Ноября (после
	 мы формируем г
	руппу участни
	ков\, арендуем
	 аудиторию и
	 у вас уже не будет в
	озможности участвовать в 
	этом мероприятии)\n\n\n\n	 \
	n\n\n\n	Заявки мы принимаем по т
	елефону/смс 8(968)825-26-77 или через сайт -\n\n\n\
	n	 \n\n\n\n	&gt\;&gt\;&gt\;ЗАПИСАТЬСЯ НА МАСТЕР-КЛА
	СС&lt\;&lt\;&lt\;\n\n
DTSTART:20251119T170000Z
END:VEVENT
END:VCALENDAR
