BEGIN:VCALENDAR
VERSION:2.0
PRODID:-//InvisionCommunity Events 4.7.22//EN
METHOD:PUBLISH
CALSCALE:GREGORIAN
REFRESH-INTERVAL:PT15M
X-PUBLISHED-TTL:PT15M
X-WR-CALNAME:Community Calendar
NAME:Community Calendar
BEGIN:VTIMEZONE
TZID:Europe/London
TZURL:http://tzurl.org/zoneinfo/Europe/London
X-LIC-LOCATION:Europe/London
BEGIN:DAYLIGHT
TZOFFSETFROM:+0000
TZOFFSETTO:+0100
TZNAME:BST
DTSTART:20250330T020000Z
RRULE:FREQ=YEARLY;BYMONTH=3;BYDAY=-1SU
END:DAYLIGHT
BEGIN:STANDARD
TZOFFSETFROM:+0100
TZOFFSETTO:+0000
TZNAME:GMT
DTSTART:20251026T020000Z
RRULE:FREQ=YEARLY;BYMONTH=10;BYDAY=-1SU
END:STANDARD
END:VTIMEZONE
BEGIN:VEVENT
SUMMARY:БАЗОВЫЙ ПИКАП-ТРЕНИНГ - 28-29-30 Но
	ября - 10 000р.
DTSTAMP:20251023T163059Z
SEQUENCE:0
UID:284-1-076337ae2c0f75aa10766e7ad1ee0148@forum.pickup.ru
ORGANIZER;CN="Paraman":webmaster@pickup.ru
DESCRIPTION:\n	БАЗОВЫЙ ПИКАП-ТРЕНИНГ - 28-29-3
	0 Ноября\n\n\n\n	 \n\n\n\n	Т
	ренинг включа
	ет в себя как 
	полезную теори
	ю в аудитории\, т
	ак и практическу
	ю отработку заданий \
	"в полях\" на независимых
	 девушках.\n\n\n\n	РАСПИСАНИЕ
	 ЗАНЯТИЙ:\n	1- Пятница с
	 19-00 до выполнения всех пра
	ктических заданий.\n	2- Суббота с 11
	-00 до 16-00\n	3- Воскресенье с 11-00 до 1
	6-00\n\n\n\n	ЧТО БУДЕТ НА ТРЕ
	НИНГЕ ЕСЛИ ТЫ В 1й Р
	АЗ:\n	- Основы знакомс
	тва на улицах\, в
	 торговых цент
	рах Москвы\;\n	-
	 Знакомство с ха
	ризматичный тре
	нером-легендой -
	 Кириллом Бендер
	ом\;\n	- Проста
	я для освоени
	я программа п
	о знакомству
	 и соблазнению 
	девушек\, кото
	рую мы препо
	даём в лёгк
	ой игровой 
	форме\, опт
	имальной для 
	запоминания первичных
	 приёмов для знакомства
	 с девушками\;\n	 \n\n\
	n\n	Из отзыва одн
	ого из выпускн
	иков Базового 
	пикап-тренинга: 
	\"Это не просто 
	тренинг по зна
	комствам и со
	блазнению\, 
	а весёлое\, к
	рышесносное
	\, эмоционал
	ьное приключе
	ние выходного дня\, ко
	торое хочется повтор
	ить снова и снова\"\n\n\n\n	Ч
	ТО БУДЕТ НА ТРЕНИНГЕ 
	ЕСЛИ ты НЕ в 1й раз:
	\n	- Более прод
	винутые спос
	обы\, фишки по 
	знакомству и со
	блазнению девуш
	ек и более сложные
	 задания\;\n	- П
	озволение се
	бе побыть ра
	з в месяц в
	 компании 
	профессиона
	лов-пикаперо
	в\, зарядка п
	озитивным на
	строением и
	 мотивацией\,
	 набор конта
	ктов девуше
	к на месяц д
	ля экспери
	ментов над 
	ними и дом
	ашнее зада
	ние персона
	льно от Кирилла Бенд
	ера до следующего Базо
	вого пикап-тренинга\;\n	
	 \n\n\n\n	За годы наше
	й деятельности
	\, мы выявили\,
	 что такая л
	ёгкая систе
	ма обучения
	 по принципу
	 кратко-досту
	пно-регулярно\,
	 даёт хорошие 
	результаты наш
	им участникам\, 
	не надоедает
	\, держит в тонусе и
	 не отвлекает от ос
	новной жизнедеятельности\n\
	n\n\n	УСЛОВИЯ:\n	Стоимость участия - 
	10 000р. - за 3 дня тренинга\;\n
	\n\n\n	КАК ЗАПИСАТЬСЯ
	:\n	Заявки на БАЗОВ
	ЫЙ пикап-тренин
	г мы принимаем Д
	О 24 Ноября (пос
	ле мы формируе
	м группу учас
	тников\, арен
	дуем аудиторию
	 и у вас не будет воз
	можности участвоват
	ь в этом тренинге).\n\n\n\n	За
	явки мы принимаем по телефону/см
	с 8(968)825-26-77\n\n\n\n	БОЛЕЕ
	 ПОДРОБНАЯ ИНФОРМАЦИЯ О БАЗОВОМ ПИ
	КАП-ТРЕНИНГЕ:\n\n\n\n	https://www.pickup.ru/content/579\n\n
DTSTART:20251128T160000Z
END:VEVENT
END:VCALENDAR
