BEGIN:VCALENDAR
VERSION:2.0
PRODID:-//InvisionCommunity Events 4.7.22//EN
METHOD:PUBLISH
CALSCALE:GREGORIAN
REFRESH-INTERVAL:PT15M
X-PUBLISHED-TTL:PT15M
X-WR-CALNAME:Community Calendar
NAME:Community Calendar
BEGIN:VTIMEZONE
TZID:Europe/London
TZURL:http://tzurl.org/zoneinfo/Europe/London
X-LIC-LOCATION:Europe/London
BEGIN:DAYLIGHT
TZOFFSETFROM:+0000
TZOFFSETTO:+0100
TZNAME:BST
DTSTART:20260329T020000Z
RRULE:FREQ=YEARLY;BYMONTH=3;BYDAY=-1SU
END:DAYLIGHT
BEGIN:STANDARD
TZOFFSETFROM:+0100
TZOFFSETTO:+0000
TZNAME:GMT
DTSTART:20261025T020000Z
RRULE:FREQ=YEARLY;BYMONTH=10;BYDAY=-1SU
END:STANDARD
END:VTIMEZONE
BEGIN:VEVENT
SUMMARY:ЖИВОЙ беспл
	атный МАСТЕР-КЛАСС - \"Как познак
	омиться с девушкой?\"
DTSTAMP:20251201T180427Z
SEQUENCE:0
UID:286-1-076337ae2c0f75aa10766e7ad1ee0148@forum.pickup.ru
ORGANIZER;CN="Paraman":webmaster@pickup.ru
DESCRIPTION:\n	20 Января - ЖИВ
	ОЙ бесплатный МАСТЕР-КЛАС
	С - \"Как познакомиться с девушко
	й?\"\n\n\n\n	 \n\n\n\n	Привет\, доро
	гой друг!\n	Не ва
	жно\, проходил ты у 
	нас тренинг или только
	 собираешься это сделат
	ь.\n\n\n\n	Дело в том\, ч
	то Соблазнение дев
	ушек - это такая 
	штука\, которая не стои
	т на месте\, а постоянно
	 развивается.\n\n\n\n	
	Для того\, что 
	ты сделал сво
	и первые шаги
	 в соблазнении
	 и в дальнейше
	м был в теме пос
	ледних тенденций\, р
	аботающих техник и сек
	ретных \"фишек\" по пикап
	у.\n\n\n\n	В ближайше
	е время\, мы про
	водим для теб
	я бесплатный Ма
	стер-класс\, на
	 котором мы с
	делаем всё возм
	ожное\, чтобы ты начал знак
	омиться и соблазнять деву
	шек.\n\n\n\n	 \n\n\n\n	ЧТО Т
	АКОЕ БЕСПЛАТНЫ
	Й МАСТЕР-КЛАСС?
	\n	Это концен
	трат из самых
	 основных те
	м по знакомс
	тву и соблазнению д
	евушек\, которые тебе расск
	ажет опытный тренер.\n\n\
	n\n	 \n\n\n\n	ДЛЯ КОГО П
	РОВОДИТСЯ БЕ
	СПЛАТНЫЙ МАСТЕ
	Р-КЛАСС?\n	Маст
	ер-класс пров
	одится для вс
	ех мужчин\, 
	которые хотят 
	улучшить свои н
	авыки знакомств
	а и соблазнения 
	девушек.\n	- Если 
	у тебя нет оп
	ыта прохождения п
	икап-тренингов\, т
	огда ты узнаешь мн
	ого нового.\n	- Ес
	ли ты уже про
	ходил тренинг
	и\, тогда тебе
	 будет полезн
	о обновить св
	ои знания\, 
	познакомиться с тр
	енером и задать ему более п
	родвинутые вопросы.\n\n\
	n\n	 \n\n\n\n	В ЧЁМ ПРЕИ
	МУЩЕСТВО НАШЕГО 
	БЕСПЛАТНОГО МАСТ
	ЕР-КЛАССА?\n	Мы н
	е стоим на мест
	е\, а развивае
	мся и внедряе
	м новые способы и фишки
	 по знакомству и соблазнен
	ию девушек.\n\n\n\n	 \n\n\
	n\n	СКОЛЬКО ПО В
	РЕМЕНИ ДЛИТСЯ БЕСПЛАТН
	ЫЙ МАСТЕР-КЛАСС?\n	Мастер-класс
	 идёт 2 часа.\n\n\n\n	 \n\n\n\n
		СКОЛЬКО СТОИТ Б
	ЕСПЛАТНЫЙ МАСТЕ
	Р-КЛАСС?\n	Мастер
	-класс не стоит д
	енег\, зато сил
	ьно сэкономи
	т твоё время\
	, которое ты
	 бы потрат
	ил на самостоя
	тельное изучение темы зна
	комства и соблазнения дев
	ушек.\n\n\n\n	 \n\n\n\n	КАК ПОПАСТ
	Ь НА БЕСПЛАТНЫЙ МАС
	ТЕР-КЛАСС?\n\n\n\n	Зая
	вки на Бесплатн
	ый Мастер-Класс
	 мы принимаем ДО
	 16 Января (после
	 мы формируем г
	руппу участни
	ков\, арендуем
	 аудиторию и
	 у вас уже не будет в
	озможности участвовать в 
	этом мероприятии)\n\n\n\n	 \
	n\n\n\n	Заявки мы принимаем по т
	елефону/смс 8(968)825-26-77 или через сайт -\n
	\n\n\n	&gt\;&gt\;&gt\;ЗАПИСАТЬСЯ на Мастер-Класс&lt
	\;&lt\;&lt\;\n\n
DTSTART:20260120T170000Z
DTEND:20260120T190000Z
END:VEVENT
END:VCALENDAR
