BEGIN:VCALENDAR
VERSION:2.0
PRODID:-//InvisionCommunity Events 4.7.22//EN
METHOD:PUBLISH
CALSCALE:GREGORIAN
REFRESH-INTERVAL:PT15M
X-PUBLISHED-TTL:PT15M
X-WR-CALNAME:Community Calendar
NAME:Community Calendar
BEGIN:VTIMEZONE
TZID:Europe/London
TZURL:http://tzurl.org/zoneinfo/Europe/London
X-LIC-LOCATION:Europe/London
BEGIN:DAYLIGHT
TZOFFSETFROM:+0000
TZOFFSETTO:+0100
TZNAME:BST
DTSTART:20170326T020000Z
RRULE:FREQ=YEARLY;BYMONTH=3;BYDAY=-1SU
END:DAYLIGHT
BEGIN:STANDARD
TZOFFSETFROM:+0100
TZOFFSETTO:+0000
TZNAME:GMT
DTSTART:20171029T020000Z
RRULE:FREQ=YEARLY;BYMONTH=10;BYDAY=-1SU
END:STANDARD
END:VTIMEZONE
BEGIN:VEVENT
SUMMARY:БЕСПЛАТНЫЙ МАСТЕР-КЛАСС по ЗНАКО
	МСТВАМ В МОСКВЕ
DTSTAMP:20170906T184740Z
SEQUENCE:0
UID:29-1-076337ae2c0f75aa10766e7ad1ee0148@forum.pickup.ru
ORGANIZER;CN="Paraman":webmaster@pickup.ru
DESCRIPTION:\n\n	Привет\, форумчани
	н!\n\n\n\n	Не важно пр
	оходил ты у на
	с тренинг или т
	олько думаешь на
	д этим\, но соблаз
	нение девушек - эт
	о такая штука\, котор
	ая не стоит на месте\, а 
	постоянно развивается
	.\n\n\n\n	Для того\, что
	 ты был в теме 
	последних тенденц
	ий\, работающих тех
	ник и секретных \
	"фишек\" в пикапе\, мы п
	роводим для тебя бе
	сплатный Мастер-кла
	сс.\n\n\n\n	Переход
	и по ссылке и узнай бол
	ее подробную информацию о мероприятии\n\n
	\n\n	https://pickup-ru-events.timepad.ru/event/569138/\n\n\n\n	До
	 встречи на бесплатном Мастер-классе!\n\n
DTSTART:20170913T163000Z
DTEND:20170913T190000Z
END:VEVENT
END:VCALENDAR
