BEGIN:VCALENDAR
VERSION:2.0
PRODID:-//InvisionCommunity Events 4.7.22//EN
METHOD:PUBLISH
CALSCALE:GREGORIAN
REFRESH-INTERVAL:PT15M
X-PUBLISHED-TTL:PT15M
X-WR-CALNAME:Community Calendar
NAME:Community Calendar
BEGIN:VTIMEZONE
TZID:Europe/London
TZURL:http://tzurl.org/zoneinfo/Europe/London
X-LIC-LOCATION:Europe/London
BEGIN:DAYLIGHT
TZOFFSETFROM:+0000
TZOFFSETTO:+0100
TZNAME:BST
DTSTART:20260329T020000Z
RRULE:FREQ=YEARLY;BYMONTH=3;BYDAY=-1SU
END:DAYLIGHT
BEGIN:STANDARD
TZOFFSETFROM:+0100
TZOFFSETTO:+0000
TZNAME:GMT
DTSTART:20261025T020000Z
RRULE:FREQ=YEARLY;BYMONTH=10;BYDAY=-1SU
END:STANDARD
END:VTIMEZONE
BEGIN:VEVENT
SUMMARY:ЖИВОЙ беспл
	атный МАСТЕР-КЛАСС - \"Как познак
	омиться с девушкой?\"
DTSTAMP:20260415T122306Z
SEQUENCE:0
UID:293-1-076337ae2c0f75aa10766e7ad1ee0148@forum.pickup.ru
ORGANIZER;CN="Paraman":webmaster@pickup.ru
DESCRIPTION:\n	14 Июля - живой
	 бесплатный МАСТЕР-КЛАС
	С - \"Как познакомиться с дев
	ушкой?\"\n\n\n\n	Привет\, до
	рогой друг!\n	Не 
	важно\, проходил т
	ы у нас тренинг или тол
	ько собираешься это с
	делать.\n\n\n\n	Дело в то
	м\, что Соблазнени
	е девушек - это та
	кая штука\, которая не 
	стоит на месте\, а пост
	оянно развивается.\n\n
	\n\n	Для того\, что
	 ты сделал сво
	и первые шаги
	 в соблазнении
	 и в дальнейше
	м был в теме пос
	ледних тенденций\, р
	аботающих техник и сек
	ретных \"фишек\" по пика
	пу.\n\n\n\n	В ближайшее
	 время\, мы пров
	одим бесплатны
	й Мастер-класс\,
	 на котором мы
	 сделаем всё в
	озможное\, чтобы ты 
	начал знакомиться
	 и соблазнять девушек.
	\n\n\n\n	ЧТО ТАКОЕ БЕ
	СПЛАТНЫЙ МАСТ
	ЕР-КЛАСС?\n	Эт
	о концентр
	ат из самых о
	сновных тема
	тик по знако
	мству и соблазне
	нию девушек\, о котор
	ых тебе расскажет 
	опытный тренер.\n\n\
	n\n	ДЛЯ КОГО ПР
	ОВОДИТСЯ БЕС
	ПЛАТНЫЙ МАСТЕР-
	КЛАСС?\n	Мастер
	-класс провод
	ится для всех
	 мужчин\, ко
	торые хотят ул
	учшить свои навы
	ки знакомства и
	 соблазнения де
	вушек.\n	- Если у 
	тебя нет опы
	та прохождения пи
	кап-тренингов\, то
	гда ты узнаешь мно
	го нового.\n	- Есл
	и ты уже прох
	одил тренинги
	\, тогда тебе 
	будет полезн
	о обновить св
	ои знания\, 
	познакомиться с тр
	енером и задать ему
	 более продвинутые
	 вопросы.\n\n\n\n	В Ч
	ЁМ ПРЕИМУЩЕСТВО
	 НАШЕГО БЕСПЛАТНО
	ГО МАСТЕР-КЛАССА?\
	n	Мы не стоим на 
	месте\, а разв
	иваемся и в
	недряем новые спос
	обы и фишки по знак
	омству и соблазне
	нию девушек.\n\n\n\n	
	СКОЛЬКО ПО ВРЕМ
	ЕНИ ДЛИТСЯ БЕСПЛАТНЫЙ М
	АСТЕР-КЛАСС?\n	Мастер-к
	ласс идёт 2 часа.\n\n\n
	\n	СКОЛЬКО СТОИТ Б
	ЕСПЛАТНЫЙ МАСТЕ
	Р-КЛАСС?\n	Мастер
	-класс не стоит д
	енег\, зато сил
	ьно сэкономи
	т твоё время\
	, которое ты
	 бы потрат
	ил на самостоя
	тельное изучение 
	темы знакомства и 
	соблазнения девушек.\n\
	n\n\n	КАК ПОПАСТЬ НА БЕ
	СПЛАТНЫЙ МАСТЕР-КЛ
	АСС?\n\n\n\n	Заявки на 
	Бесплатный Мас
	тер-Класс мы прин
	имаем ДО 10 Июл
	я (после мы фор
	мируем группу
	 участников\,
	 арендуем ауд
	иторию и у теб
	я уже не будет возм
	ожности участвовать
	 в этом мероприятии).\n\n\n\
	n	Заявки мы принимаем по телефо
	ну/смс 8(968)825-26-77 или через сайт - https://pickup-r
	u-events.timepad.ru/event/3926137/?utm_source=FoR\n\n
DTSTART:20260714T170000Z
DTEND:20260714T190000Z
END:VEVENT
END:VCALENDAR
