BEGIN:VCALENDAR
VERSION:2.0
PRODID:-//InvisionCommunity Events 4.7.22//EN
METHOD:PUBLISH
CALSCALE:GREGORIAN
REFRESH-INTERVAL:PT15M
X-PUBLISHED-TTL:PT15M
X-WR-CALNAME:Community Calendar
NAME:Community Calendar
BEGIN:VTIMEZONE
TZID:Europe/London
TZURL:http://tzurl.org/zoneinfo/Europe/London
X-LIC-LOCATION:Europe/London
BEGIN:DAYLIGHT
TZOFFSETFROM:+0000
TZOFFSETTO:+0100
TZNAME:BST
DTSTART:20170326T020000Z
RRULE:FREQ=YEARLY;BYMONTH=3;BYDAY=-1SU
END:DAYLIGHT
BEGIN:STANDARD
TZOFFSETFROM:+0100
TZOFFSETTO:+0000
TZNAME:GMT
DTSTART:20171029T020000Z
RRULE:FREQ=YEARLY;BYMONTH=10;BYDAY=-1SU
END:STANDARD
END:VTIMEZONE
BEGIN:VEVENT
SUMMARY:МАСТЕРСКИЙ ПИКАП-ТРЕНИНГ. Тол
	ько для Выпускников!
DTSTAMP:20170906T190850Z
SEQUENCE:0
UID:30-1-076337ae2c0f75aa10766e7ad1ee0148@forum.pickup.ru
ORGANIZER;CN="Paraman":webmaster@pickup.ru
DESCRIPTION:\n\n	Привет\, мужчина!
	\n\n\n\n	Как успехи по
	сле прохождения \"Баз
	ового\" тренинга или Коучи
	нга?\n\n\n\n	Если все хоро
	шо\, то мы рады\,
	 что обучили
	 тебя на сов
	есть. Но на
	выки соблазне
	ния требуют да
	льнейшего развит
	ия. Если делать од
	но и тоже\, то со
	 временем это
	 надоест. Вот
	 поэтому мы 
	и запускаем
	 наш тренин
	г для дальнейшего 
	развития выпускник
	ов - Мастерский пика
	п-тренинг.\n\n\n\n
		Переходи п
	о ссылке и 
	ты узнаешь 
	более подробн
	ую информацию для к
	ого данный тренинг и что ты получиш
	ь\, пройдя его.\n\n\n\n	https://www.pickup.ru/trainings/event/11
	9\n\n\n\n	Если ты отно
	сишься к тем
	 выпускникам
	\, которые п
	о каким-либо
	 причинам ра
	стратили нав
	ык знакомства
	 и соблазнения
	 девушек\, но в
	се-равно хоче
	шь попасть н
	а Мастерский
	 пикап-трени
	нг. В таком 
	случае мы 
	рекомендуе
	м пройти н
	аш ближайш
	ий бесплатны
	й Мастер-клас
	с по знакомст
	ву и соблазне
	нию девушек 
	в Москве. На М
	астер-классе
	 наши тренеры
	 вернут тебе
	 уверенность
	 в себе и ты 
	будешь го
	тов для пр
	охождения
	 Мастерского
	 пикап-тренинг
	а. Бесплатный
	 Мастер-класс
	ы проводятся каждые 2 не
	дели\, отслеживай информа
	цию на сайте www.pickup.ru или в 
	событиях на пикап.Форуме.\n\n\n\
	n	До встречи на наших тренингах!\n\n\n
DTSTART:20170930T080000Z
DTEND:20170930T160000Z
END:VEVENT
END:VCALENDAR
