BEGIN:VCALENDAR
VERSION:2.0
PRODID:-//InvisionCommunity Events 4.7.22//EN
METHOD:PUBLISH
CALSCALE:GREGORIAN
REFRESH-INTERVAL:PT15M
X-PUBLISHED-TTL:PT15M
X-WR-CALNAME:Community Calendar
NAME:Community Calendar
BEGIN:VTIMEZONE
TZID:Europe/London
TZURL:http://tzurl.org/zoneinfo/Europe/London
X-LIC-LOCATION:Europe/London
BEGIN:DAYLIGHT
TZOFFSETFROM:+0000
TZOFFSETTO:+0100
TZNAME:BST
DTSTART:20170326T020000Z
RRULE:FREQ=YEARLY;BYMONTH=3;BYDAY=-1SU
END:DAYLIGHT
BEGIN:STANDARD
TZOFFSETFROM:+0100
TZOFFSETTO:+0000
TZNAME:GMT
DTSTART:20171029T020000Z
RRULE:FREQ=YEARLY;BYMONTH=10;BYDAY=-1SU
END:STANDARD
END:VTIMEZONE
BEGIN:VEVENT
SUMMARY:БЕСПЛАТНЫЙ МАСТЕР-К
	ЛАСС по соблазнению девушек в СРЕДУ
DTSTAMP:20170914T003149Z
SEQUENCE:0
UID:31-1-076337ae2c0f75aa10766e7ad1ee0148@forum.pickup.ru
ORGANIZER;CN="Paraman":webmaster@pickup.ru
DESCRIPTION:\n\n	Привет\, мужчина!\n
	\n\n\n	Не важно про
	ходил ты у на
	с тренинг ил
	и только дума
	ешь над этим. С
	облазнение деву
	шек - это такая
	 штука\, которая не сто
	ит на месте\, а постоянн
	о развивается.\n\n\n\n	
	Для того\, что 
	ты был в теме 
	последних тенден
	ций\, работающих т
	ехник и секретн
	ых \"фишек\" в пикап
	е\, мы проводим для 
	тебя бесплатный Ма
	стер-класс.\n\n\n\n
		Переходи п
	о ссылке и узнай бол
	ее подробную информацию о нашем меро
	приятии\n\n\n\n	https://pickup-ru-events.timepad.ru/event/573160/\n
	\n\n\n	До встречи на бесплатном Мастер-кл
	ассе!\n\n
DTSTART:20170927T163000Z
DTEND:20170927T190000Z
END:VEVENT
END:VCALENDAR
