BEGIN:VCALENDAR
VERSION:2.0
PRODID:-//InvisionCommunity Events 4.7.22//EN
METHOD:PUBLISH
CALSCALE:GREGORIAN
REFRESH-INTERVAL:PT15M
X-PUBLISHED-TTL:PT15M
X-WR-CALNAME:Community Calendar
NAME:Community Calendar
BEGIN:VTIMEZONE
TZID:Europe/London
TZURL:http://tzurl.org/zoneinfo/Europe/London
X-LIC-LOCATION:Europe/London
BEGIN:DAYLIGHT
TZOFFSETFROM:+0000
TZOFFSETTO:+0100
TZNAME:BST
DTSTART:20170326T020000Z
RRULE:FREQ=YEARLY;BYMONTH=3;BYDAY=-1SU
END:DAYLIGHT
BEGIN:STANDARD
TZOFFSETFROM:+0100
TZOFFSETTO:+0000
TZNAME:GMT
DTSTART:20171029T020000Z
RRULE:FREQ=YEARLY;BYMONTH=10;BYDAY=-1SU
END:STANDARD
END:VTIMEZONE
BEGIN:VEVENT
SUMMARY:[Бесплатный Мастер
	-класс] Проведи Среду вечер с пользой!
DTSTAMP:20170926T212707Z
SEQUENCE:0
UID:32-1-076337ae2c0f75aa10766e7ad1ee0148@forum.pickup.ru
ORGANIZER;CN="Paraman":webmaster@pickup.ru
DESCRIPTION:\n\n	Привет\, мужчина!\n
	\n\n\n	Не важно про
	ходил ты у на
	с тренинг ил
	и только дума
	ешь над этим. С
	облазнение деву
	шек - это такая
	 штука\, которая не сто
	ит на месте\, а постоянн
	о развивается.\n\n\n\n	
	Для того\, что 
	ты был в теме 
	последних тенденци
	й\, работающих техник и се
	кретных \"фишек\" пикапа.\n\n\n\
	n	В Среду 11 Октября\, 
	в 19-30\, мы пров
	одим для т
	ебя бесплатный Ма
	стер-класс по знак
	омству и соблазнени
	ю девушек.\n\n\n\n	
	Переходи п
	о ссылке и 
	узнай более подробн
	ую информацию об этом полезном мероп
	риятии.\n\n\n\n	https://pickup-ru-events.timepad.ru/event/580939/\n\
	n\n\n	До встречи на Мастер-классе!\n\n\n\n	\n\n
DTSTART:20171011T163000Z
DTEND:20171011T190000Z
END:VEVENT
END:VCALENDAR
