BEGIN:VCALENDAR
VERSION:2.0
PRODID:-//InvisionCommunity Events 4.7.22//EN
METHOD:PUBLISH
CALSCALE:GREGORIAN
REFRESH-INTERVAL:PT15M
X-PUBLISHED-TTL:PT15M
X-WR-CALNAME:Community Calendar
NAME:Community Calendar
BEGIN:VTIMEZONE
TZID:Europe/London
TZURL:http://tzurl.org/zoneinfo/Europe/London
X-LIC-LOCATION:Europe/London
BEGIN:DAYLIGHT
TZOFFSETFROM:+0000
TZOFFSETTO:+0100
TZNAME:BST
DTSTART:20170326T020000Z
RRULE:FREQ=YEARLY;BYMONTH=3;BYDAY=-1SU
END:DAYLIGHT
BEGIN:STANDARD
TZOFFSETFROM:+0100
TZOFFSETTO:+0000
TZNAME:GMT
DTSTART:20171029T020000Z
RRULE:FREQ=YEARLY;BYMONTH=10;BYDAY=-1SU
END:STANDARD
END:VTIMEZONE
BEGIN:VEVENT
SUMMARY:[Бесплатный 
	Мастер-класс] Как познаком
	иться с девушкой. 5 современных способов.
DTSTAMP:20171025T202430Z
SEQUENCE:0
UID:34-1-076337ae2c0f75aa10766e7ad1ee0148@forum.pickup.ru
ORGANIZER;CN="Paraman":webmaster@pickup.ru
DESCRIPTION:\n\n	Привет\, мужчина!\n\n
	\n\n	Не важно\, прох
	одил ты у нас 
	тренинг или 
	только думаешь
	 над этим\, собл
	азнение девушек
	 - это такая штук
	а\, которая не стоит на
	 месте\, а постоянно ра
	звивается.\n\n\n\n	Для
	 того\, что ты 
	был в теме пос
	ледних тенденций\
	, работающих техни
	к и секретных \"
	фишек\" в пикапе\
	, мы проводим для те
	бя живой бесплатны
	й Мастер-класс.\n\n
	\n\n	Переходи п
	о ссылке и ты узнае
	шь более подробную информацию о Ма
	стер-классе.\n\n\n\n	https://pickup-ru-events.timepad.ru/event/6
	00960/\n\n\n\n	До скорой встречи.\n\n\n
DTSTART:20171108T163000Z
DTEND:20171108T190000Z
END:VEVENT
END:VCALENDAR
