BEGIN:VCALENDAR
VERSION:2.0
PRODID:-//InvisionCommunity Events 4.7.22//EN
METHOD:PUBLISH
CALSCALE:GREGORIAN
REFRESH-INTERVAL:PT15M
X-PUBLISHED-TTL:PT15M
X-WR-CALNAME:Community Calendar
NAME:Community Calendar
BEGIN:VTIMEZONE
TZID:Europe/London
TZURL:http://tzurl.org/zoneinfo/Europe/London
X-LIC-LOCATION:Europe/London
BEGIN:DAYLIGHT
TZOFFSETFROM:+0000
TZOFFSETTO:+0100
TZNAME:BST
DTSTART:20170326T020000Z
RRULE:FREQ=YEARLY;BYMONTH=3;BYDAY=-1SU
END:DAYLIGHT
BEGIN:STANDARD
TZOFFSETFROM:+0100
TZOFFSETTO:+0000
TZNAME:GMT
DTSTART:20171029T020000Z
RRULE:FREQ=YEARLY;BYMONTH=10;BYDAY=-1SU
END:STANDARD
END:VTIMEZONE
BEGIN:VEVENT
SUMMARY:[Бесплатный
	 Мастер-класс] Сделай пе
	рвый шаг в знакомстве и соблазнении дев
	ушек!
DTSTAMP:20171108T203234Z
SEQUENCE:0
UID:35-1-076337ae2c0f75aa10766e7ad1ee0148@forum.pickup.ru
ORGANIZER;CN="Paraman":webmaster@pickup.ru
DESCRIPTION:\n\n	Привет\, дорогой др
	уг!\n\n\n\n	Не важно 
	проходил ты у
	 нас тренинг ил
	и только думаешь
	 над этим\, соблаз
	нение девушек - эт
	о такая штука\, котор
	ая не стоит на месте\, а 
	постоянно развивается
	.\n\n\n\n	Для того\, что
	 ты был в теме 
	последних тенденц
	ий\, работающих тех
	ник и секретных \
	"фишек\" в пикапе\, мы п
	роводим для тебя бе
	сплатный Мастер-кла
	сс.\n\n\n\n	Переход
	и по ссылке и узнай бол
	ее подробную информацию о мероприятии\n\n
	\n\n	https://pickup-ru-events.timepad.ru/event/609896/\n\n\n\n	PS: Е
	сли ты еще не был 
	ни на одном тре
	нинге\, все-р
	авно приход
	и\, многие п
	арни начин
	али свой дл
	инный путь ус
	пеха в соблаз
	нении девушек и
	менно с этого первого
	 шага - с бесплатного Мастер-класса!\n\n\n\
	n	До встречи.\n\n\n
DTSTART:20171122T163000Z
DTEND:20171122T190000Z
END:VEVENT
END:VCALENDAR
