BEGIN:VCALENDAR
VERSION:2.0
PRODID:-//InvisionCommunity Events 4.7.22//EN
METHOD:PUBLISH
CALSCALE:GREGORIAN
REFRESH-INTERVAL:PT15M
X-PUBLISHED-TTL:PT15M
X-WR-CALNAME:Community Calendar
NAME:Community Calendar
BEGIN:VTIMEZONE
TZID:Europe/London
TZURL:http://tzurl.org/zoneinfo/Europe/London
X-LIC-LOCATION:Europe/London
BEGIN:DAYLIGHT
TZOFFSETFROM:+0000
TZOFFSETTO:+0100
TZNAME:BST
DTSTART:20170326T020000Z
RRULE:FREQ=YEARLY;BYMONTH=3;BYDAY=-1SU
END:DAYLIGHT
BEGIN:STANDARD
TZOFFSETFROM:+0100
TZOFFSETTO:+0000
TZNAME:GMT
DTSTART:20171029T020000Z
RRULE:FREQ=YEARLY;BYMONTH=10;BYDAY=-1SU
END:STANDARD
END:VTIMEZONE
BEGIN:VEVENT
SUMMARY:[тренинг] пикап.Онлайн
DTSTAMP:20171122T225851Z
SEQUENCE:0
UID:36-1-076337ae2c0f75aa10766e7ad1ee0148@forum.pickup.ru
ORGANIZER;CN="Paraman":webmaster@pickup.ru
DESCRIPTION:\n\n	пикап.Онлайн\n
	\n	- это  2х не
	дельный т
	ренинг по эффе
	ктивным знакомствам 
	и соблазнению девушек
	 в интернете\n\n	 \n\n	9
	9% парней поль
	зуются сайтам
	и знакомств\,
	 но лишь нем
	ногие испол
	ьзуют их прав
	ильно. Мы научим
	 вытаскивать дево
	чек с сайтов знаком
	ств\, сразу\, на се
	кс\, в первую встреч
	у\, без проведения до
	лгих свиданий.\n\n	 \nЕщ
	е некоторые темы 
	тренинга:\n\n\n\n	Какие 
	сайты знакомств 
	наиболее эффективные\n\
	n\n\n	Как должна быть за
	полнена анкета\n\n\n\n	Как
	ие у тебя должны быт
	ь фото\n\n\n\n	Что н
	аписать девушке\, чт
	обы заинтересовать
	 с первой фразы\n\n\
	n\n	Как с ней переписы
	ваться после знакомст
	ва и до первой встречи\n
	\n\n\n	Что делать\, ес
	ли не хочешь\, чтобы т
	ебя все увидели на
	 сайте знакомств \
	n\n\n\n	Как не стать жерт
	вой мошенников на с
	айтах знакомств\n\n\
	n\n	Как иметь много деву
	шек и не тратить на
	 их поиски время\n\n\n\n	Как
	 превратить первое сви
	дание в \"зачёт\"\n\n\n\
	n	Как общаться с дин
	амщицой так\, чтобы п
	ереспать с ней без в
	ложений\n\n\n\n	Ита
	к много уже написал
	и\, другие интересные т
	емы раскроем на трени
	нге.\n\n\n\n	Тренер: Ники
	та\, гуру в онлайн
	-соблазнении\, 8
	 лет назад при
	думал уникаль
	ную методу\, а
	 сейчас ей делит
	ся. Методу быстр
	ого съёма девушек из и
	нтернета.\n\n	Отзывы и рекоменда
	ции на сайте www.pickup.ru\n\n	 \nДат
	ы занятий:\n\n	1е занятие - 09 декабря 
	с 12-00 до 16-00\n\n	2е занятие - 16 декабря с
	 12-00 до 16-00\n\n	3е занятие - 23 декабря с
	 12-00 до 14-00\n\n	Между занятиям
	и 2 недели поддержки о
	т Тренера!\n\n\n\n	Пере
	ходи по ссылке\, 
	заполни форму 
	на сайте\, мы
	 свяжемся с 
	тобой и уточн
	им оптимальный способ к
	ак забронировать место на тренинге\n\n	 htt
	ps://www.pickup.ru/trainings/event/146\n\n\n\n	 \n\n\n
DTSTART:20171209T090000Z
DTEND:20171209T130000Z
END:VEVENT
END:VCALENDAR
