BEGIN:VCALENDAR
VERSION:2.0
PRODID:-//InvisionCommunity Events 4.7.22//EN
METHOD:PUBLISH
CALSCALE:GREGORIAN
REFRESH-INTERVAL:PT15M
X-PUBLISHED-TTL:PT15M
X-WR-CALNAME:Community Calendar
NAME:Community Calendar
BEGIN:VTIMEZONE
TZID:Europe/London
TZURL:http://tzurl.org/zoneinfo/Europe/London
X-LIC-LOCATION:Europe/London
BEGIN:DAYLIGHT
TZOFFSETFROM:+0000
TZOFFSETTO:+0100
TZNAME:BST
DTSTART:20170326T020000Z
RRULE:FREQ=YEARLY;BYMONTH=3;BYDAY=-1SU
END:DAYLIGHT
BEGIN:STANDARD
TZOFFSETFROM:+0100
TZOFFSETTO:+0000
TZNAME:GMT
DTSTART:20171029T020000Z
RRULE:FREQ=YEARLY;BYMONTH=10;BYDAY=-1SU
END:STANDARD
END:VTIMEZONE
BEGIN:VEVENT
SUMMARY:[Бесплатный Ма
	стер-класс] Среда 19-30 Последний Мастер
	-класс в 2017 году !!!
DTSTAMP:20171203T010302Z
SEQUENCE:0
UID:37-1-076337ae2c0f75aa10766e7ad1ee0148@forum.pickup.ru
ORGANIZER;CN="Paraman":webmaster@pickup.ru
DESCRIPTION:\n\n	Привет\, мужчина!\n
	\n\n\n	Не важно про
	ходил ты у на
	с тренинг ил
	и только дума
	ешь над этим. С
	облазнение деву
	шек - это такая
	 штука\, которая не сто
	ит на месте\, а постоян
	но развивается.\n\n\n\
	n	Для того\, что
	 ты сделал с
	вои первые
	 шаги в собл
	азнении и в
	 дальнейше
	м был в теме п
	оследних тенденций\
	, работающих техник и се
	кретных \"фишек\" пикапа.\n\n\n
	\n	В Среду 13 Декабря\,
	 в 19-30\, мы пров
	одим для т
	ебя бесплатный Ма
	стер-класс по знак
	омству и соблазнени
	ю девушек.\n\n\n\n	
	Переходи по
	 ссылке и у
	знай более подроб
	ную информацию об этом полезном 
	полезном событии.\n\n\n\n	https://pickup-ru-events.timepad.
	ru/event/626409/\n\n\n\n	До встречи на Мастер-клас
	се!\n\n\n\n	 \n\n\n\n	\n\n
DTSTART:20171213T163000Z
DTEND:20171213T190000Z
END:VEVENT
END:VCALENDAR
