BEGIN:VCALENDAR
VERSION:2.0
PRODID:-//InvisionCommunity Events 4.7.22//EN
METHOD:PUBLISH
CALSCALE:GREGORIAN
REFRESH-INTERVAL:PT15M
X-PUBLISHED-TTL:PT15M
X-WR-CALNAME:Community Calendar
NAME:Community Calendar
BEGIN:VTIMEZONE
TZID:Europe/London
TZURL:http://tzurl.org/zoneinfo/Europe/London
X-LIC-LOCATION:Europe/London
BEGIN:DAYLIGHT
TZOFFSETFROM:+0000
TZOFFSETTO:+0100
TZNAME:BST
DTSTART:20180325T020000Z
RRULE:FREQ=YEARLY;BYMONTH=3;BYDAY=-1SU
END:DAYLIGHT
BEGIN:STANDARD
TZOFFSETFROM:+0100
TZOFFSETTO:+0000
TZNAME:GMT
DTSTART:20181028T020000Z
RRULE:FREQ=YEARLY;BYMONTH=10;BYDAY=-1SU
END:STANDARD
END:VTIMEZONE
BEGIN:VEVENT
SUMMARY:[тренинг] Праздничный пикап-Инте
	нсив
DTSTAMP:20171216T112657Z
SEQUENCE:0
UID:38-1-076337ae2c0f75aa10766e7ad1ee0148@forum.pickup.ru
ORGANIZER;CN="Paraman":webmaster@pickup.ru
DESCRIPTION:\n\n	Приветствую вас
	\, наши дорогие участ
	ники форума!\n\n\n\
	n	Для начала о
	т всего кол
	лектива компа
	нии Пикап.Ру хочу по
	здравить вас с нас
	тупающим Новым го
	дом!\n\n\n\n	Всем 
	мужчинам на
	шего форума х
	очу анонсиров
	ать наш нового
	дний тренинг -
	 пикап-Интенсив\,
	 который будет проходить 
	в праздничные дни с 2 по 8 Я
	нваря 2018 года.\n\n\n\n	Что та
	кое пикап-Интенсив?\
	n\n\n\n	Это наш ле
	гендарный Б
	азовый пикап-трен
	инг\, который будет пр
	оходить в праздничные дни с 
	2 по 8 Января 2018 года.\n\n
	\n\n	Вы получаете только
	 всё самое полезное и
	 приятное:\n\n\n\n	- 
	Прохождение
	 пикап-тренин
	га в праздничные дни\, 
	которые не нагружены
	 рабочими буднями.\n\n
	\n\n	- В праздники 
	девушки тоже о
	тдыхают\, поэто
	му они легче идут 
	на контакт и\, соотв
	етственно\, проще
	 соблазняются.\n\n\n\n	Ко
	гда будет проходить 
	пикап-Интенсив?\n\n\n
	\n	Это тренинг сос
	тоит из 6 заняти
	й\, которые включа
	ют в себя теорию
	 и практическую
	 работу \"в полях\" под к
	онтролем наших Тренеров
	 и Саппортов.\n\n\n\n	1 занятие - 2 Янва
	ря Вторник с 11-00 до 18-00\n\n	2 заня
	тие - 3 Января Среда с 11-00 до 
	18-00\n\n	3 занятие - 4 Января Четверг с 1
	1-00 до 18-00\n\n	4 занятие - 6 Января Субб
	ота с 11-00 до 18-00\n\n	5 занятие - 
	7 Января Воскресенье с 11-00
	 до 18-00\n\n	6 занятие - 8 Января Понеде
	льник с 11-00 до 18-00\n\n\n\n	Кто 
	будет вести пикап-Инт
	енсив?\n\n\n\n	Антон Ку
	знецов - пикап
	-тренер\, капит
	ан команды КВН\
	, автор метода
	 соблазнения д
	евушек юмором.\n
	Лера Луцкая - п
	икап-тренер-д
	евушка\, жен
	ское мнение н
	а тренинге и луч
	ший помощник в р
	аскрытии секрет
	ов \"женской лог
	ики\"\, которую ты част
	о будешь встречать 
	во время тренига.\
	n\n\n\n	Наши трен
	еры и саппор
	ты постоянно п
	рактикуют собл
	азнение\, поэт
	ому мы учим тол
	ько тем вещам\, которые 
	вы сможете применять 
	каждый день!\n\n	 \n\n\n\n	Ско
	лько стоит пикап-
	Интенсив?\n\n\n\n
		Сейчас на т
	ренинг дейст
	вует специальн
	ая новогодняя ц
	ена\, которую мож
	но узнать\, позв
	онив в наш офи
	с. Пожалуйста
	\, поспешите так к
	ак каждую недел
	ю цена тренинга
	 будет повышать
	ся на 30%\nДля 
	выпускни
	ков Базов
	ого пикап-тренин
	га и тренинга пикап.
	Коучинг предостовляется с
	кидка 50%\n\n\n\n	Вам остаётся
	 решиться и ...\n\n	1) 
	Провести праздники
	 в забвенье и пьяном уг
	аре\nИЛИ\n\n	2) Провес
	ти это время с пользо
	й\, в приятной компа
	нии и в окружении де
	вушек\n\n\n\n	Пере
	ходите по ссылк
	е\, звоните или 
	заполняйте ф
	орму на сайте\
	, мы с вами свяжемся
	 и уточним оптимальный способ оплат
	ы тренинга\n\n\n\n	https://www.pickup.ru/content/579\n\n\n\n	 \n
	\n\n\n	\n\n
DTSTART:20180102T080000Z
DTEND:20180102T150000Z
END:VEVENT
END:VCALENDAR
