BEGIN:VCALENDAR
VERSION:2.0
PRODID:-//InvisionCommunity Events 4.7.22//EN
METHOD:PUBLISH
CALSCALE:GREGORIAN
REFRESH-INTERVAL:PT15M
X-PUBLISHED-TTL:PT15M
X-WR-CALNAME:Community Calendar
NAME:Community Calendar
BEGIN:VTIMEZONE
TZID:Europe/London
TZURL:http://tzurl.org/zoneinfo/Europe/London
X-LIC-LOCATION:Europe/London
BEGIN:DAYLIGHT
TZOFFSETFROM:+0000
TZOFFSETTO:+0100
TZNAME:BST
DTSTART:20180325T020000Z
RRULE:FREQ=YEARLY;BYMONTH=3;BYDAY=-1SU
END:DAYLIGHT
BEGIN:STANDARD
TZOFFSETFROM:+0100
TZOFFSETTO:+0000
TZNAME:GMT
DTSTART:20181028T020000Z
RRULE:FREQ=YEARLY;BYMONTH=10;BYDAY=-1SU
END:STANDARD
END:VTIMEZONE
BEGIN:VEVENT
SUMMARY:[Бесплатный Мастер-класс] 17 ЯНВ
	АРЯ в 19-30
DTSTAMP:20180102T083251Z
SEQUENCE:0
UID:40-1-076337ae2c0f75aa10766e7ad1ee0148@forum.pickup.ru
ORGANIZER;CN="Paraman":webmaster@pickup.ru
DESCRIPTION:\n\n	Здравствуй\, Муж
	чина!\n\n\n\n	Коман
	да Пикап.Ру 
	поздравляе
	т тебя с наст
	упившим Новым годом!
	 Побольше красивых 
	девушек тебе в Новом го
	ду!\n\n\n\n	Хочу пригласить те
	бя в среду 17 января\, в 19-30
	 на наш Бесплатный Мастер-кл
	асс.\n\n\n\n	Что это за меропр
	иятие?\n\n\n\n	По сути 
	Мастер-класс -
	 это часть наш
	его тренинга\
	, которую ты 
	можешь попро
	бовать бесплатно. И 
	потом решить подхо
	дит тебе пикап-тренинг.\n\
	n\n\n	Для кого это меро
	приятие?\n\n\n\n	Бес
	платный Мастер-
	класс подходит к
	ак для новичков
	\, так и для людей с опыто
	м (даже после прохожд
	ения тренингов).\n\n\
	n\n	- Для новичк
	ов мы расск
	азываем все нюансы к
	ак начать знакомить
	ся и соблазнять девуш
	ек.\n\n\n\n	- Для выпу
	скников трен
	ингов\, мы освежаем 
	эту информацию и р
	ассказываем новые фишки.\
	n\n\n\n	Как попасть на ме
	роприятие?\n\n\
	n\n	Попасть н
	а мероприят
	ие можно тол
	ько зарегист
	рировавшись по с
	сылке. Пожалуйст
	а\, поспеши так 
	как мы набира
	ем только 20 участников.
	 Большее количество уже не эффективно.\n\n
	\n\n	https://pickup-ru-events.timepad.ru/event/633592/\n\n\n
DTSTART:20180117T163000Z
DTEND:20180117T183000Z
END:VEVENT
END:VCALENDAR
