BEGIN:VCALENDAR
VERSION:2.0
PRODID:-//InvisionCommunity Events 4.7.22//EN
METHOD:PUBLISH
CALSCALE:GREGORIAN
REFRESH-INTERVAL:PT15M
X-PUBLISHED-TTL:PT15M
X-WR-CALNAME:Community Calendar
NAME:Community Calendar
BEGIN:VTIMEZONE
TZID:Europe/London
TZURL:http://tzurl.org/zoneinfo/Europe/London
X-LIC-LOCATION:Europe/London
BEGIN:DAYLIGHT
TZOFFSETFROM:+0000
TZOFFSETTO:+0100
TZNAME:BST
DTSTART:20180325T020000Z
RRULE:FREQ=YEARLY;BYMONTH=3;BYDAY=-1SU
END:DAYLIGHT
BEGIN:STANDARD
TZOFFSETFROM:+0100
TZOFFSETTO:+0000
TZNAME:GMT
DTSTART:20181028T020000Z
RRULE:FREQ=YEARLY;BYMONTH=10;BYDAY=-1SU
END:STANDARD
END:VTIMEZONE
BEGIN:VEVENT
SUMMARY:[Бесплатный Мастер-класс] 31 ЯНВ
	АРЯ в 19-30
DTSTAMP:20180118T221241Z
SEQUENCE:0
UID:41-1-076337ae2c0f75aa10766e7ad1ee0148@forum.pickup.ru
ORGANIZER;CN="Paraman":webmaster@pickup.ru
DESCRIPTION:\n\n	Добрый день\, Мужч
	ина!\n\n\n\n	Приглаш
	аем тебя на наш
	 бесплатный Мастер-класс\
	, который будет проходить 31
	 Января в 19-30.\n\n\n\n	Что тако
	е бесплатный Масте
	р-класс?\n\n\n\n	Это
	 концентрат
	 из основных 
	пикап-темати
	к по знакомс
	тву и собла
	знению девушек\, ко
	торые тебе будут 
	рассказывать опы
	тнее тренеры.\n\n\n\n	Для
	 кого проводится б
	есплатный Мастер-кла
	сс?\n\n\n\n	Мастер-к
	ласс проводи
	тся для всех 
	мужчин\, ко
	торые хотят улучш
	ить свои навыки знако
	мства и соблазнения д
	евушек.\n\n\n\n	- Если
	 у тебя нет оп
	ыта прохождения пикап
	-тренингов\, тогда ты у
	знаешь много нового.\n\
	n\n\n	- Если ты уже 
	проходил трен
	инги\, тогда т
	ебе будет по
	лезно обнов
	ить свои зн
	ания\, позна
	комиться и 
	задать бо
	лее продви
	нутые вопросы тр
	енерам\, которые пр
	актикуют соблазне
	ние каждый день.\n
	\n\n\n	В чем преимущества 
	нашего бесплатного М
	астер-класса?\n\n\n\n	
	- У нас на Мас
	тер-классе 
	присутству
	ет девушка\,
	 которая р
	азбирается в собла
	знении и готова расска
	зать все женские секр
	еты.\n\n\n\n	- У нас н
	а Мастер-кл
	ассе пред
	усмотрена 
	практика. Т
	ы реально 
	попробуешь
	 подойти и п
	ознакомиться с 
	девушкой и получиш
	ь обратную связь п
	о своим действиям.\n\n\
	n\n	Сколько проходит
	 бесплатный Мастер-к
	ласс?\n\n\n\n	Мастер-класс 
	проводится в течен
	ии 2х часов\n\n\n\n	Скольк
	о стоит бесплатный Мастер-
	класс?\n\n\n\n	Бесценно\n\n\
	n\n	Как попасть на бесп
	латный Мастер-класс
	?\n\n\n\n	На Мастер-кла
	сс можно зарегистрироваться\, пере
	йдя по ссылке\n\n\n\n	https://pickup-ru-events.timepad.ru/event
	/648886/\n\n\n
DTSTART:20180131T163000Z
DTEND:20180131T190000Z
END:VEVENT
END:VCALENDAR
