BEGIN:VCALENDAR
VERSION:2.0
PRODID:-//InvisionCommunity Events 4.7.22//EN
METHOD:PUBLISH
CALSCALE:GREGORIAN
REFRESH-INTERVAL:PT15M
X-PUBLISHED-TTL:PT15M
X-WR-CALNAME:Community Calendar
NAME:Community Calendar
BEGIN:VTIMEZONE
TZID:Europe/London
TZURL:http://tzurl.org/zoneinfo/Europe/London
X-LIC-LOCATION:Europe/London
BEGIN:DAYLIGHT
TZOFFSETFROM:+0000
TZOFFSETTO:+0100
TZNAME:BST
DTSTART:20180325T020000Z
RRULE:FREQ=YEARLY;BYMONTH=3;BYDAY=-1SU
END:DAYLIGHT
BEGIN:STANDARD
TZOFFSETFROM:+0100
TZOFFSETTO:+0000
TZNAME:GMT
DTSTART:20181028T020000Z
RRULE:FREQ=YEARLY;BYMONTH=10;BYDAY=-1SU
END:STANDARD
END:VTIMEZONE
BEGIN:VEVENT
SUMMARY:[Бесплатный Мастер-класс] 15 ФЕВРА
	ЛЯ в 19-30
DTSTAMP:20180131T203726Z
SEQUENCE:0
UID:42-1-076337ae2c0f75aa10766e7ad1ee0148@forum.pickup.ru
ORGANIZER;CN="Paraman":webmaster@pickup.ru
DESCRIPTION:\n\n	Добрый день\, Мужч
	ина!\n\n\n\n	Приглаш
	аем тебя на на
	ш бесплатный Мастер-к
	ласс\, который будет прохо
	дить 15 Февраля в 19-30.\n\n\n\
	n	Что такое бесплатн
	ый Мастер-класс?\n\
	n\n\n	Это конце
	нтрат из осн
	овных пикап-
	тематик по 
	знакомству
	 и соблазнени
	ю девушек\, которые 
	тебе будут расска
	зывать опытнее тр
	енеры.\n\n\n\n	Для кого п
	роводится бесплат
	ный Мастер-класс?\n\
	n\n\n	Мастер-клас
	с проводится
	 для всех муж
	чин\, которы
	е хотят улучшить сво
	и навыки знакомства и
	 соблазнения девушек.
	\n\n\n\n	- Если у тебя 
	нет опыта прохож
	дения пикап-тренингов\,
	 тогда ты узнаешь много 
	нового.\n\n\n\n	- Если
	 ты уже проход
	ил тренинги\,
	 тогда тебе б
	удет полезн
	о обновить с
	вои знания\, 
	познакомит
	ься и задат
	ь более пр
	одвинутые во
	просы тренерам\, ко
	торые практикуют 
	соблазнение кажды
	й день.\n\n\n\n	В чем пр
	еимущества нашего бе
	сплатного Мастер-кла
	сса?\n\n\n\n	- У нас н
	а Мастер-кл
	ассе присут
	ствует деву
	шка\, котора
	я разбирается в 
	соблазнении и готова 
	рассказать все женск
	ие секреты.\n\n\n\n	- 
	У нас на Ма
	стер-класс
	е предусмот
	рена практик
	а. Ты реальн
	о попробуеш
	ь подойти и 
	познакомиться 
	с девушкой и получи
	шь обратную связь 
	по своим действиям.\n\
	n\n\n	Сколько проходит
	 бесплатный Мастер-к
	ласс?\n\n\n\n	Мастер-класс 
	проводится в течен
	ии 2х часов\n\n\n\n	Скольк
	о стоит бесплатный Мастер-
	класс?\n\n\n\n	Бесценно\n\n\
	n\n	Как попасть на бесп
	латный Мастер-класс
	?\n\n\n\n	На Мастер-кла
	сс можно зарегистрироваться\, пере
	йдя по ссылке\n\n\n\n	https://pickup-ru-events.timepad.ru/event
	/658481/?utm_source=forum\n\n\n\n	\n\n
DTSTART:20180215T163000Z
DTEND:20180215T190000Z
END:VEVENT
END:VCALENDAR
