BEGIN:VCALENDAR
VERSION:2.0
PRODID:-//InvisionCommunity Events 4.7.22//EN
METHOD:PUBLISH
CALSCALE:GREGORIAN
REFRESH-INTERVAL:PT15M
X-PUBLISHED-TTL:PT15M
X-WR-CALNAME:Community Calendar
NAME:Community Calendar
BEGIN:VTIMEZONE
TZID:Europe/London
TZURL:http://tzurl.org/zoneinfo/Europe/London
X-LIC-LOCATION:Europe/London
BEGIN:DAYLIGHT
TZOFFSETFROM:+0000
TZOFFSETTO:+0100
TZNAME:BST
DTSTART:20180325T020000Z
RRULE:FREQ=YEARLY;BYMONTH=3;BYDAY=-1SU
END:DAYLIGHT
BEGIN:STANDARD
TZOFFSETFROM:+0100
TZOFFSETTO:+0000
TZNAME:GMT
DTSTART:20181028T020000Z
RRULE:FREQ=YEARLY;BYMONTH=10;BYDAY=-1SU
END:STANDARD
END:VTIMEZONE
BEGIN:VEVENT
SUMMARY:[Для Выпускников] Мастер
	ский пикап-тренинг
DTSTAMP:20180320T224627Z
SEQUENCE:0
UID:46-1-076337ae2c0f75aa10766e7ad1ee0148@forum.pickup.ru
ORGANIZER;CN="Paraman":webmaster@pickup.ru
DESCRIPTION:\n\n	Привет\, дорогой 
	друг!\n\n\n\n	Без
	 лишней пре
	людии хочу ан
	онсировать Мастерский
	 пикап-тренинг\, котрый
	 стартует 14 Апреля.\n
	\n\n\n	Что такое Мастерски
	й пикап-тренинг и зач
	ем он нужен?\n\n\n\n	По
	сле прохождения т
	ренингов \"Базовый\
	" или \"Коучинг\"
	 ты обрел навык
	 знакомства\, 
	общения и со
	блазнения де
	вушек на улиц
	е. На Мастерс
	ком пикап-тр
	енинге ты ещё
	 сильнее прок
	ачаешься - по
	лучишь новые 
	навыки соблаз
	нения\, узнаеш
	ь свои сильны
	е и слабые с
	тороны и н
	аучишься с 
	ними работа
	ть\, повысиш
	ь качество с
	облазняемых
	 девушек\, отк
	роешь новые м
	еста для знак
	омства и нау
	чишься жить 
	в ритме собл
	азнителя\, кот
	орого сами х
	отят девушки.
	 Мастерский пи
	кап-тренинг - эт
	о незабываемое п
	риключение\, прой
	дя\, которое ты п
	оймёшь\, что ты ре
	ально вырос над
	 собой не только в
	 соблазнении\, но и
	 в других жизнен
	ных направлениях.\
	n\n	 \nКакие темы буду
	т на Мастерском 
	пикап-тренинге?\n\n\n\n	
	Постановка и достиж
	ение правильных целей\n\n
	\n\n	Обратное соблазнение\n\
	n\n\n	Ночные клубы\n\n\n\n	СМСинг и 
	переписка\n\n\n\n	Крышесносы\n\n
	\n\n	Юмор\, стёб и негхиты\n
	\n\n\n	Проработка внутренн
	его состояния\n\n\n\n	С
	видание по телефону\n\n
	\n\n	Как превратить знакомс
	тво в \"зачёт\" - Фасты\n\n\n\n	
	Пикап в команде ил
	и с напарником\n\n\n
	\n	Соблазнение недоступны
	х девушек - сложные случаи\n
	\n\n\n	ЖМЖ и МЖМ\n\n\n\n	
	Как устроить крут
	ую пикап-вечеринк
	у с большим количеством
	 девушек\n\n\n\n	Кто будет прово
	дить тренинг?\n\n\n\n	Дим
	а Lova\, лучший тренер
	 по соблазнению д
	евушек из СПБ\, 
	10 лет практик
	ует сам и обуч
	ает мужчин со
	блазнять девуш
	ек.\nМирославл
	ев Вадим\, луч
	ший пикап-т
	ренер Москв
	ы. Тренер про
	ектов пикап
	.Коучинг и 
	Индивидуа
	льный пикап-
	тренер. Практи
	к и методист б
	ольшинства пик
	ап-тренингов.\
	nЛуцкая Лера\
	, мужской пи
	кап-тренер в 
	теле очароват
	ельной девушки
	. Раскрывает парня
	м правду о \"недоступн
	ости\" девушек уже окол
	о 7ми лет.\n\n	 \nКогда будет про
	ходить тренинг?\n\n\n\n	1й Уикенд 1
	4-15 Апреля\n\n	2й Уикенд 21-22 Апреля\n
	\n	3й Уикенд 12-13 Мая\n\n	4й Уикенд 
	19-20 Мая\n\n\n\n	Сколько стои
	т Мастерский пикап
	-тренинг?\n\n\n\n	Ц
	ена тренинг
	а повышается
	 каждый месяц\,
	 поэтому остав
	ляй заявку побы
	стрее или позвони 
	в офис\, для того ч
	тобы узнать цен
	у на данный момент.\
	n\n	Для Выпускников Мастер
	ского пикап-тренинга - 
	50% скидка.\n\n\n\n	Где будет
	 проходить Масте
	рский пикап-тренинг?\n\
	n\n\n	Большая Новодмитровская улица
	\, 36\, подъезд \"MARKET\"\, 3й этаж\, оф
	ис Пикап.Ру\n\n	 \n\n	Запись в на тр
	енинг по телефону +7 (968) 825-26-7
	7\n\n	или регистрация по ссылке https://www.pickup.r
	u/trainings/event/119\n\n\n
DTSTART:20180414T080000Z
DTEND:20180414T170000Z
END:VEVENT
END:VCALENDAR
