BEGIN:VCALENDAR
VERSION:2.0
PRODID:-//InvisionCommunity Events 4.7.22//EN
METHOD:PUBLISH
CALSCALE:GREGORIAN
REFRESH-INTERVAL:PT15M
X-PUBLISHED-TTL:PT15M
X-WR-CALNAME:Community Calendar
NAME:Community Calendar
BEGIN:VTIMEZONE
TZID:Europe/London
TZURL:http://tzurl.org/zoneinfo/Europe/London
X-LIC-LOCATION:Europe/London
BEGIN:DAYLIGHT
TZOFFSETFROM:+0000
TZOFFSETTO:+0100
TZNAME:BST
DTSTART:20180325T020000Z
RRULE:FREQ=YEARLY;BYMONTH=3;BYDAY=-1SU
END:DAYLIGHT
BEGIN:STANDARD
TZOFFSETFROM:+0100
TZOFFSETTO:+0000
TZNAME:GMT
DTSTART:20181028T020000Z
RRULE:FREQ=YEARLY;BYMONTH=10;BYDAY=-1SU
END:STANDARD
END:VTIMEZONE
BEGIN:VEVENT
SUMMARY:[Бесплатн
	ый Матсер-класс] Знакомство
	 и Соблазнение девушек весной-летом 2018.
DTSTAMP:20180412T130307Z
SEQUENCE:0
UID:48-1-076337ae2c0f75aa10766e7ad1ee0148@forum.pickup.ru
ORGANIZER;CN="Paraman":webmaster@pickup.ru
DESCRIPTION:\n\n	Привет\, дорогой 
	друг!\n\n\n\n	Пригл
	ашаю тебя на обновленный
	 бесплатный Мастер-класс 1
	8 Апреля в 19-30.\n\n\n\n
		Что такое Бесплатный М
	астер-клас и зачем он 
	нужен?\n\n\n\n	По сути 
	- это рандомны
	й кусок нашег
	о тренига\, к
	оторый ты м
	ожешь попро
	бовать на с
	ебе беспла
	тно и потом р
	ешить подходят те
	бе наши методы со
	блазнения девушек или 
	нет.\n\n	 \nКакие темы буд
	ут на Мастер-классе?\
	n\n\n\n	- Постановка и дост
	ижение правильных целей\n\n
	\n\n	- Знакомство с девуш
	кой на улице\n\n\n\n	- Перв
	ичное общение с д
	евушкой на свидани
	и\n\n\n\n	Где будет прохо
	дить Мастерский пикап
	-тренинг?\n\n\n\n	Большая Новодми
	тровская улица\, 36\, подъезд \"MARKE
	T\"\, 3й этаж\, офис Пикап.Ру
	\n\n	 \n\n	Запись на Мастер-класс по ссылке h
	ttps://pickup-ru-events.timepad.ru/event/703186/?utm_source=forum\n\n\n
DTSTART:20180418T163000Z
DTEND:20180418T183000Z
END:VEVENT
END:VCALENDAR
