BEGIN:VCALENDAR
VERSION:2.0
PRODID:-//InvisionCommunity Events 4.7.22//EN
METHOD:PUBLISH
CALSCALE:GREGORIAN
REFRESH-INTERVAL:PT15M
X-PUBLISHED-TTL:PT15M
X-WR-CALNAME:Community Calendar
NAME:Community Calendar
BEGIN:VTIMEZONE
TZID:Europe/London
TZURL:http://tzurl.org/zoneinfo/Europe/London
X-LIC-LOCATION:Europe/London
BEGIN:DAYLIGHT
TZOFFSETFROM:+0000
TZOFFSETTO:+0100
TZNAME:BST
DTSTART:20180325T020000Z
RRULE:FREQ=YEARLY;BYMONTH=3;BYDAY=-1SU
END:DAYLIGHT
BEGIN:STANDARD
TZOFFSETFROM:+0100
TZOFFSETTO:+0000
TZNAME:GMT
DTSTART:20181028T020000Z
RRULE:FREQ=YEARLY;BYMONTH=10;BYDAY=-1SU
END:STANDARD
END:VTIMEZONE
BEGIN:VEVENT
SUMMARY:[Бесплатн
	ый Матсер-класс] Основы знакомства и с
	облазнения девушек.
DTSTAMP:20180420T002541Z
SEQUENCE:0
UID:49-1-076337ae2c0f75aa10766e7ad1ee0148@forum.pickup.ru
ORGANIZER;CN="Paraman":webmaster@pickup.ru
DESCRIPTION:\n\n	Бесплатный Мастер-Клас
	с в Среду\, в 19-30.\n\n\n\n	Что та
	м будет?\n\n\n\n	- Ра
	збор основных страхов
	 при знакомстве с дев
	ушками на улице.\n\n\n\n	- Ч
	то говорить при знаком
	стве с девушкой?\n\n\n\n	
	- Где знакомиться так\, чтоб
	ы тебя не \"записали\" в 
	пикаперы?\n\n\n\n	- Ка
	к заинтересова
	ть девушку в пе
	рвые 3 минуты общения\, 
	так чтобы она захоте
	ла встретиться?\n\n\n\n	- Где 
	провести свидание с деву
	шкой?\n\n\n\n	ИТД\n\n\n\n
		Более подробная 
	информация и регистрация на Мас
	тер-класс по ссылке\n\n\n\n	https://pickup-ru-events.timep
	ad.ru/event/707937/?utm_source=forum\n\n\n\n	Поспеши\,
	 у нас всего 10 мест!\n\n
DTSTART:20180425T163000Z
DTEND:20180425T183000Z
END:VEVENT
END:VCALENDAR
