BEGIN:VCALENDAR
VERSION:2.0
PRODID:-//InvisionCommunity Events 4.7.22//EN
METHOD:PUBLISH
CALSCALE:GREGORIAN
REFRESH-INTERVAL:PT15M
X-PUBLISHED-TTL:PT15M
X-WR-CALNAME:Community Calendar
NAME:Community Calendar
BEGIN:VTIMEZONE
TZID:Europe/London
TZURL:http://tzurl.org/zoneinfo/Europe/London
X-LIC-LOCATION:Europe/London
BEGIN:DAYLIGHT
TZOFFSETFROM:+0000
TZOFFSETTO:+0100
TZNAME:BST
DTSTART:20180325T020000Z
RRULE:FREQ=YEARLY;BYMONTH=3;BYDAY=-1SU
END:DAYLIGHT
BEGIN:STANDARD
TZOFFSETFROM:+0100
TZOFFSETTO:+0000
TZNAME:GMT
DTSTART:20181028T020000Z
RRULE:FREQ=YEARLY;BYMONTH=10;BYDAY=-1SU
END:STANDARD
END:VTIMEZONE
BEGIN:VEVENT
SUMMARY:[Бесплатн
	ый Мастер-класс] Знакомство
	 и соблазнение для новичков - 11 Мая в 19-30
DTSTAMP:20180504T154617Z
SEQUENCE:0
UID:51-1-076337ae2c0f75aa10766e7ad1ee0148@forum.pickup.ru
ORGANIZER;CN="Paraman":webmaster@pickup.ru
DESCRIPTION:\n\n	Привет\, мужчина!\n
	\n\n\n	Не важно проходи
	л ты у нас тренинг или т
	олько думаешь над эти
	м.\n\n\n\n	Дело в том\,
	 что Соблазнение
	 девушек - это т
	акая штука\, которая н
	е стоит на месте\, а п
	остоянно развивается.
	\n\n\n\n	Для того\, ч
	то ты сдел
	ал свои пе
	рвые шаги в
	 соблазнен
	ии и в даль
	нейшем был в
	 теме последн
	их тенденций\, работающ
	их техник и секретных \"фишек\" 
	пикапа.\n\n\n\n	В пятницу 11 
	Мая\, в 19-30\, мы п
	роводим для
	 тебя бесплат
	ный Мастер-кла
	сс\, на которо
	м мы сделаем 
	всё возможное\, чт
	обы ты научился зн
	акомиться и соблаз
	нять девушек.\n\n\n\n	Что 
	такое бесплатный М
	астер-класс?\n\n\n
	\n	Это концентр
	ат из основны
	х пикап-тема
	тик по знако
	мству и соблазн
	ению\, которые тебе 
	будут рассказыва
	ть опытнее тренеры.\
	n\n\n\n	Для кого проводит
	ся бесплатный Маст
	ер-класс?\n\n\n\n	Мас
	тер-класс про
	водится для в
	сех мужчин\,
	 которые хотят 
	улучшить свои навыки
	 знакомства и соблазн
	ения девушек.\n\n\n\n
		- Если у тебя н
	ет опыта прохожде
	ния пикап-тренингов\, т
	огда ты узнаешь много н
	ового.\n\n\n\n	- Если т
	ы уже проходил 
	тренинги\, то
	гда тебе буд
	ет полезно 
	обновить св
	ои знания\, п
	ознакомить
	ся и задать
	 более про
	двинутые вопр
	осы тренерам\, котор
	ые практикуют собл
	азнение каждый ден
	ь.\n\n\n\n	В чем преимуществ
	а нашего бесплатного 
	Мастер-класса?\n\n\n\n
		- У нас на Мас
	тер-классе 
	присутству
	ет девушка\,
	 которая р
	азбирается в собла
	знении и готова расска
	зать все женские секр
	еты*\n\n\n\n	- У нас н
	а Мастер-кл
	ассе пред
	усмотрена 
	практика. Т
	ы реально 
	попробуешь
	 подойти и п
	ознакомиться с 
	девушкой и получиш
	ь обратную связь п
	о своим действиям.\n\n\
	n\n	Сколько проходит
	 бесплатный Мастер-к
	ласс?\n\n\n\n	Мастер-класс 
	проводится в течен
	ии 2х часов\n\n\n\n	Сколько
	 стоит бесплатный Мас
	тер-класс?\n\n\n\n	Ма
	стер-класс не ст
	оит денег\, зато
	 сильно сэконо
	мит твоё время\, 
	которое ты бы трати
	л на самокопание и
	ли самообучение.\n\n\n\n	К
	ак попасть на беспл
	атный Мастер-класс?
	\n\n\n\n	На Мастер-
	класс можно 
	зарегистрироваться\, п
	ерейдя по ссылке. Поторопись мест мало!\n
	\n\n\n	https://pickup-ru-events.timepad.ru/event/718041/?utm_source=forum\
	n\n\n\n	До встречи!\n\n\n
DTSTART:20180511T163000Z
DTEND:20180511T183000Z
END:VEVENT
END:VCALENDAR
