BEGIN:VCALENDAR
VERSION:2.0
PRODID:-//InvisionCommunity Events 4.7.22//EN
METHOD:PUBLISH
CALSCALE:GREGORIAN
REFRESH-INTERVAL:PT15M
X-PUBLISHED-TTL:PT15M
X-WR-CALNAME:Community Calendar
NAME:Community Calendar
BEGIN:VTIMEZONE
TZID:Europe/London
TZURL:http://tzurl.org/zoneinfo/Europe/London
X-LIC-LOCATION:Europe/London
BEGIN:DAYLIGHT
TZOFFSETFROM:+0000
TZOFFSETTO:+0100
TZNAME:BST
DTSTART:20180325T020000Z
RRULE:FREQ=YEARLY;BYMONTH=3;BYDAY=-1SU
END:DAYLIGHT
BEGIN:STANDARD
TZOFFSETFROM:+0100
TZOFFSETTO:+0000
TZNAME:GMT
DTSTART:20181028T020000Z
RRULE:FREQ=YEARLY;BYMONTH=10;BYDAY=-1SU
END:STANDARD
END:VTIMEZONE
BEGIN:VEVENT
SUMMARY:[Бесплатный Мастер
	-класс] Как познакомиться с девушкой?!
DTSTAMP:20180512T160717Z
SEQUENCE:0
UID:52-1-076337ae2c0f75aa10766e7ad1ee0148@forum.pickup.ru
ORGANIZER;CN="Paraman":webmaster@pickup.ru
DESCRIPTION:\n\n	Привет\, мужчина!\n
	\n\n\n	Не важно проходи
	л ты у нас тренинг или т
	олько думаешь над эти
	м.\n\n\n\n	Дело в том\,
	 что Соблазнение
	 девушек - это т
	акая штука\, которая н
	е стоит на месте\, а п
	остоянно развивается.
	\n\n\n\n	Для того\, ч
	то ты сдел
	ал свои пе
	рвые шаги в
	 соблазнен
	ии и в даль
	нейшем был в
	 теме последн
	их тенденций\, работающ
	их техник и секретных \"фишек\" пи
	капа.\n\n\n\n	В среду 16 Мая\,
	 в 19-30\, мы прово
	дим для теб
	я бесплатный 
	Мастер-класс\,
	 на котором м
	ы сделаем вс
	ё возможное\, чтобы 
	ты научился знако
	миться и соблазнять д
	евушек.\n\n\n\n	Что такое 
	бесплатный Мастер-
	класс?\n\n\n\n	Это 
	концентрат 
	из основных 
	пикап-темат
	ик по знаком
	ству и соблазнен
	ию\, которые тебе бу
	дут рассказывать 
	опытнее тренеры.\n\n\n
	\n	Для кого проводит
	ся бесплатный Маст
	ер-класс?\n\n\n\n	Мас
	тер-класс про
	водится для в
	сех мужчин\,
	 которые хотят 
	улучшить свои навыки
	 знакомства и соблазн
	ения девушек.\n\n\n\n
		- Если у тебя н
	ет опыта прохожде
	ния пикап-тренингов\, т
	огда ты узнаешь много н
	ового.\n\n\n\n	- Если т
	ы уже проходил 
	тренинги\, то
	гда тебе буд
	ет полезно 
	обновить св
	ои знания\, п
	ознакомить
	ся и задать
	 более про
	двинутые вопр
	осы тренерам\, котор
	ые практикуют собл
	азнение каждый ден
	ь.\n\n\n\n	В чем преимуществ
	а нашего бесплатного
	 Мастер-класса?\n\n\n\n
		- Мы даём реальн
	о работающие т
	ехники\, а не мифиче
	ские способы\, кото
	рые работают толь
	ко в теории\n\n\n\n	Сколь
	ко проходит беспла
	тный Мастер-класс?\n\n\n
	\n	Мастер-класс прово
	дится в течении 2х час
	ов\n\n\n\n	Сколько стоит б
	есплатный Мастер-клас
	с?\n\n\n\n	Мастер-клас
	с не стоит денег
	\, зато сильно с
	экономит тво
	ё время\, которое ты 
	бы тратил на самок
	опание или самообуче
	ние.\n\n\n\n	Как попасть на
	 бесплатный Масте
	р-класс?\n\n\n\n	На 
	Мастер-класс можно зареги
	стрироваться\, перейдя по ссылке\n\n\n\n	https:
	//pickup-ru-events.timepad.ru/event/722968/?utm_source=forum\n\n\n\n	Д
	о встречи!\n\n\n
DTSTART:20180516T163000Z
DTEND:20180516T183000Z
END:VEVENT
END:VCALENDAR
