BEGIN:VCALENDAR
VERSION:2.0
PRODID:-//InvisionCommunity Events 4.7.22//EN
METHOD:PUBLISH
CALSCALE:GREGORIAN
REFRESH-INTERVAL:PT15M
X-PUBLISHED-TTL:PT15M
X-WR-CALNAME:Community Calendar
NAME:Community Calendar
BEGIN:VTIMEZONE
TZID:Europe/London
TZURL:http://tzurl.org/zoneinfo/Europe/London
X-LIC-LOCATION:Europe/London
BEGIN:DAYLIGHT
TZOFFSETFROM:+0000
TZOFFSETTO:+0100
TZNAME:BST
DTSTART:20180325T020000Z
RRULE:FREQ=YEARLY;BYMONTH=3;BYDAY=-1SU
END:DAYLIGHT
BEGIN:STANDARD
TZOFFSETFROM:+0100
TZOFFSETTO:+0000
TZNAME:GMT
DTSTART:20181028T020000Z
RRULE:FREQ=YEARLY;BYMONTH=10;BYDAY=-1SU
END:STANDARD
END:VTIMEZONE
BEGIN:VEVENT
SUMMARY:[Бесплатны
	й Мастер-класс] Знакомс
	тво и соблазнение девушек. Основные пр
	инципы.
DTSTAMP:20180518T133120Z
SEQUENCE:0
UID:53-1-076337ae2c0f75aa10766e7ad1ee0148@forum.pickup.ru
ORGANIZER;CN="Paraman":webmaster@pickup.ru
DESCRIPTION:\n\n	Привет\, уважаем
	ый любитель женщин!\n
	\n\n\n	Не важно прохо
	дил ты у нас 
	тренинг или т
	олько думаешь 
	над этим\, но со
	блазнение девуш
	ек - это такая 
	штука\, которая не сто
	ит на месте\, а постоянн
	о развивается.\n\n\n\n	
	Для того\, что 
	ты был в теме 
	последних тенд
	енций\, работающи
	х техник и секре
	тных \"фишек\"
	 из мира соблазне
	ния\, мы проводим дл
	я тебя бесплатный М
	астер-класс.\n\n\n
	\n	Переходи по с
	сылке и узнай более подробн
	ую информацию о мероприятии\n\n\n\n	https://pickup
	-ru-events.timepad.ru/event/727209/?utm_source=форум\n\n\n
	\n	До встречи на бесплатном Мастер-классе
	!\n\n
DTSTART:20180523T163000Z
DTEND:20180523T183000Z
END:VEVENT
END:VCALENDAR
