BEGIN:VCALENDAR
VERSION:2.0
PRODID:-//InvisionCommunity Events 4.7.22//EN
METHOD:PUBLISH
CALSCALE:GREGORIAN
REFRESH-INTERVAL:PT15M
X-PUBLISHED-TTL:PT15M
X-WR-CALNAME:Community Calendar
NAME:Community Calendar
BEGIN:VTIMEZONE
TZID:Europe/London
TZURL:http://tzurl.org/zoneinfo/Europe/London
X-LIC-LOCATION:Europe/London
BEGIN:DAYLIGHT
TZOFFSETFROM:+0000
TZOFFSETTO:+0100
TZNAME:BST
DTSTART:20180325T020000Z
RRULE:FREQ=YEARLY;BYMONTH=3;BYDAY=-1SU
END:DAYLIGHT
BEGIN:STANDARD
TZOFFSETFROM:+0100
TZOFFSETTO:+0000
TZNAME:GMT
DTSTART:20181028T020000Z
RRULE:FREQ=YEARLY;BYMONTH=10;BYDAY=-1SU
END:STANDARD
END:VTIMEZONE
BEGIN:VEVENT
SUMMARY:[Бесплат
	ный Мастер-класс] Поэтапное знакомс
	тво и соблазнение девушки.
DTSTAMP:20180523T232532Z
SEQUENCE:0
UID:54-1-076337ae2c0f75aa10766e7ad1ee0148@forum.pickup.ru
ORGANIZER;CN="Paraman":webmaster@pickup.ru
DESCRIPTION:\n\n	Привет\, любитель 
	женщин!\n\n\n\n	Не ва
	жно проходил ты у нас 
	тренинг или только ду
	маешь над этим.\n\n\n\
	n	Дело в том\, чт
	о Соблазнение д
	евушек - это та
	кая штука\, которая не
	 стоит на месте\, а по
	стоянно развивается.\
	n\n\n\n	Для того\, ч
	то ты сдел
	ал свои пе
	рвые шаги в
	 соблазнен
	ии и в даль
	нейшем был в
	 теме последн
	их тенденций\, работающ
	их техник и секретных \"фишек\" п
	икапа.\n\n\n\n	В среду 30 Мая
	\, в 19-30\, мы прово
	дим для теб
	я бесплатный 
	Мастер-класс\,
	 на котором м
	ы сделаем вс
	ё возможное\, чтобы 
	ты научился знако
	миться и соблазнять д
	евушек.\n\n\n\n	Что такое 
	бесплатный Мастер-
	класс?\n\n\n\n	Это 
	концентрат 
	из основных 
	пикап-темат
	ик по знаком
	ству и соблазнен
	ию\, которые тебе бу
	дут рассказывать 
	опытнее тренеры.\n\n\n
	\n	Для кого проводит
	ся бесплатный Маст
	ер-класс?\n\n\n\n	Мас
	тер-класс про
	водится для в
	сех мужчин\,
	 которые хотят 
	улучшить свои навыки
	 знакомства и соблазн
	ения девушек.\n\n\n\n
		- Если у тебя н
	ет опыта прохожде
	ния пикап-тренингов\, т
	огда ты узнаешь много н
	ового.\n\n\n\n	- Если т
	ы уже проходил 
	тренинги\, то
	гда тебе буд
	ет полезно 
	обновить св
	ои знания\, п
	ознакомить
	ся и задать
	 более про
	двинутые вопр
	осы тренерам\, котор
	ые практикуют собл
	азнение каждый ден
	ь.\n\n\n\n	В чем преимуществ
	а нашего бесплатного 
	Мастер-класса?\n\n\n\
	n	- У нас на Ма
	стер-класс
	е предусмот
	рена практик
	а. Ты реальн
	о попробуеш
	ь подойти и 
	познакомиться 
	с девушкой и получи
	шь обратную связь 
	по своим действиям.\n\
	n\n\n	Сколько проходит
	 бесплатный Мастер-класс
	?\n\n\n\n	Мастер-класс проводится
	 в течении 1\,5 - 2х часов\
	n\n\n\n	Сколько стоит бес
	платный Мастер-класс?
	\n\n\n\n	Мастер-класс н
	е стоит денег\, 
	зато сильно сэ
	кономит твоё вр
	емя\, которое ты бы т
	ратил на самокопан
	ие и самообучение.\n\n\n\n
		Как попасть на беспла
	тный Мастер-класс?\n\n\n\n
		Жми кнопку ЗАПИСАТЬСЯ\n\n\n\n	До встречи н
	а Мастер-классе!\n\n
DTSTART:20180530T163000Z
DTEND:20180530T183000Z
END:VEVENT
END:VCALENDAR
