BEGIN:VCALENDAR
VERSION:2.0
PRODID:-//InvisionCommunity Events 4.7.22//EN
METHOD:PUBLISH
CALSCALE:GREGORIAN
REFRESH-INTERVAL:PT15M
X-PUBLISHED-TTL:PT15M
X-WR-CALNAME:Community Calendar
NAME:Community Calendar
BEGIN:VTIMEZONE
TZID:Europe/London
TZURL:http://tzurl.org/zoneinfo/Europe/London
X-LIC-LOCATION:Europe/London
BEGIN:DAYLIGHT
TZOFFSETFROM:+0000
TZOFFSETTO:+0100
TZNAME:BST
DTSTART:20180325T020000Z
RRULE:FREQ=YEARLY;BYMONTH=3;BYDAY=-1SU
END:DAYLIGHT
BEGIN:STANDARD
TZOFFSETFROM:+0100
TZOFFSETTO:+0000
TZNAME:GMT
DTSTART:20181028T020000Z
RRULE:FREQ=YEARLY;BYMONTH=10;BYDAY=-1SU
END:STANDARD
END:VTIMEZONE
BEGIN:VEVENT
SUMMARY:[Бесплатн
	ый Мастер-кл
	асс] Как познакомиться 
	и построить отношения с девушкой своей
	 мечты?
DTSTAMP:20180606T192811Z
SEQUENCE:0
UID:56-1-076337ae2c0f75aa10766e7ad1ee0148@forum.pickup.ru
ORGANIZER;CN="Paraman":webmaster@pickup.ru
DESCRIPTION:\n\n	Привет\, Бро!\n\n\n
	\n	Не важно проходил ты
	 у нас тренинг или толь
	ко думаешь над этим.\n
	\n\n\n	Дело в том\, ч
	то Соблазнение 
	девушек - это т
	акая штука\, которая н
	е стоит на месте\, а п
	остоянно развивается.
	\n\n\n\n	Для того\, ч
	то ты сдел
	ал свои пе
	рвые шаги в
	 соблазнен
	ии и в даль
	нейшем был в
	 теме последн
	их тенденций\, работающ
	их техник и секретных \"фишек\" п
	икапа.\n\n\n\n	В среду 13 июн
	я\, в 19-30\, мы про
	водим для т
	ебя бесплатны
	й Мастер-класс\
	, на котором м
	ы сделаем вс
	ё возможное\, чтобы 
	ты научился знако
	миться и соблазнять 
	девушек.\n\n\n\n	ЧТО ТАК
	ОЕ БЕСПЛАТНЫЙ МАС
	ТЕР-КЛАСС?\n\n\n\n	
	Это концентр
	ат из основны
	х пикап-тема
	тик по знако
	мству и соблазн
	ению\, которые тебе 
	будут рассказыва
	ть опытнее тренеры.\
	n\n\n\n	ДЛЯ КОГО ПРОВОДИТ
	СЯ БЕСПЛАТНЫЙ МАСТ
	ЕР-КЛАСС?\n\n\n\n	Мас
	тер-класс про
	водится для в
	сех мужчин\,
	 которые хотят 
	улучшить свои навыки
	 знакомства и соблазн
	ения девушек.\n\n\n\n
		- Если у тебя н
	ет опыта прохожде
	ния пикап-тренингов\, т
	огда ты узнаешь много н
	ового.\n\n\n\n	- Если т
	ы уже проходил 
	тренинги\, то
	гда тебе буд
	ет полезно 
	обновить св
	ои знания\, п
	ознакомить
	ся и задать
	 более про
	двинутые вопр
	осы тренерам\, котор
	ые практикуют соб
	лазнение каждый д
	ень.\n\n\n\n	В ЧЁМ ПРЕИМУЩЕС
	ТВО БЕСПЛАТНОГО МАС
	ТЕР-КЛАССА?\n\n\n\n	
	- Мы не только
	 рассказывае
	м интересные вещи 
	на Мастер-классе\, н
	о и заставляем их 
	попробовать!\n\n\n\n
		СКОЛЬКО ПО ВРЕМЕНИ
	 ДЛИТСЯ БЕСПЛАТНЫЙ
	 МАСТЕР-КЛАСС?\n\n\n\n	Масте
	р-класс проводитс
	я в течении 2х часов\n\n
	\n\n	СКОЛЬКО СТОИТ БЕ
	СПЛАТНЫЙ МАСТЕР-КЛАС
	С?\n\n\n\n	Мастер-клас
	с не стоит денег
	\, зато сильно с
	экономит тво
	ё время\, которое ты 
	бы тратил на самок
	опание или самообуч
	ение.\n\n\n\n	КАК ПОПАСТЬ НА 
	БЕСПЛАТНЫЙ МАСТЕР-КЛАСС?\n\n
	\n\n	Нажми на &gt\;&gt\;ХОЧУ НА МАСТЕР-КЛ
	АСС&lt\;&lt\; \n\n\n\n	До встречи!\n\n
DTSTART:20180613T163000Z
DTEND:20180613T183000Z
END:VEVENT
END:VCALENDAR
