BEGIN:VCALENDAR
VERSION:2.0
PRODID:-//InvisionCommunity Events 4.7.22//EN
METHOD:PUBLISH
CALSCALE:GREGORIAN
REFRESH-INTERVAL:PT15M
X-PUBLISHED-TTL:PT15M
X-WR-CALNAME:Community Calendar
NAME:Community Calendar
BEGIN:VTIMEZONE
TZID:Europe/London
TZURL:http://tzurl.org/zoneinfo/Europe/London
X-LIC-LOCATION:Europe/London
BEGIN:DAYLIGHT
TZOFFSETFROM:+0000
TZOFFSETTO:+0100
TZNAME:BST
DTSTART:20180325T020000Z
RRULE:FREQ=YEARLY;BYMONTH=3;BYDAY=-1SU
END:DAYLIGHT
BEGIN:STANDARD
TZOFFSETFROM:+0100
TZOFFSETTO:+0000
TZNAME:GMT
DTSTART:20181028T020000Z
RRULE:FREQ=YEARLY;BYMONTH=10;BYDAY=-1SU
END:STANDARD
END:VTIMEZONE
BEGIN:VEVENT
SUMMARY:[Бесплатны
	й Мастер-Класс] Как познакомиться с деву
	шкой для отношений?
DTSTAMP:20180726T152647Z
SEQUENCE:0
UID:63-1-076337ae2c0f75aa10766e7ad1ee0148@forum.pickup.ru
ORGANIZER;CN="Paraman":webmaster@pickup.ru
DESCRIPTION:\n\n	Привет\, дорогой др
	уг!\n\n\n\n	Не важно 
	проходил ты у нас трен
	инг или только думаеш
	ь над этим.\n\n\n\n	Де
	ло в том\, что С
	облазнение деву
	шек - это такая
	 штука\, которая не сто
	ит на месте\, а постоя
	нно развивается.\n\n\
	n\n	Для того\, ч
	то ты сдел
	ал свои пе
	рвые шаги в
	 соблазнен
	ии и в даль
	нейшем был в
	 теме последн
	их тенденций\, работающ
	их техник и секретных \"фишек
	\" пикапа.\n\n\n\n	В среду 1 
	Августа\, в 19-30\,
	 мы проводим
	 для тебя бесп
	латный Мастер-
	класс\, на ко
	тором мы сде
	лаем всё возмо
	жное\, чтобы ты науч
	ился знакомиться 
	и соблазнять девушек.\n\n\
	n\n	Что такое бесплатн
	ый Мастер-класс?\n\
	n\n\n	Это конце
	нтрат из осн
	овных пикап-
	тематик по 
	знакомству
	 и соблазнению\, кот
	орые тебе будут ра
	ссказывать опытне
	е тренеры.\n\n\n\n	Для ког
	о проводится беспл
	атный Мастер-класс?\
	n\n\n\n	Мастер-клас
	с проводится
	 для всех муж
	чин\, которы
	е хотят улучшить сво
	и навыки знакомства и
	 соблазнения девушек.
	\n\n\n\n	- Если у тебя 
	нет опыта прохож
	дения пикап-тренингов\,
	 тогда ты узнаешь много 
	нового.\n\n\n\n	- Если
	 ты уже проход
	ил тренинги\,
	 тогда тебе б
	удет полезн
	о обновить с
	вои знания\, 
	познакомит
	ься и задат
	ь более пр
	одвинутые во
	просы тренерам\, ко
	торые практикуют 
	соблазнение кажды
	й день.\n\n\n\n	В чем пр
	еимущества нашего бе
	сплатного Мастер-клас
	са?\n\n\n\n	- Мы не даём
	 только полезн
	ые фишки и мет
	ды\, которые ты смо
	жешь применить с
	разу после Мастер
	-класса\n\n\n\n	Сколько п
	роходит бесплатны
	й Мастер-класс?\n\n\n\n	Мас
	тер-класс проводитс
	я в течении 2х часов\n\n\n
	\n	Сколько стоит бесп
	латный Мастер-класс?\
	n\n\n\n	Мастер-класс н
	е стоит денег\, 
	зато сильно с
	экономит тво
	ё время\, которое ты 
	бы тратил на самок
	опание или самообуче
	ние.\n\n\n\n	Как попасть н
	а бесплатный Мастер-класс?
	\n\n\n\n	ЗАПИСАТЬСЯ НА МАСТЕР-КЛАСС\n\n\n\
	n	До встречи!\n\n
DTSTART:20180801T163000Z
DTEND:20180801T183000Z
END:VEVENT
END:VCALENDAR
