BEGIN:VCALENDAR
VERSION:2.0
PRODID:-//InvisionCommunity Events 4.7.22//EN
METHOD:PUBLISH
CALSCALE:GREGORIAN
REFRESH-INTERVAL:PT15M
X-PUBLISHED-TTL:PT15M
X-WR-CALNAME:Community Calendar
NAME:Community Calendar
BEGIN:VTIMEZONE
TZID:Europe/London
TZURL:http://tzurl.org/zoneinfo/Europe/London
X-LIC-LOCATION:Europe/London
BEGIN:DAYLIGHT
TZOFFSETFROM:+0000
TZOFFSETTO:+0100
TZNAME:BST
DTSTART:20180325T020000Z
RRULE:FREQ=YEARLY;BYMONTH=3;BYDAY=-1SU
END:DAYLIGHT
BEGIN:STANDARD
TZOFFSETFROM:+0100
TZOFFSETTO:+0000
TZNAME:GMT
DTSTART:20181028T020000Z
RRULE:FREQ=YEARLY;BYMONTH=10;BYDAY=-1SU
END:STANDARD
END:VTIMEZONE
BEGIN:VEVENT
SUMMARY:[Бесплатны
	й Мастер-Класс] Как познакомиться с деву
	шкой для отношений?
DTSTAMP:20181010T235122Z
SEQUENCE:0
UID:75-1-076337ae2c0f75aa10766e7ad1ee0148@forum.pickup.ru
ORGANIZER;CN="Paraman":webmaster@pickup.ru
DESCRIPTION:\n\n	Привет\, мужчина!\n
	\n\n\n	Не важно учился ты у
	 нас или только думаеш
	ь над этим.\n\n\n\n	Де
	ло в том\, что С
	облазнение деву
	шек - это такая
	 штука\, которая не ст
	оит на месте\, а пост
	оянно развивается.\n
	\n\n\n	Для того\, 
	что ты сде
	лал свои п
	ервые шаги 
	в соблазне
	нии и в дал
	ьнейшем был 
	в теме послед
	них тенденций\, работаю
	щих техник и секретных \"фише
	к\" пикапа.\n\n\n\n	В среду 1
	7 Октября\, в 19-30
	\, мы прово
	дим для т
	ебя бесплатны
	й Мастер-класс\
	, на котором м
	ы сделаем вс
	ё возможное\, чтобы 
	ты научился знако
	миться и соблазнять д
	евушек.\n\n\n\n	Что такое 
	бесплатный Мастер-
	класс?\n\n\n\n	Это 
	концентрат 
	из основных 
	пикап-темат
	ик по знаком
	ству и соблазнен
	ию\, которые тебе б
	удут рассказыват
	ь опытнее тренеры.\n
	\n\n\n	Для кого проводи
	тся бесплатный М
	астер-класс?\n\n\n
	\n	Мастер-кла
	сс проводи
	тся для все
	х мужчин\, к
	оторые хотят улу
	чшить свои навыки зна
	комства и соблазнени
	я девушек.\n\n\n\n	- Ес
	ли у тебя нет 
	опыта прохождения п
	икап-тренингов\, тогда 
	ты узнаешь много нового
	.\n\n\n\n	- Если ты уже
	 проходил трен
	инги\, тогда т
	ебе будет по
	лезно обнов
	ить свои зн
	ания\, позна
	комиться и 
	задать бо
	лее продви
	нутые вопросы тр
	енерам\, которые пр
	актикуют соблазне
	ние каждый день.\n
	\n\n\n	В чем преимущества 
	нашего бесплатного 
	Мастер-класса?\n\n\
	n\n	- Мы постоянн
	о развиваемся
	 и даем только совре
	менный\, полезный 
	и проверенный конте
	нт.\n\n\n\n	Сколько прохо
	дит бесплатный Масте
	р-класс?\n\n\n\n	Мастер-кла
	сс проводится в теч
	ении 2х часов\n\n\n\n	Скол
	ько стоит бесплатный 
	Мастер-класс?\n\n\n\n
		Мастер-класс не
	 стоит денег\, з
	ато сильно с
	экономит твоё 
	время\, которое ты 
	бы тратил на само
	стоятельное обучение.\
	n\n\n\n	Как попасть на бесплатный 
	Мастер-класс?\n\n\n\n	Нажми 
	на:\n\n\n\n	ХОЧУ УЧАСТВОВАТЬ В Мас
	тер-Классе\n\n\n\n	Бонус:
	\n\n\n\n	После Маст
	ер-класса ты а
	бсолютно беспла
	тно будешь добав
	лен в наш чат - Пика
	п для всех. В кото
	ром мы проводим 
	бесплатные \"пол
	я\" и занятия\, 
	обсуждаем к
	аждую недел
	ю новые темы
	 по знакомству
	\, соблазнению
	 и построению
	 отношений с
	 девушками\,
	 делимся сво
	им опытом и 
	новыми нара
	ботками/фиш
	ками/пикап-л
	айфхаками\, ан
	онсируем наши т
	ренинги и мероприятия 
	по типу игр Мафия\, Денежный поток\, Д
	ебаты.\n\n\n\n	До встречи!\n\n
DTSTART:20181017T163000Z
DTEND:20181017T183000Z
END:VEVENT
END:VCALENDAR
