BEGIN:VCALENDAR
VERSION:2.0
PRODID:-//InvisionCommunity Events 4.7.22//EN
METHOD:PUBLISH
CALSCALE:GREGORIAN
REFRESH-INTERVAL:PT15M
X-PUBLISHED-TTL:PT15M
X-WR-CALNAME:Community Calendar
NAME:Community Calendar
BEGIN:VTIMEZONE
TZID:Europe/London
TZURL:http://tzurl.org/zoneinfo/Europe/London
X-LIC-LOCATION:Europe/London
BEGIN:DAYLIGHT
TZOFFSETFROM:+0000
TZOFFSETTO:+0100
TZNAME:BST
DTSTART:20180325T020000Z
RRULE:FREQ=YEARLY;BYMONTH=3;BYDAY=-1SU
END:DAYLIGHT
BEGIN:STANDARD
TZOFFSETFROM:+0100
TZOFFSETTO:+0000
TZNAME:GMT
DTSTART:20181028T020000Z
RRULE:FREQ=YEARLY;BYMONTH=10;BYDAY=-1SU
END:STANDARD
END:VTIMEZONE
BEGIN:VEVENT
SUMMARY:[Бесплатны
	й Мастер-класс] Как познакомиться с деву
	шкой для отношений?
DTSTAMP:20181024T161516Z
SEQUENCE:0
UID:77-1-076337ae2c0f75aa10766e7ad1ee0148@forum.pickup.ru
ORGANIZER;CN="Paraman":webmaster@pickup.ru
DESCRIPTION:\n\n	Привет\, Друг!\n\n\n\n
		Мы рады\, что ты за
	шел на эту страницу\, пов
	ерь\, ты не пожалеешь об
	 этом.\n\n\n\n	Нам не 
	важно проходил ты у н
	ас тренинг или только
	 думаешь над этим.\n\n
	\n\n	Дело в том\, чт
	о Соблазнение д
	евушек - это та
	кая штука\, которая не
	 стоит на месте\, а по
	стоянно развивается.\
	n\n\n\n	Для того\, чт
	о ты сделал 
	свои первые ш
	аги в пикапе
	 и в дальней
	шем был в те
	ме последних 
	тенденций\, ра
	ботающих тех
	ник и секретных \"фише
	к\" по знакомствам и собл
	азнению девушек.\n\n\n\n	В ср
	еду 31 октября\, в 19
	-30\, мы провод
	им для тебя 
	бесплатный Мас
	тер-класс\, на
	 котором мы с
	делаем всё в
	озможное\, чтобы ты н
	аучился знакомиться и соб
	лазнять девушек.\n\n\n\n	 \n\
	n\n\n	ЧТО ТАКОЕ БЕСПЛА
	ТНЫЙ МАСТЕР-КЛАСС?
	\n\n\n\n	Это конце
	нтрат из осн
	овных пикап-
	тематик по 
	знакомству
	 и соблазнению\, кот
	орые тебе будут рассказыва
	ть опытнее тренеры.\n\n\n
	\n	 \n\n\n\n	ДЛЯ КОГО ПРОВОД
	ИТСЯ БЕСПЛАТНЫЙ МА
	СТЕР-КЛАСС?\n\n\n\n	
	Мастер-класс
	 проводится 
	для всех муж
	чин\, которы
	е хотят улучшить сво
	и навыки знакомства и
	 соблазнения девушек.
	\n\n\n\n	- Если у тебя 
	нет опыта прохож
	дения пикап-тренингов\,
	 тогда ты узнаешь много 
	нового.\n\n\n\n	- Если
	 ты уже проход
	ил тренинги\,
	 тогда тебе б
	удет полезн
	о обновить с
	вои знания\, 
	познакомит
	ься и задат
	ь более пр
	одвинутые во
	просы тренерам\, котор
	ые практикуют соблазнение
	 каждый день.\n\n\n\n	 \n\
	n\n\n	В ЧЁМ ПРЕИМУЩЕСТВО 
	БЕСПЛАТНОГО МАСТЕР-
	КЛАССА?\n\n\n\n	- М
	ы не только 
	рассказывае
	м интересные вещи 
	на Мастер-классе\, но и зас
	тавляем их попробовать!\n
	\n\n\n	 \n\n\n\n	СКОЛЬКО ПО ВР
	ЕМЕНИ ДЛИТСЯ БЕСПЛ
	АТНЫЙ МАСТЕР-КЛАСС?\n\n
	\n\n	Мастер-класс проводится в 
	течении 2х часов\n\n\n\n	
	 \n\n\n\n	СКОЛЬКО СТОИТ 
	БЕСПЛАТНЫЙ МАСТЕР-К
	ЛАСС?\n\n\n\n	Мастер-
	класс не стоит д
	енег\, зато сил
	ьно сэкономит
	 твоё время\, которо
	е ты бы тратил на самокопан
	ие или самообучение.\n\n\
	n\n	 \n\n\n\n	КАК ПОПАСТЬ НА БЕ
	СПЛАТНЫЙ МАСТЕР-КЛАСС?\n\n\n\
	n	Нажми на &gt\;&gt\;ХОЧУ НА МАСТЕР-КЛАС
	С&lt\;&lt\;\n\n\n\n	До встречи!\n\n
DTSTART:20181031T163000Z
DTEND:20181031T183000Z
END:VEVENT
END:VCALENDAR
