BEGIN:VCALENDAR
VERSION:2.0
PRODID:-//InvisionCommunity Events 4.7.22//EN
METHOD:PUBLISH
CALSCALE:GREGORIAN
REFRESH-INTERVAL:PT15M
X-PUBLISHED-TTL:PT15M
X-WR-CALNAME:Community Calendar
NAME:Community Calendar
BEGIN:VTIMEZONE
TZID:Europe/London
TZURL:http://tzurl.org/zoneinfo/Europe/London
X-LIC-LOCATION:Europe/London
BEGIN:DAYLIGHT
TZOFFSETFROM:+0000
TZOFFSETTO:+0100
TZNAME:BST
DTSTART:20180325T020000Z
RRULE:FREQ=YEARLY;BYMONTH=3;BYDAY=-1SU
END:DAYLIGHT
BEGIN:STANDARD
TZOFFSETFROM:+0100
TZOFFSETTO:+0000
TZNAME:GMT
DTSTART:20181028T020000Z
RRULE:FREQ=YEARLY;BYMONTH=10;BYDAY=-1SU
END:STANDARD
END:VTIMEZONE
BEGIN:VEVENT
SUMMARY:[Бесплатны
	й Мастер-класс] Как познакомиться с деву
	шкой для отношений?
DTSTAMP:20181121T172441Z
SEQUENCE:0
UID:81-1-076337ae2c0f75aa10766e7ad1ee0148@forum.pickup.ru
ORGANIZER;CN="Paraman":webmaster@pickup.ru
DESCRIPTION:\n\n	ЗАПИСАТЬСЯ НА МАСТЕР-КЛ
	АСС\n\n\n\n	Нажми на &gt\;&gt\;ЗАПИСАТЬС
	Я НА МАСТЕР-КЛАСС&lt\;&lt\;\n\n\n\n	Привет\, 
	Друг!\n\n\n\n	\n		\n			Мы рады\, ч
	то ты зашел на эту страницу
	\, поверь\, ты не пожалеешь об
	 этом!\n		\n\n		\n			Нам не 
	важно\, проходил ты у на
	с тренинг или только думаеш
	ь над этим.\n		\n\n		\n			Д
	ело в том\, что 
	Соблазнение дев
	ушек - это така
	я штука\, которая не стои
	т на месте\, а постоянно ра
	звивается.\n		\n\n		\n			Д
	ля того\, что ты 
	сделал свои п
	ервые шаги в п
	икапе\, и в 
	дальнейше
	м был в курсе
	 последних те
	нденций\, раб
	отающих техни
	к и секретных \"фишек\" п
	о знакомству и соблазнению де
	вушек.\n		\n\n		\n			В среду 28 но
	ября\, в 19-30\, мы
	 проводим дл
	я тебя беспла
	тный Мастер-кл
	асс\, на котор
	ом мы сделаем
	 всё возможное\, ч
	тобы ты научился знакомиться и
	 соблазнять девушек.\n		\n\n		\n			
	 \n		\n\n		\n			ЧТО ТАКОЕ БЕСПЛАТНЫ
	Й МАСТЕР-КЛАСС?\n		\n\n		
	\n			Это концент
	рат из основны
	х тем по пикап
	у -  по зна
	комству и
	 соблазнен
	ию\, которые тебе р
	асскажут и продемонстрируют опытн
	ее тренеры.\n		\n\n		\n			 \n		\n\n	
		\n			ДЛЯ КОГО ПРОВОДИТСЯ БЕ
	СПЛАТНЫЙ МАСТЕР-КЛАСС?\
	n		\n\n		\n			Мастер-кла
	сс проводитс
	я для всех му
	жчин\, кото
	рые хотят улучшить 
	свои навыки знакомства и с
	облазнения девушек.\n		\n
	\n		\n			- Если у тебя 
	нет опыта прохож
	дения пикап-тренингов\, тог
	да ты узнаешь много нового.
	\n		\n\n		\n			- Если ты уже
	 проходил трен
	инги\, тогда т
	ебе будет по
	лезно обнов
	ить свои зн
	ания\, позна
	комиться и 
	задать бо
	лее продви
	нутые вопросы тр
	енерам\, которые практикуют с
	облазнение каждый день.\n		\n\n		\n	
			 \n		\n\n		\n			В ЧЁМ ПРЕИМУЩЕСТ
	ВО БЕСПЛАТНОГО МАСТЕР-КЛА
	ССА?\n		\n\n		\n			- Мы н
	е только рас
	сказываем и
	нтересные вещи на Ма
	стер-классе\, но и заставляем их попр
	обовать!\n		\n\n		\n			 \n		\n\n		\
	n			СКОЛЬКО ПО ВРЕМЕНИ ДЛИ
	ТСЯ БЕСПЛАТНЫЙ МАСТЕР-К
	ЛАСС?\n		\n\n		\n			Мастер-класс пр
	оводится в течении 2х часов\n		\n\n	
		\n			 \n		\n\n		\n			СКОЛЬКО СТОИТ БЕ
	СПЛАТНЫЙ МАСТЕР-КЛАСС?\n	
		\n\n		\n			Мастер-клас
	с не стоит денег
	\, зато сильно с
	экономит твоё время\, кото
	рое ты бы тратил самообучение.\n		\n
	\n		\n			 \n		\n\n		\n			КАК ПОПАСТЬ НА
	 БЕСПЛАТНЫЙ МАСТЕР-КЛАСС?\n		\n\
	n		\n			Нажми на &gt\;&gt\;ХОЧУ НА МАСТЕР-КЛАСС
	&lt\;&lt\;\n		\n\n		\n			До встречи!\n		\n	\n\n
DTSTART:20181128T163000Z
DTEND:20181128T183000Z
END:VEVENT
END:VCALENDAR
