BEGIN:VCALENDAR
VERSION:2.0
PRODID:-//InvisionCommunity Events 4.7.22//EN
METHOD:PUBLISH
CALSCALE:GREGORIAN
REFRESH-INTERVAL:PT15M
X-PUBLISHED-TTL:PT15M
X-WR-CALNAME:Community Calendar
NAME:Community Calendar
BEGIN:VTIMEZONE
TZID:Europe/London
TZURL:http://tzurl.org/zoneinfo/Europe/London
X-LIC-LOCATION:Europe/London
BEGIN:DAYLIGHT
TZOFFSETFROM:+0000
TZOFFSETTO:+0100
TZNAME:BST
DTSTART:20180325T020000Z
RRULE:FREQ=YEARLY;BYMONTH=3;BYDAY=-1SU
END:DAYLIGHT
BEGIN:STANDARD
TZOFFSETFROM:+0100
TZOFFSETTO:+0000
TZNAME:GMT
DTSTART:20181028T020000Z
RRULE:FREQ=YEARLY;BYMONTH=10;BYDAY=-1SU
END:STANDARD
END:VTIMEZONE
BEGIN:VEVENT
SUMMARY:[Для Девушек
	] Бесплатный мастер
	-класс - Как познакомиться с мужчи
	ной для отношений?
DTSTAMP:20181203T214303Z
SEQUENCE:0
UID:83-1-076337ae2c0f75aa10766e7ad1ee0148@forum.pickup.ru
ORGANIZER;CN="Paraman":webmaster@pickup.ru
DESCRIPTION:\n\n	Добрый день!\n\n\n\n	\n		\n
				Мы рады\, что ты за
	шела на эту страницу\, поверь
	\, ты не пожалеешь об этом!
	\n		\n\n		\n			Хочу пригл
	асить тебя на бесплатный 
	мастер-класс\, который будет\n		\
	n\n		\n			В пятницу 7 Декабр
	я\, в 19-30\, на кото
	ром мы сдел
	аем всё воз
	можное\, что
	бы ты научилась знако
	миться и соблазнила мужчину своей ме
	чты.\n		\n\n		\n			 \n		\n\n		\n			ЧТО Т
	АКОЕ БЕСПЛАТНЫЙ МАСТЕР
	-КЛАСС?\n		\n\n		\n			Это 
	концентрат из
	 основных тем
	 по пикапу - 
	 по знако
	мству и с
	облазнению\
	, которые тебе расска
	жут и продемонстрируют опытнее трен
	еры.\n		\n\n		\n			 \n		\n\n		\n			Д
	ЛЯ КОГО ПРОВОДИТСЯ БЕСП
	ЛАТНЫЙ МАСТЕР-КЛАСС?\n	
		\n\n		\n			Мастер-кла
	сс проводитс
	я для всех де
	вушек\, которые х
	отят улучшить свои навыки
	 знакомства и соблазнения.
	\n		\n\n		\n			- Если у теб
	я нет опыта про
	хождения пикап-тренингов\, 
	тогда ты узнаешь много нов
	ого.\n		\n\n		\n			- Если ты
	 уже проходила 
	тренинги\, то
	гда тебе буд
	ет полезно 
	обновить св
	ои знания\, позн
	акомиться и задать более пр
	одвинутые вопросы тренеру.\n		\n\n	
		\n			 \n		\n\n		\n			В ЧЁМ ПРЕИМУ
	ЩЕСТВО БЕСПЛАТНОГО МАСТЕ
	Р-КЛАССА?\n		\n\n		\n			-
	 Мы не только
	 рассказывае
	м интересные вещи 
	на Мастер-классе\, но и заставля
	ем их попробовать!\n		\n\n		\n			 \n
			\n\n		\n			СКОЛЬКО ПО ВРЕМЕНИ
	 ДЛИТСЯ БЕСПЛАТНЫЙ МАСТЕ
	Р-КЛАСС?\n		\n\n		\n			Мастер-кла
	сс проводится в течении 2х часов\n		\
	n\n		\n			 \n		\n\n		\n			СКОЛЬКО СТОИ
	Т БЕСПЛАТНЫЙ МАСТЕР-КЛАС
	С?\n		\n\n		\n			Мастер-кла
	сс не стоит дене
	г\, зато сильно
	 сэкономит твоё время\, 
	которое ты бы тратила на самообучение
	.\n		\n\n		\n			 \n		\n\n		\n			КАК ПОП
	АСТЬ НА БЕСПЛАТНЫЙ МАСТЕР-КЛАСС?
	\n		\n\n		\n			Нажми на &gt\;&gt\;ХОЧУ НА МАСТЕР-
	КЛАСС&lt\;&lt\;\n		\n\n		\n			До встречи!\n		\n	\n\n
DTSTART:20181207T163000Z
DTEND:20181207T183000Z
END:VEVENT
END:VCALENDAR
