BEGIN:VCALENDAR
VERSION:2.0
PRODID:-//InvisionCommunity Events 4.7.22//EN
METHOD:PUBLISH
CALSCALE:GREGORIAN
REFRESH-INTERVAL:PT15M
X-PUBLISHED-TTL:PT15M
X-WR-CALNAME:Community Calendar
NAME:Community Calendar
BEGIN:VTIMEZONE
TZID:Europe/London
TZURL:http://tzurl.org/zoneinfo/Europe/London
X-LIC-LOCATION:Europe/London
BEGIN:DAYLIGHT
TZOFFSETFROM:+0000
TZOFFSETTO:+0100
TZNAME:BST
DTSTART:20180325T020000Z
RRULE:FREQ=YEARLY;BYMONTH=3;BYDAY=-1SU
END:DAYLIGHT
BEGIN:STANDARD
TZOFFSETFROM:+0100
TZOFFSETTO:+0000
TZNAME:GMT
DTSTART:20181028T020000Z
RRULE:FREQ=YEARLY;BYMONTH=10;BYDAY=-1SU
END:STANDARD
END:VTIMEZONE
BEGIN:VEVENT
SUMMARY:[Новогодн
	ий Бесплатный Мас
	тер-Класс] Как познакомиться с де
	вушкой для отношений?
DTSTAMP:20181219T220646Z
SEQUENCE:0
UID:86-1-076337ae2c0f75aa10766e7ad1ee0148@forum.pickup.ru
ORGANIZER;CN="Paraman":webmaster@pickup.ru
DESCRIPTION:\n\n	Привет\, Друг!\n\n
	\n\n	Не важно прохо
	дил ты у нас 
	тренинг или т
	олько думаешь 
	над этим\, но со
	блазнение девуш
	ек - это такая 
	штука\, которая не сто
	ит на месте\, а пост
	оянно развивается
	.\n\n\n\n	Если ты х
	очешь быть в
	курсе послед
	них тенденций\, 
	работающих тех
	ник и секретных
	 \"фишек\" пика
	па\, для этого нужно
	 постоянно развива
	ться в этом направлении.\
	n\n\n\n	Есть много способ
	ов быть \"в теме\" - 
	смотреть видео\,
	 читать статьи\, 
	обсуждать девушек с д
	рузьями\, но это все 
	не эффективно.\n\n\
	n\n	Самый лучш
	ий способ прийт
	и сообщество\, где 
	соблазнение являе
	тся смыслом работы
	.\n\n\n\n	Самый пр
	остой спосо
	б попасть в с
	ообщество у
	спешных парней-
	соблазнителей\, при
	йти к нам на бесплатн
	ый мастер-класс!\n\n\n\n	Бесп
	латный Мастер-класс -
	 это:\n\n\n\n	- Бесце
	нная информация про
	 соблазнение\, кото
	рая постоянно обновл
	яется\n\n\n\n	- Практика подход
	ов и свиданий в \"полях\"
	\n\n\n\n	- Поддержка коллег по ид
	еологии и наших тренеров
	\n\n\n\n	 \n\n\n\n	Регистрируйся на мер
	оприятие по ссылке\n\n\n\n	&gt\;&gt\;&gt\;ССЫЛКА&l
	t\;&lt\;&lt\;\n\n\n\n	До встречи на бесплатном Мас
	тер-классе!\n\n
DTSTART:20181226T163000Z
DTEND:20181226T183000Z
END:VEVENT
END:VCALENDAR
